BEGIN:VCALENDAR
VERSION:2.0
PRODID:-//Katholische Pfarreiengemeinschaft Nördlingen - ECPv6.15.20//NONSGML v1.0//EN
CALSCALE:GREGORIAN
METHOD:PUBLISH
X-WR-CALNAME:Katholische Pfarreiengemeinschaft Nördlingen
X-ORIGINAL-URL:https://pg-noerdlingen.de
X-WR-CALDESC:Veranstaltungen für Katholische Pfarreiengemeinschaft Nördlingen
REFRESH-INTERVAL;VALUE=DURATION:PT1H
X-Robots-Tag:noindex
X-PUBLISHED-TTL:PT1H
BEGIN:VTIMEZONE
TZID:Europe/Berlin
BEGIN:DAYLIGHT
TZOFFSETFROM:+0100
TZOFFSETTO:+0200
TZNAME:CEST
DTSTART:20200329T010000
END:DAYLIGHT
BEGIN:STANDARD
TZOFFSETFROM:+0200
TZOFFSETTO:+0100
TZNAME:CET
DTSTART:20201025T010000
END:STANDARD
BEGIN:DAYLIGHT
TZOFFSETFROM:+0100
TZOFFSETTO:+0200
TZNAME:CEST
DTSTART:20210328T010000
END:DAYLIGHT
BEGIN:STANDARD
TZOFFSETFROM:+0200
TZOFFSETTO:+0100
TZNAME:CET
DTSTART:20211031T010000
END:STANDARD
BEGIN:DAYLIGHT
TZOFFSETFROM:+0100
TZOFFSETTO:+0200
TZNAME:CEST
DTSTART:20220327T010000
END:DAYLIGHT
BEGIN:STANDARD
TZOFFSETFROM:+0200
TZOFFSETTO:+0100
TZNAME:CET
DTSTART:20221030T010000
END:STANDARD
END:VTIMEZONE
BEGIN:VEVENT
DTSTART;TZID=Europe/Berlin:20210202T183000
DTEND;TZID=Europe/Berlin:20210202T193000
DTSTAMP:20260422T231039
CREATED:20210124T122434Z
LAST-MODIFIED:20210124T122434Z
UID:10000116-1612290600-1612294200@pg-noerdlingen.de
SUMMARY:Blasiussegen in St. Josef
DESCRIPTION:Einen besonderen Segen\, der mit gekreuzten Kerzen gespendet wird\, ist der Blasiussegen. Er geht zurück auf ein Wunder des Bischofs Blasius\, der durch sein Gebet einen Jungen vor dem Ersticken bewahrt haben soll. Der Segen soll uns vor allen Halskrankheiten und allem Bösen bewahren und uns „Gesundheit und Heil“ schenken\, wie es in den Gebeten heißt.  \nIn der Pfarreiengemeinschaft Nördlingen wird er gespendet: \nSt. Salvator: Montag\, 01.02.2021 um 18.30 Uhr\nSt. Josef: Dienstag\, 02.02.2021 um 18.30 Uhr\nDeiningen: Mittwoch\, 03.02.2021 um 18.30 Uhr\nKleinerdlingen: Donnerstag\, 04.02.2021 um 18.30 Uhr
URL:https://pg-noerdlingen.de/veranstaltung/blasiussegen-in-st-josef/
END:VEVENT
END:VCALENDAR