BEGIN:VCALENDAR
VERSION:2.0
PRODID:-//Katholische Pfarreiengemeinschaft Nördlingen - ECPv6.15.20//NONSGML v1.0//EN
CALSCALE:GREGORIAN
METHOD:PUBLISH
X-WR-CALNAME:Katholische Pfarreiengemeinschaft Nördlingen
X-ORIGINAL-URL:https://pg-noerdlingen.de
X-WR-CALDESC:Veranstaltungen für Katholische Pfarreiengemeinschaft Nördlingen
REFRESH-INTERVAL;VALUE=DURATION:PT1H
X-Robots-Tag:noindex
X-PUBLISHED-TTL:PT1H
BEGIN:VTIMEZONE
TZID:Europe/Berlin
BEGIN:DAYLIGHT
TZOFFSETFROM:+0100
TZOFFSETTO:+0200
TZNAME:CEST
DTSTART:20200329T010000
END:DAYLIGHT
BEGIN:STANDARD
TZOFFSETFROM:+0200
TZOFFSETTO:+0100
TZNAME:CET
DTSTART:20201025T010000
END:STANDARD
BEGIN:DAYLIGHT
TZOFFSETFROM:+0100
TZOFFSETTO:+0200
TZNAME:CEST
DTSTART:20210328T010000
END:DAYLIGHT
BEGIN:STANDARD
TZOFFSETFROM:+0200
TZOFFSETTO:+0100
TZNAME:CET
DTSTART:20211031T010000
END:STANDARD
BEGIN:DAYLIGHT
TZOFFSETFROM:+0100
TZOFFSETTO:+0200
TZNAME:CEST
DTSTART:20220327T010000
END:DAYLIGHT
BEGIN:STANDARD
TZOFFSETFROM:+0200
TZOFFSETTO:+0100
TZNAME:CET
DTSTART:20221030T010000
END:STANDARD
END:VTIMEZONE
BEGIN:VEVENT
DTSTART;VALUE=DATE:20210219
DTEND;VALUE=DATE:20210301
DTSTAMP:20260422T231118
CREATED:20201228T171419Z
LAST-MODIFIED:20201228T171419Z
UID:10000128-1613692800-1614556799@pg-noerdlingen.de
SUMMARY:Missionarische Woche
DESCRIPTION:Missionarische Woche in der Pfarreiengemeinschaft Nördlingen.
URL:https://pg-noerdlingen.de/veranstaltung/missionarische-woche/
END:VEVENT
BEGIN:VEVENT
DTSTART;TZID=Europe/Berlin:20210221T143000
DTEND;TZID=Europe/Berlin:20210221T150000
DTSTAMP:20260422T231118
CREATED:20210215T102128Z
LAST-MODIFIED:20210215T102128Z
UID:10000081-1613917800-1613919600@pg-noerdlingen.de
SUMMARY:Grußwort zur Woche
DESCRIPTION:Online im Mission TV – YouTube Kanal der PG
URL:https://pg-noerdlingen.de/veranstaltung/grusswort-zur-woche/
CATEGORIES:Veranstaltung in der Missionarischen Woche
END:VEVENT
BEGIN:VEVENT
DTSTART;TZID=Europe/Berlin:20210221T150000
DTEND;TZID=Europe/Berlin:20210221T160000
DTSTAMP:20260422T231118
CREATED:20210215T102229Z
LAST-MODIFIED:20210215T102229Z
UID:10000082-1613919600-1613923200@pg-noerdlingen.de
SUMMARY:Familiennachmittag
DESCRIPTION:Online im Mission TV – Videokonferenz über Zoom. \nAnmeldung per Mail: pg.noerdlingen@bistum-augsburg.de
URL:https://pg-noerdlingen.de/veranstaltung/familiennachmittag/
CATEGORIES:Veranstaltung in der Missionarischen Woche
END:VEVENT
END:VCALENDAR