BEGIN:VCALENDAR
VERSION:2.0
PRODID:-//Katholische Pfarreiengemeinschaft Nördlingen - ECPv6.15.20//NONSGML v1.0//EN
CALSCALE:GREGORIAN
METHOD:PUBLISH
X-WR-CALNAME:Katholische Pfarreiengemeinschaft Nördlingen
X-ORIGINAL-URL:https://pg-noerdlingen.de
X-WR-CALDESC:Veranstaltungen für Katholische Pfarreiengemeinschaft Nördlingen
REFRESH-INTERVAL;VALUE=DURATION:PT1H
X-Robots-Tag:noindex
X-PUBLISHED-TTL:PT1H
BEGIN:VTIMEZONE
TZID:Europe/Berlin
BEGIN:DAYLIGHT
TZOFFSETFROM:+0100
TZOFFSETTO:+0200
TZNAME:CEST
DTSTART:20200329T010000
END:DAYLIGHT
BEGIN:STANDARD
TZOFFSETFROM:+0200
TZOFFSETTO:+0100
TZNAME:CET
DTSTART:20201025T010000
END:STANDARD
BEGIN:DAYLIGHT
TZOFFSETFROM:+0100
TZOFFSETTO:+0200
TZNAME:CEST
DTSTART:20210328T010000
END:DAYLIGHT
BEGIN:STANDARD
TZOFFSETFROM:+0200
TZOFFSETTO:+0100
TZNAME:CET
DTSTART:20211031T010000
END:STANDARD
BEGIN:DAYLIGHT
TZOFFSETFROM:+0100
TZOFFSETTO:+0200
TZNAME:CEST
DTSTART:20220327T010000
END:DAYLIGHT
BEGIN:STANDARD
TZOFFSETFROM:+0200
TZOFFSETTO:+0100
TZNAME:CET
DTSTART:20221030T010000
END:STANDARD
END:VTIMEZONE
BEGIN:VEVENT
DTSTART;VALUE=DATE:20210219
DTEND;VALUE=DATE:20210301
DTSTAMP:20260422T231823
CREATED:20201228T171419Z
LAST-MODIFIED:20201228T171419Z
UID:10000128-1613692800-1614556799@pg-noerdlingen.de
SUMMARY:Missionarische Woche
DESCRIPTION:Missionarische Woche in der Pfarreiengemeinschaft Nördlingen.
URL:https://pg-noerdlingen.de/veranstaltung/missionarische-woche/
END:VEVENT
BEGIN:VEVENT
DTSTART;TZID=Europe/Berlin:20210226T200000
DTEND;TZID=Europe/Berlin:20210227T070000
DTSTAMP:20260422T231823
CREATED:20210215T102716Z
LAST-MODIFIED:20210226T123738Z
UID:10000078-1614369600-1614409200@pg-noerdlingen.de
SUMMARY:Nachtanbetung
DESCRIPTION:Nachtanbetung in St. Josef. \n20.00 bis 02.00 Uhr Gestaltete Anbetung\n02.00 bis 07.00 Uhr Stille Anbetung\n07.00 Uhr Laudes
URL:https://pg-noerdlingen.de/veranstaltung/nachtanbetung/
CATEGORIES:Veranstaltung in der Missionarischen Woche
END:VEVENT
BEGIN:VEVENT
DTSTART;TZID=Europe/Berlin:20210226T203000
DTEND;TZID=Europe/Berlin:20210226T213000
DTSTAMP:20260422T231823
CREATED:20210215T102626Z
LAST-MODIFIED:20210215T102626Z
UID:10000077-1614371400-1614375000@pg-noerdlingen.de
SUMMARY:Lifestyle & Pizza
DESCRIPTION:Online im Mission TV – YouTube Kanal der PG \nFür Jugendliche\, junge Erwachsene\, Ministranten und alle Interessierten.
URL:https://pg-noerdlingen.de/veranstaltung/lifestyle-pizza/
CATEGORIES:Veranstaltung in der Missionarischen Woche
END:VEVENT
END:VCALENDAR