BEGIN:VCALENDAR
VERSION:2.0
PRODID:-//Katholische Pfarreiengemeinschaft Nördlingen - ECPv6.15.20//NONSGML v1.0//EN
CALSCALE:GREGORIAN
METHOD:PUBLISH
X-ORIGINAL-URL:https://pg-noerdlingen.de
X-WR-CALDESC:Veranstaltungen für Katholische Pfarreiengemeinschaft Nördlingen
REFRESH-INTERVAL;VALUE=DURATION:PT1H
X-Robots-Tag:noindex
X-PUBLISHED-TTL:PT1H
BEGIN:VTIMEZONE
TZID:Europe/Berlin
BEGIN:DAYLIGHT
TZOFFSETFROM:+0100
TZOFFSETTO:+0200
TZNAME:CEST
DTSTART:20200329T010000
END:DAYLIGHT
BEGIN:STANDARD
TZOFFSETFROM:+0200
TZOFFSETTO:+0100
TZNAME:CET
DTSTART:20201025T010000
END:STANDARD
BEGIN:DAYLIGHT
TZOFFSETFROM:+0100
TZOFFSETTO:+0200
TZNAME:CEST
DTSTART:20210328T010000
END:DAYLIGHT
BEGIN:STANDARD
TZOFFSETFROM:+0200
TZOFFSETTO:+0100
TZNAME:CET
DTSTART:20211031T010000
END:STANDARD
BEGIN:DAYLIGHT
TZOFFSETFROM:+0100
TZOFFSETTO:+0200
TZNAME:CEST
DTSTART:20220327T010000
END:DAYLIGHT
BEGIN:STANDARD
TZOFFSETFROM:+0200
TZOFFSETTO:+0100
TZNAME:CET
DTSTART:20221030T010000
END:STANDARD
END:VTIMEZONE
BEGIN:VEVENT
DTSTART;TZID=Europe/Berlin:20210918T090000
DTEND;TZID=Europe/Berlin:20210918T220000
DTSTAMP:20260422T130515
CREATED:20210915T104517Z
LAST-MODIFIED:20210915T104517Z
UID:10000107-1631955600-1632002400@pg-noerdlingen.de
SUMMARY:Tag der Ewigen Anbetung
DESCRIPTION:
URL:https://pg-noerdlingen.de/veranstaltung/tag-der-ewigen-anbetung/
END:VEVENT
BEGIN:VEVENT
DTSTART;TZID=Europe/Berlin:20210918T200000
DTEND;TZID=Europe/Berlin:20210918T213000
DTSTAMP:20260422T130515
CREATED:20210915T105324Z
LAST-MODIFIED:20210915T105324Z
UID:10000074-1631995200-1632000600@pg-noerdlingen.de
SUMMARY:Holy Hour
DESCRIPTION:
URL:https://pg-noerdlingen.de/veranstaltung/holy-hour-3/
LOCATION:Pfarrkirche St. Salvator\, Salvatorgässchen 1\, Nördlingen\, 86720
END:VEVENT
END:VCALENDAR