BEGIN:VCALENDAR
VERSION:2.0
PRODID:-//Katholische Pfarreiengemeinschaft Nördlingen - ECPv6.15.20//NONSGML v1.0//EN
CALSCALE:GREGORIAN
METHOD:PUBLISH
X-ORIGINAL-URL:https://pg-noerdlingen.de
X-WR-CALDESC:Veranstaltungen für Katholische Pfarreiengemeinschaft Nördlingen
REFRESH-INTERVAL;VALUE=DURATION:PT1H
X-Robots-Tag:noindex
X-PUBLISHED-TTL:PT1H
BEGIN:VTIMEZONE
TZID:Europe/Berlin
BEGIN:DAYLIGHT
TZOFFSETFROM:+0100
TZOFFSETTO:+0200
TZNAME:CEST
DTSTART:20200329T010000
END:DAYLIGHT
BEGIN:STANDARD
TZOFFSETFROM:+0200
TZOFFSETTO:+0100
TZNAME:CET
DTSTART:20201025T010000
END:STANDARD
BEGIN:DAYLIGHT
TZOFFSETFROM:+0100
TZOFFSETTO:+0200
TZNAME:CEST
DTSTART:20210328T010000
END:DAYLIGHT
BEGIN:STANDARD
TZOFFSETFROM:+0200
TZOFFSETTO:+0100
TZNAME:CET
DTSTART:20211031T010000
END:STANDARD
BEGIN:DAYLIGHT
TZOFFSETFROM:+0100
TZOFFSETTO:+0200
TZNAME:CEST
DTSTART:20220327T010000
END:DAYLIGHT
BEGIN:STANDARD
TZOFFSETFROM:+0200
TZOFFSETTO:+0100
TZNAME:CET
DTSTART:20221030T010000
END:STANDARD
END:VTIMEZONE
BEGIN:VEVENT
DTSTART;TZID=Europe/Berlin:20211114T103000
DTEND;TZID=Europe/Berlin:20211114T113000
DTSTAMP:20260422T091857
CREATED:20211014T073050Z
LAST-MODIFIED:20211030T161702Z
UID:10000003-1636885800-1636889400@pg-noerdlingen.de
SUMMARY:Kinderkirche Nördlingen
DESCRIPTION:Herzliche Einladung zur Kinderkirche Nördlingen – für Kinder im Kindergarten bis zur 2. Klasse.
URL:https://pg-noerdlingen.de/veranstaltung/kinderkirche-noerdlingen-3/
LOCATION:Pfarrzentrum St. Salvator\, Nördlingen
END:VEVENT
BEGIN:VEVENT
DTSTART;TZID=Europe/Berlin:20211114T150000
DTEND;TZID=Europe/Berlin:20211114T160000
DTSTAMP:20260422T091857
CREATED:20211030T161834Z
LAST-MODIFIED:20211030T161834Z
UID:10000130-1636902000-1636905600@pg-noerdlingen.de
SUMMARY:Kinderkirche Deiningen
DESCRIPTION:Herzliche Einladung zur Kinderkirche Deiningen – für Kinder im Kindergarten bis zur 2. Klasse.
URL:https://pg-noerdlingen.de/veranstaltung/kinderkirche-deiningen-2/
LOCATION:Pfarrheim Deinigen\, Templerstraße 5\, Deiningen
END:VEVENT
END:VCALENDAR