BEGIN:VCALENDAR
VERSION:2.0
PRODID:-//Katholische Pfarreiengemeinschaft Nördlingen - ECPv6.15.20//NONSGML v1.0//EN
CALSCALE:GREGORIAN
METHOD:PUBLISH
X-ORIGINAL-URL:https://pg-noerdlingen.de
X-WR-CALDESC:Veranstaltungen für Katholische Pfarreiengemeinschaft Nördlingen
REFRESH-INTERVAL;VALUE=DURATION:PT1H
X-Robots-Tag:noindex
X-PUBLISHED-TTL:PT1H
BEGIN:VTIMEZONE
TZID:Europe/Berlin
BEGIN:DAYLIGHT
TZOFFSETFROM:+0100
TZOFFSETTO:+0200
TZNAME:CEST
DTSTART:20210328T010000
END:DAYLIGHT
BEGIN:STANDARD
TZOFFSETFROM:+0200
TZOFFSETTO:+0100
TZNAME:CET
DTSTART:20211031T010000
END:STANDARD
BEGIN:DAYLIGHT
TZOFFSETFROM:+0100
TZOFFSETTO:+0200
TZNAME:CEST
DTSTART:20220327T010000
END:DAYLIGHT
BEGIN:STANDARD
TZOFFSETFROM:+0200
TZOFFSETTO:+0100
TZNAME:CET
DTSTART:20221030T010000
END:STANDARD
BEGIN:DAYLIGHT
TZOFFSETFROM:+0100
TZOFFSETTO:+0200
TZNAME:CEST
DTSTART:20230326T010000
END:DAYLIGHT
BEGIN:STANDARD
TZOFFSETFROM:+0200
TZOFFSETTO:+0100
TZNAME:CET
DTSTART:20231029T010000
END:STANDARD
END:VTIMEZONE
BEGIN:VEVENT
DTSTART;TZID=Europe/Berlin:20220107T183000
DTEND;TZID=Europe/Berlin:20220107T193000
DTSTAMP:20260421T174153
CREATED:20211229T090117Z
LAST-MODIFIED:20211229T090117Z
UID:10000142-1641580200-1641583800@pg-noerdlingen.de
SUMMARY:Herz -Jesu-Freitag
DESCRIPTION:Am Freitag\, dem 07.01.2022 findet in St. Josef (Nördlingen) anlässlich des Herz-Jesu-Freitags um 18:30 Uhr eine Heilige Messe mit Pfarrer Beck statt. Anschließend ist in der Kapelle von St. Josef ab 20:00 Uhr bis am Samstag um 07:00 Uhr eine Gebetsnacht mit ausgesetztem Allerheiligsten\, zu der jeder herzlich eingeladen ist – man kann in der Nacht kommen und gehen\, wie man möchte. Herzliche Einladung!
URL:https://pg-noerdlingen.de/veranstaltung/herz-jesu-freitag-4/
LOCATION:Pfarrkirche St. Josef\, Kerschensteinerstraße 2\, Nördlingen\, 86720
END:VEVENT
END:VCALENDAR