BEGIN:VCALENDAR
VERSION:2.0
PRODID:-//Katholische Pfarreiengemeinschaft Nördlingen - ECPv6.15.20//NONSGML v1.0//EN
CALSCALE:GREGORIAN
METHOD:PUBLISH
X-ORIGINAL-URL:https://pg-noerdlingen.de
X-WR-CALDESC:Veranstaltungen für Katholische Pfarreiengemeinschaft Nördlingen
REFRESH-INTERVAL;VALUE=DURATION:PT1H
X-Robots-Tag:noindex
X-PUBLISHED-TTL:PT1H
BEGIN:VTIMEZONE
TZID:Europe/Berlin
BEGIN:DAYLIGHT
TZOFFSETFROM:+0100
TZOFFSETTO:+0200
TZNAME:CEST
DTSTART:20220327T010000
END:DAYLIGHT
BEGIN:STANDARD
TZOFFSETFROM:+0200
TZOFFSETTO:+0100
TZNAME:CET
DTSTART:20221030T010000
END:STANDARD
BEGIN:DAYLIGHT
TZOFFSETFROM:+0100
TZOFFSETTO:+0200
TZNAME:CEST
DTSTART:20230326T010000
END:DAYLIGHT
BEGIN:STANDARD
TZOFFSETFROM:+0200
TZOFFSETTO:+0100
TZNAME:CET
DTSTART:20231029T010000
END:STANDARD
BEGIN:DAYLIGHT
TZOFFSETFROM:+0100
TZOFFSETTO:+0200
TZNAME:CEST
DTSTART:20240331T010000
END:DAYLIGHT
BEGIN:STANDARD
TZOFFSETFROM:+0200
TZOFFSETTO:+0100
TZNAME:CET
DTSTART:20241027T010000
END:STANDARD
END:VTIMEZONE
BEGIN:VEVENT
DTSTART;TZID=Europe/Berlin:20230608T090000
DTEND;TZID=Europe/Berlin:20230608T100000
DTSTAMP:20260422T211739
CREATED:20230426T150937Z
LAST-MODIFIED:20230426T150937Z
UID:10000367-1686214800-1686218400@pg-noerdlingen.de
SUMMARY:Fronleichnam in Deiningen
DESCRIPTION:Fronleichnam\n08. Juni 2023 – 9:00 Uhr – Deiningen: Heilige Messe; anschl. Fronleichnamsprozession\n08. Juni 2023 – 9:00 Uhr – St. Salvator: Heilige Messe; anschl. Fronleichnamsprozession\n08. Juni 2023 – 18:30 Uhr – Kleinerdlingen: Heilige Messe; anschl. Fronleichnamsprozession
URL:https://pg-noerdlingen.de/veranstaltung/fronleichnam-in-deiningen/
LOCATION:Pfarrkirche St. Martin\, St.-Martin-Str. 6\, Deiningen\, 86738
END:VEVENT
BEGIN:VEVENT
DTSTART;TZID=Europe/Berlin:20230608T090000
DTEND;TZID=Europe/Berlin:20230608T110000
DTSTAMP:20260422T211740
CREATED:20230426T151013Z
LAST-MODIFIED:20230426T151013Z
UID:10000368-1686214800-1686222000@pg-noerdlingen.de
SUMMARY:Fronleichnam in St. Salvator
DESCRIPTION:Fronleichnam\n08. Juni 2023 – 9:00 Uhr – Deiningen: Heilige Messe; anschl. Fronleichnamsprozession\n08. Juni 2023 – 9:00 Uhr – St. Salvator: Heilige Messe; anschl. Fronleichnamsprozession\n08. Juni 2023 – 18:30 Uhr – Kleinerdlingen: Heilige Messe; anschl. Fronleichnamsprozession
URL:https://pg-noerdlingen.de/veranstaltung/fronleichnam-in-st-salvator/
LOCATION:Pfarrkirche St. Salvator\, Salvatorgässchen 1\, Nördlingen\, 86720
END:VEVENT
BEGIN:VEVENT
DTSTART;TZID=Europe/Berlin:20230608T090000
DTEND;TZID=Europe/Berlin:20230608T110000
DTSTAMP:20260422T211740
CREATED:20230525T083956Z
LAST-MODIFIED:20230525T083956Z
UID:10000377-1686214800-1686222000@pg-noerdlingen.de
SUMMARY:Fronleichnam in Nördlingen
DESCRIPTION:Herzliche Einladung zu den Fronleichnamsprozessionen in der Pfarreiengemeinschaft Nördlingen. In Nördlingen feiern beide Pfarreien – St. Salvator und St. Josef – zusammen. Der Gottesdienst findet am 08.06.203 um 09.00 Uhr in St. Salvator statt. Anschließend findet die Prozession innerhalb der Stadtmauer statt. In Deiningen findet zeitgleich ebenso der Gottesdienst und im Anschluss die Prozession statt. Am Abend um 18.30 Uhr feiern wir in Kleinerdlingen das Fronleichnamsfest. Alle Gruppen\, Vereine\, Familien und Gläubige sind herzliche eingeladen mitzufeiern. Tragen Sie mit vielen anderen unseren Glauben nach außen!
URL:https://pg-noerdlingen.de/veranstaltung/fronleichnam-in-noerdlingen/
LOCATION:Pfarrkirche St. Salvator\, Salvatorgässchen 1\, Nördlingen\, 86720
END:VEVENT
BEGIN:VEVENT
DTSTART;TZID=Europe/Berlin:20230608T090000
DTEND;TZID=Europe/Berlin:20230608T110000
DTSTAMP:20260422T211740
CREATED:20230525T084030Z
LAST-MODIFIED:20230525T084030Z
UID:10000378-1686214800-1686222000@pg-noerdlingen.de
SUMMARY:Fronleichnam in Deiningen
DESCRIPTION:Herzliche Einladung zu den Fronleichnamsprozessionen in der Pfarreiengemeinschaft Nördlingen. In Nördlingen feiern beide Pfarreien – St. Salvator und St. Josef – zusammen. Der Gottesdienst findet am 08.06.203 um 09.00 Uhr in St. Salvator statt. Anschließend findet die Prozession innerhalb der Stadtmauer statt. In Deiningen findet zeitgleich ebenso der Gottesdienst und im Anschluss die Prozession statt. Am Abend um 18.30 Uhr feiern wir in Kleinerdlingen das Fronleichnamsfest. Alle Gruppen\, Vereine\, Familien und Gläubige sind herzliche eingeladen mitzufeiern. Tragen Sie mit vielen anderen unseren Glauben nach außen!
URL:https://pg-noerdlingen.de/veranstaltung/fronleichnam-in-deiningen-2/
LOCATION:Pfarrkirche St. Martin\, St.-Martin-Str. 6\, Deiningen\, 86738
END:VEVENT
BEGIN:VEVENT
DTSTART;TZID=Europe/Berlin:20230608T183000
DTEND;TZID=Europe/Berlin:20230608T200000
DTSTAMP:20260422T211740
CREATED:20230426T151056Z
LAST-MODIFIED:20230426T151056Z
UID:10000369-1686249000-1686254400@pg-noerdlingen.de
SUMMARY:Fronleichnam in Kleinerdlingen
DESCRIPTION:Fronleichnam\n08. Juni 2023 – 9:00 Uhr – Deiningen: Heilige Messe; anschl. Fronleichnamsprozession\n08. Juni 2023 – 9:00 Uhr – St. Salvator: Heilige Messe; anschl. Fronleichnamsprozession\n08. Juni 2023 – 18:30 Uhr – Kleinerdlingen: Heilige Messe; anschl. Fronleichnamsprozession
URL:https://pg-noerdlingen.de/veranstaltung/fronleichnam-in-kleinerdlingen/
LOCATION:Pfarrkirche St. Joh. Baptist\, Kleinerdlingen\, Erninger Str. 41\, Nördlingen\, 86720
END:VEVENT
BEGIN:VEVENT
DTSTART;TZID=Europe/Berlin:20230608T183000
DTEND;TZID=Europe/Berlin:20230608T200000
DTSTAMP:20260422T211740
CREATED:20230525T084102Z
LAST-MODIFIED:20230525T084102Z
UID:10000379-1686249000-1686254400@pg-noerdlingen.de
SUMMARY:Fronleichnam in Kleinerdlingen
DESCRIPTION:Herzliche Einladung zu den Fronleichnamsprozessionen in der Pfarreiengemeinschaft Nördlingen. In Nördlingen feiern beide Pfarreien – St. Salvator und St. Josef – zusammen. Der Gottesdienst findet am 08.06.203 um 09.00 Uhr in St. Salvator statt. Anschließend findet die Prozession innerhalb der Stadtmauer statt. In Deiningen findet zeitgleich ebenso der Gottesdienst und im Anschluss die Prozession statt. Am Abend um 18.30 Uhr feiern wir in Kleinerdlingen das Fronleichnamsfest. Alle Gruppen\, Vereine\, Familien und Gläubige sind herzliche eingeladen mitzufeiern. Tragen Sie mit vielen anderen unseren Glauben nach außen!
URL:https://pg-noerdlingen.de/veranstaltung/fronleichnam-in-kleinerdlingen-2/
LOCATION:Pfarrkirche St. Joh. Baptist\, Kleinerdlingen\, Erninger Str. 41\, Nördlingen\, 86720
END:VEVENT
END:VCALENDAR