BEGIN:VCALENDAR
VERSION:2.0
PRODID:-//Katholische Pfarreiengemeinschaft Nördlingen - ECPv6.15.20//NONSGML v1.0//EN
CALSCALE:GREGORIAN
METHOD:PUBLISH
X-WR-CALNAME:Katholische Pfarreiengemeinschaft Nördlingen
X-ORIGINAL-URL:https://pg-noerdlingen.de
X-WR-CALDESC:Veranstaltungen für Katholische Pfarreiengemeinschaft Nördlingen
REFRESH-INTERVAL;VALUE=DURATION:PT1H
X-Robots-Tag:noindex
X-PUBLISHED-TTL:PT1H
BEGIN:VTIMEZONE
TZID:Europe/Berlin
BEGIN:DAYLIGHT
TZOFFSETFROM:+0100
TZOFFSETTO:+0200
TZNAME:CEST
DTSTART:20220327T010000
END:DAYLIGHT
BEGIN:STANDARD
TZOFFSETFROM:+0200
TZOFFSETTO:+0100
TZNAME:CET
DTSTART:20221030T010000
END:STANDARD
BEGIN:DAYLIGHT
TZOFFSETFROM:+0100
TZOFFSETTO:+0200
TZNAME:CEST
DTSTART:20230326T010000
END:DAYLIGHT
BEGIN:STANDARD
TZOFFSETFROM:+0200
TZOFFSETTO:+0100
TZNAME:CET
DTSTART:20231029T010000
END:STANDARD
BEGIN:DAYLIGHT
TZOFFSETFROM:+0100
TZOFFSETTO:+0200
TZNAME:CEST
DTSTART:20240331T010000
END:DAYLIGHT
BEGIN:STANDARD
TZOFFSETFROM:+0200
TZOFFSETTO:+0100
TZNAME:CET
DTSTART:20241027T010000
END:STANDARD
END:VTIMEZONE
BEGIN:VEVENT
DTSTART;TZID=Europe/Berlin:20230627T170000
DTEND;TZID=Europe/Berlin:20230627T183000
DTSTAMP:20260422T212726
CREATED:20230504T095713Z
LAST-MODIFIED:20230504T095713Z
UID:10000376-1687885200-1687890600@pg-noerdlingen.de
SUMMARY:Vortrag Sr. Steiner zum Volto Santo in St. Josef
DESCRIPTION:Vortrag von Schwester Petra-Maria Steiner zum Volto Santo von Manoppello am 27.06.2023 im Pfarrsaal St. Josef in Nördlingen um 17:oo Uhr\nNoch nicht allgemein bekannt\, doch von ungeheurer Ausstrahlung und Bedeutung ist das sogenannte „Volto Santo“ von Manoppello\, einem kleinen Ort in den italienischen Abruzzen. Übersetzt bedeutet Volto Santo „heiliges Gesicht“. Es handelt sich dabei um ein kleines Tuch aus Muschelseide\, auch Bysuss genannt\, dem wohl seltensten und kostbarsten Stoff der Antike und manchmal als „gesponnenes Gold“ benannt. Darauf zu sehen ist ein verletztes Gesicht. Es ist wohl das Gesicht Jesus Christus\, das Ihn in seiner ganzen verwundeten Menschlichkeit und gepeinigt durch die Kreuzigung zeigt. Erstaunlich\, das Gesicht ist deckungsgleich zum Turiner Grabtuch. Im Unterschied zum Turiner Tuch sind Seine Augen jedoch geöffnet. Es entstand wohl im Moment seiner Auferstehung\, seines Sieges über den Tod und Sünde. Papst Benedikt war tief beeindruckt davon bei seinem Besuch in Manoppello. Die Wissenschaft kann nicht erklären\, wie das Gesicht auf das Tuch kam\, denn Muschelseide ist nicht permeabel\, das heißt es nimmt keine Farbe auf. \nDie Ikonographie Jesu\, seine Darstellung auf Ikonen und in christlicher Kunst\, hat seine Begründung sehr wahrscheinlich im Volto Santo von Manoppello. Es ist die „Vera Icona“\, das wahre Gesicht Jesu\, um das die Legende der Veronika entstanden sein soll. \nPassend zur Ausstellung „Die eucharistischen Wunder in der Welt von Carlo Acutis“ hält Schwester Petra-Maria Steiner\, die während der Sommermonate in Manoppello lebt\, am 27.06.23 in St. Josef der Arbeiter in Nördlingen einen vertiefenden Vortag zum Volto Santo\, um in die Geheimnisse dieses außergewöhnlichen Tuches einzuführen. Passend deshalb zur Acutis-Ausstellung\, da wie Gott in der Eucharistie zu schauen ist\, Er es eben auch in diesem Tuch ist. Beginn 17:oo Uhr am 27.06.2023 im Pfarrsaal St. Josef in Nördlingen. Herzliche Einladung an Alle zu diesem spannenden Vortrag.
URL:https://pg-noerdlingen.de/veranstaltung/vortrag-sr-steiner-zum-volto-santo-in-st-josef/
LOCATION:Pfarrheim St. Josef\, Kerschensteinerstr. 2\, Nördlingen\, 86720
END:VEVENT
END:VCALENDAR