BEGIN:VCALENDAR
VERSION:2.0
PRODID:-//Katholische Pfarreiengemeinschaft Nördlingen - ECPv6.15.20//NONSGML v1.0//EN
CALSCALE:GREGORIAN
METHOD:PUBLISH
X-ORIGINAL-URL:https://pg-noerdlingen.de
X-WR-CALDESC:Veranstaltungen für Katholische Pfarreiengemeinschaft Nördlingen
REFRESH-INTERVAL;VALUE=DURATION:PT1H
X-Robots-Tag:noindex
X-PUBLISHED-TTL:PT1H
BEGIN:VTIMEZONE
TZID:Europe/Berlin
BEGIN:DAYLIGHT
TZOFFSETFROM:+0100
TZOFFSETTO:+0200
TZNAME:CEST
DTSTART:20220327T010000
END:DAYLIGHT
BEGIN:STANDARD
TZOFFSETFROM:+0200
TZOFFSETTO:+0100
TZNAME:CET
DTSTART:20221030T010000
END:STANDARD
BEGIN:DAYLIGHT
TZOFFSETFROM:+0100
TZOFFSETTO:+0200
TZNAME:CEST
DTSTART:20230326T010000
END:DAYLIGHT
BEGIN:STANDARD
TZOFFSETFROM:+0200
TZOFFSETTO:+0100
TZNAME:CET
DTSTART:20231029T010000
END:STANDARD
BEGIN:DAYLIGHT
TZOFFSETFROM:+0100
TZOFFSETTO:+0200
TZNAME:CEST
DTSTART:20240331T010000
END:DAYLIGHT
BEGIN:STANDARD
TZOFFSETFROM:+0200
TZOFFSETTO:+0100
TZNAME:CET
DTSTART:20241027T010000
END:STANDARD
END:VTIMEZONE
BEGIN:VEVENT
DTSTART;TZID=Europe/Berlin:20230819T183000
DTEND;TZID=Europe/Berlin:20230819T223000
DTSTAMP:20260422T204824
CREATED:20230804T094705Z
LAST-MODIFIED:20230804T094705Z
UID:10000387-1692469800-1692484200@pg-noerdlingen.de
SUMMARY:Gemütlicher Sommerabend in Deiningen
DESCRIPTION:Wir laden zum gemütlichen Sommerabend am Samstag\, 19. August 2023 in St. Martin Deiningen ein! Beginn um 18:30 Uhr mit der Sonntag-Vorabendmesse\, anschl. gemütliches Beisammensein imn m Pfarrhof mit Fingerfood und Getränken. Beim Einsetzen der Dunkelheit heißt es: „Film ab!“ \nDer Eintritt ist frei. Über Fingerfoodspenden deftig/süß würden wir uns sehr freuen! Wir freuen uns auf Sie! \nIhr Pfarrgemeinderat St. Martin Deiningen
URL:https://pg-noerdlingen.de/veranstaltung/gemuetlicher-sommerabend-in-deiningen/
LOCATION:Pfarrkirche St. Martin\, St.-Martin-Str. 6\, Deiningen\, 86738
END:VEVENT
END:VCALENDAR