BEGIN:VCALENDAR
VERSION:2.0
PRODID:-//Katholische Pfarreiengemeinschaft Nördlingen - ECPv6.15.20//NONSGML v1.0//EN
CALSCALE:GREGORIAN
METHOD:PUBLISH
X-WR-CALNAME:Katholische Pfarreiengemeinschaft Nördlingen
X-ORIGINAL-URL:https://pg-noerdlingen.de
X-WR-CALDESC:Veranstaltungen für Katholische Pfarreiengemeinschaft Nördlingen
REFRESH-INTERVAL;VALUE=DURATION:PT1H
X-Robots-Tag:noindex
X-PUBLISHED-TTL:PT1H
BEGIN:VTIMEZONE
TZID:Europe/Berlin
BEGIN:DAYLIGHT
TZOFFSETFROM:+0100
TZOFFSETTO:+0200
TZNAME:CEST
DTSTART:20220327T010000
END:DAYLIGHT
BEGIN:STANDARD
TZOFFSETFROM:+0200
TZOFFSETTO:+0100
TZNAME:CET
DTSTART:20221030T010000
END:STANDARD
BEGIN:DAYLIGHT
TZOFFSETFROM:+0100
TZOFFSETTO:+0200
TZNAME:CEST
DTSTART:20230326T010000
END:DAYLIGHT
BEGIN:STANDARD
TZOFFSETFROM:+0200
TZOFFSETTO:+0100
TZNAME:CET
DTSTART:20231029T010000
END:STANDARD
BEGIN:DAYLIGHT
TZOFFSETFROM:+0100
TZOFFSETTO:+0200
TZNAME:CEST
DTSTART:20240331T010000
END:DAYLIGHT
BEGIN:STANDARD
TZOFFSETFROM:+0200
TZOFFSETTO:+0100
TZNAME:CET
DTSTART:20241027T010000
END:STANDARD
END:VTIMEZONE
BEGIN:VEVENT
DTSTART;VALUE=DATE:20231021
DTEND;VALUE=DATE:20231029
DTSTAMP:20260422T174957
CREATED:20230918T091519Z
LAST-MODIFIED:20230929T094637Z
UID:10000264-1697846400-1698537599@pg-noerdlingen.de
SUMMARY:Gottesdienste zu Beginn der Erstkommunionvorbereitung
DESCRIPTION:In allen Pfarreien findet der Gottesdienst für die künftigen Erstkommunionkinder statt. Am Gottesdienst bekommen die Kinder ein Gotteslob der Pfarrei geschenkt. \nSiehe Kirchenanzeiger bzw. Pfarrinfo oder unter Informieren/Gottesdienste. \n21.10.2023 – Fessenheim \n22.10.2023 – St. Salvator\, St. Josef\, Deiningen\, Kleinerdlingen \n28.10.2023 – Löpsingen
URL:https://pg-noerdlingen.de/veranstaltung/gottesdienst-zu-beginn-der-erstkommunionvorbereitung/
END:VEVENT
END:VCALENDAR