BEGIN:VCALENDAR
VERSION:2.0
PRODID:-//Katholische Pfarreiengemeinschaft Nördlingen - ECPv6.15.20//NONSGML v1.0//EN
CALSCALE:GREGORIAN
METHOD:PUBLISH
X-ORIGINAL-URL:https://pg-noerdlingen.de
X-WR-CALDESC:Veranstaltungen für Katholische Pfarreiengemeinschaft Nördlingen
REFRESH-INTERVAL;VALUE=DURATION:PT1H
X-Robots-Tag:noindex
X-PUBLISHED-TTL:PT1H
BEGIN:VTIMEZONE
TZID:Europe/Berlin
BEGIN:DAYLIGHT
TZOFFSETFROM:+0100
TZOFFSETTO:+0200
TZNAME:CEST
DTSTART:20220327T010000
END:DAYLIGHT
BEGIN:STANDARD
TZOFFSETFROM:+0200
TZOFFSETTO:+0100
TZNAME:CET
DTSTART:20221030T010000
END:STANDARD
BEGIN:DAYLIGHT
TZOFFSETFROM:+0100
TZOFFSETTO:+0200
TZNAME:CEST
DTSTART:20230326T010000
END:DAYLIGHT
BEGIN:STANDARD
TZOFFSETFROM:+0200
TZOFFSETTO:+0100
TZNAME:CET
DTSTART:20231029T010000
END:STANDARD
BEGIN:DAYLIGHT
TZOFFSETFROM:+0100
TZOFFSETTO:+0200
TZNAME:CEST
DTSTART:20240331T010000
END:DAYLIGHT
BEGIN:STANDARD
TZOFFSETFROM:+0200
TZOFFSETTO:+0100
TZNAME:CET
DTSTART:20241027T010000
END:STANDARD
END:VTIMEZONE
BEGIN:VEVENT
DTSTART;TZID=Europe/Berlin:20231107T140000
DTEND;TZID=Europe/Berlin:20231107T170000
DTSTAMP:20260422T162945
CREATED:20231028T143840Z
LAST-MODIFIED:20231028T143840Z
UID:10000424-1699365600-1699376400@pg-noerdlingen.de
SUMMARY:Vortrag bei Senioren Vital 60+
DESCRIPTION:Am 07.11.2023 feiern wir um 14.00 Uhr mit Pfarrer Beck eine Andacht in St. Salvator mit dem besonderen Segen mit dem Ulrichkreuz und beten für die verstorbenen Mitglieder der Senioren Vital 60+. Anschließend Kaffee und Kuchen im Pfarrzentrum. Ab 15.15 Uhr Vortrag über Adolf Kolping „Ein Mann der Taten“; Referent Herr Paul Ritter.
URL:https://pg-noerdlingen.de/veranstaltung/vortrag-bei-senioren-vital-60/
LOCATION:Pfarrkirche St. Salvator\, Salvatorgässchen 1\, Nördlingen\, 86720
END:VEVENT
BEGIN:VEVENT
DTSTART;TZID=Europe/Berlin:20231107T140000
DTEND;TZID=Europe/Berlin:20231108T190000
DTSTAMP:20260422T162945
CREATED:20231028T144502Z
LAST-MODIFIED:20231028T144502Z
UID:10000425-1699365600-1699470000@pg-noerdlingen.de
SUMMARY:Ulrichskreuz in Nördlingen
DESCRIPTION:Im Jubiläumsjahr des Hl. Ulrich geht das Ulrichskreuz auf Reisen durch unser Bistum\, es kommt von Reimlingen nach Nördlingen und wird dann weiter nach Oettingen gehen. In Nördlingen ist es am 7. und 8. November 2023. Der Einzelsegen mit dem Ulrichssegen kann empfangen werden am: \n7. November: Andacht um 14.00 Uhr in St. Salvator\nHl. Messe um 18.00 Uhr in St. Josef \n8. November: Hl. Messe um 18.00 Uhr in St. Martin Deiningen \nWeitere Informationen finden Sie auch in unserem Pfarrbrief – auch als Download auf unserer Homepage verfügbar.
URL:https://pg-noerdlingen.de/veranstaltung/ulrichskreuz-in-noerdlingen/
END:VEVENT
END:VCALENDAR