BEGIN:VCALENDAR
VERSION:2.0
PRODID:-//Katholische Pfarreiengemeinschaft Nördlingen - ECPv6.15.20//NONSGML v1.0//EN
CALSCALE:GREGORIAN
METHOD:PUBLISH
X-WR-CALNAME:Katholische Pfarreiengemeinschaft Nördlingen
X-ORIGINAL-URL:https://pg-noerdlingen.de
X-WR-CALDESC:Veranstaltungen für Katholische Pfarreiengemeinschaft Nördlingen
REFRESH-INTERVAL;VALUE=DURATION:PT1H
X-Robots-Tag:noindex
X-PUBLISHED-TTL:PT1H
BEGIN:VTIMEZONE
TZID:Europe/Berlin
BEGIN:DAYLIGHT
TZOFFSETFROM:+0100
TZOFFSETTO:+0200
TZNAME:CEST
DTSTART:20220327T010000
END:DAYLIGHT
BEGIN:STANDARD
TZOFFSETFROM:+0200
TZOFFSETTO:+0100
TZNAME:CET
DTSTART:20221030T010000
END:STANDARD
BEGIN:DAYLIGHT
TZOFFSETFROM:+0100
TZOFFSETTO:+0200
TZNAME:CEST
DTSTART:20230326T010000
END:DAYLIGHT
BEGIN:STANDARD
TZOFFSETFROM:+0200
TZOFFSETTO:+0100
TZNAME:CET
DTSTART:20231029T010000
END:STANDARD
BEGIN:DAYLIGHT
TZOFFSETFROM:+0100
TZOFFSETTO:+0200
TZNAME:CEST
DTSTART:20240331T010000
END:DAYLIGHT
BEGIN:STANDARD
TZOFFSETFROM:+0200
TZOFFSETTO:+0100
TZNAME:CET
DTSTART:20241027T010000
END:STANDARD
END:VTIMEZONE
BEGIN:VEVENT
DTSTART;TZID=Europe/Berlin:20231112T103000
DTEND;TZID=Europe/Berlin:20231112T113000
DTSTAMP:20260422T162758
CREATED:20231011T134826Z
LAST-MODIFIED:20231011T134826Z
UID:10000419-1699785000-1699788600@pg-noerdlingen.de
SUMMARY:Gottesdienst zu Beginn der Firmvorbereitung
DESCRIPTION:Heilige Messe mit den neuen Firmbewerbern. \nUhrzeit: 10.30 Uhr \nWo: St. Salvator
URL:https://pg-noerdlingen.de/veranstaltung/gottesdienst-zu-beginn-der-firmvorbereitung/
LOCATION:Pfarrkirche St. Salvator\, Salvatorgässchen 1\, Nördlingen\, 86720
END:VEVENT
BEGIN:VEVENT
DTSTART;TZID=Europe/Berlin:20231112T103000
DTEND;TZID=Europe/Berlin:20231112T113000
DTSTAMP:20260422T162758
CREATED:20231028T143415Z
LAST-MODIFIED:20231028T143415Z
UID:10000422-1699785000-1699788600@pg-noerdlingen.de
SUMMARY:Patrozinium St. Martin Deiningen
DESCRIPTION:Zum Patrozinium der St. Martinskirche Deiningen laden wir Sie alle recht herzlich am Sonntag\, 12.11.2023 um 10.30 Uhr ein. Musikalisch gestaltet wird der Gottesdienst von unserer Organistin Frau Lucia Stoll und dem Kirchenchor unter der Leitung von Frau Julia Rabel. Für unsere kleinen Gottesdienstbesucher gibt es an diesem Tag wieder eine Kinderkirche im Pfarrsaal. Beginn ist in der Kirche. Wir freuen uns auf Sie! \nPfarrei St. Martin und Kinderkirchenteam Deiningen
URL:https://pg-noerdlingen.de/veranstaltung/patrozinium-st-martin-deiningen/
LOCATION:Pfarrkirche St. Martin\, St.-Martin-Str. 6\, Deiningen\, 86738
END:VEVENT
END:VCALENDAR