BEGIN:VCALENDAR
VERSION:2.0
PRODID:-//Katholische Pfarreiengemeinschaft Nördlingen - ECPv6.15.20//NONSGML v1.0//EN
CALSCALE:GREGORIAN
METHOD:PUBLISH
X-WR-CALNAME:Katholische Pfarreiengemeinschaft Nördlingen
X-ORIGINAL-URL:https://pg-noerdlingen.de
X-WR-CALDESC:Veranstaltungen für Katholische Pfarreiengemeinschaft Nördlingen
REFRESH-INTERVAL;VALUE=DURATION:PT1H
X-Robots-Tag:noindex
X-PUBLISHED-TTL:PT1H
BEGIN:VTIMEZONE
TZID:Europe/Berlin
BEGIN:DAYLIGHT
TZOFFSETFROM:+0100
TZOFFSETTO:+0200
TZNAME:CEST
DTSTART:20220327T010000
END:DAYLIGHT
BEGIN:STANDARD
TZOFFSETFROM:+0200
TZOFFSETTO:+0100
TZNAME:CET
DTSTART:20221030T010000
END:STANDARD
BEGIN:DAYLIGHT
TZOFFSETFROM:+0100
TZOFFSETTO:+0200
TZNAME:CEST
DTSTART:20230326T010000
END:DAYLIGHT
BEGIN:STANDARD
TZOFFSETFROM:+0200
TZOFFSETTO:+0100
TZNAME:CET
DTSTART:20231029T010000
END:STANDARD
BEGIN:DAYLIGHT
TZOFFSETFROM:+0100
TZOFFSETTO:+0200
TZNAME:CEST
DTSTART:20240331T010000
END:DAYLIGHT
BEGIN:STANDARD
TZOFFSETFROM:+0200
TZOFFSETTO:+0100
TZNAME:CET
DTSTART:20241027T010000
END:STANDARD
END:VTIMEZONE
BEGIN:VEVENT
DTSTART;TZID=Europe/Berlin:20231122T090000
DTEND;TZID=Europe/Berlin:20231122T120000
DTSTAMP:20260422T164007
CREATED:20230918T091803Z
LAST-MODIFIED:20230918T091803Z
UID:10000404-1700643600-1700654400@pg-noerdlingen.de
SUMMARY:Kindertag der Pfarreiengemeinschaft
DESCRIPTION:Zum Kindertag sind alle Kinder der 1. bis zur 4. Klasse am Buß- und Bettag eingeladen\, sich im Pfarrzentrum zu treffen und gemeinsam zu singen\, basteln\, spielen und eine Person der Kirche kennenzulernen. \nNähere Informationen und Anmeldung dann im Vorfeld über die Öffentlichkeitskanäle und die Schulen. \nBeginn: 09.00 Uhr \nEnde: 12.00 Uhr
URL:https://pg-noerdlingen.de/veranstaltung/kindertag-der-pfarreiengemeinschaft/
LOCATION:Pfarrzentrum St. Salvator\, Nördlingen
END:VEVENT
END:VCALENDAR