BEGIN:VCALENDAR
VERSION:2.0
PRODID:-//Katholische Pfarreiengemeinschaft Nördlingen - ECPv6.15.20//NONSGML v1.0//EN
CALSCALE:GREGORIAN
METHOD:PUBLISH
X-WR-CALNAME:Katholische Pfarreiengemeinschaft Nördlingen
X-ORIGINAL-URL:https://pg-noerdlingen.de
X-WR-CALDESC:Veranstaltungen für Katholische Pfarreiengemeinschaft Nördlingen
REFRESH-INTERVAL;VALUE=DURATION:PT1H
X-Robots-Tag:noindex
X-PUBLISHED-TTL:PT1H
BEGIN:VTIMEZONE
TZID:Europe/Berlin
BEGIN:DAYLIGHT
TZOFFSETFROM:+0100
TZOFFSETTO:+0200
TZNAME:CEST
DTSTART:20220327T010000
END:DAYLIGHT
BEGIN:STANDARD
TZOFFSETFROM:+0200
TZOFFSETTO:+0100
TZNAME:CET
DTSTART:20221030T010000
END:STANDARD
BEGIN:DAYLIGHT
TZOFFSETFROM:+0100
TZOFFSETTO:+0200
TZNAME:CEST
DTSTART:20230326T010000
END:DAYLIGHT
BEGIN:STANDARD
TZOFFSETFROM:+0200
TZOFFSETTO:+0100
TZNAME:CET
DTSTART:20231029T010000
END:STANDARD
BEGIN:DAYLIGHT
TZOFFSETFROM:+0100
TZOFFSETTO:+0200
TZNAME:CEST
DTSTART:20240331T010000
END:DAYLIGHT
BEGIN:STANDARD
TZOFFSETFROM:+0200
TZOFFSETTO:+0100
TZNAME:CET
DTSTART:20241027T010000
END:STANDARD
END:VTIMEZONE
BEGIN:VEVENT
DTSTART;TZID=Europe/Berlin:20231215T193000
DTEND;TZID=Europe/Berlin:20231215T210000
DTSTAMP:20260422T150012
CREATED:20231213T154133Z
LAST-MODIFIED:20231213T154133Z
UID:10000287-1702668600-1702674000@pg-noerdlingen.de
SUMMARY:Abend der Versöhnung
DESCRIPTION:Am Freitag\, 15.12.23 findet in St. Salvator ein Abend der Versöhnung statt. Beginn ist um 19:30 Uhr mit einer kleinen Andacht\, Ende gegen 21:00 Uhr nach dem Komplet\, dem kirchlichen Nachtgebet. Es gibt an diesem Abend keinen festen Ablauf\, so dass Sie sich aussuchen können\, wann Sie kommen\, zu beten\, oder einfach der Musik zuzuhören. Zusätzlich gibt es die Möglichkeit vor dem Allerheiligsten eine Kerze anzuzünden\, eine Bibelstelle zu ziehen oder Gebetsanliegen aufzuschreiben. Den ganzen Abend stehen Priester zum Empfang der Beichte oder auch einem Gespräch bereit. Herzliche Einladung an Sie\, an diesem Abend in St. Salvator vorbeizuschauen.
URL:https://pg-noerdlingen.de/veranstaltung/abend-der-versoehnung-5/
LOCATION:Pfarrkirche St. Salvator\, Salvatorgässchen 1\, Nördlingen\, 86720
END:VEVENT
END:VCALENDAR