BEGIN:VCALENDAR
VERSION:2.0
PRODID:-//Katholische Pfarreiengemeinschaft Nördlingen - ECPv6.15.20//NONSGML v1.0//EN
CALSCALE:GREGORIAN
METHOD:PUBLISH
X-WR-CALNAME:Katholische Pfarreiengemeinschaft Nördlingen
X-ORIGINAL-URL:https://pg-noerdlingen.de
X-WR-CALDESC:Veranstaltungen für Katholische Pfarreiengemeinschaft Nördlingen
REFRESH-INTERVAL;VALUE=DURATION:PT1H
X-Robots-Tag:noindex
X-PUBLISHED-TTL:PT1H
BEGIN:VTIMEZONE
TZID:Europe/Berlin
BEGIN:DAYLIGHT
TZOFFSETFROM:+0100
TZOFFSETTO:+0200
TZNAME:CEST
DTSTART:20230326T010000
END:DAYLIGHT
BEGIN:STANDARD
TZOFFSETFROM:+0200
TZOFFSETTO:+0100
TZNAME:CET
DTSTART:20231029T010000
END:STANDARD
BEGIN:DAYLIGHT
TZOFFSETFROM:+0100
TZOFFSETTO:+0200
TZNAME:CEST
DTSTART:20240331T010000
END:DAYLIGHT
BEGIN:STANDARD
TZOFFSETFROM:+0200
TZOFFSETTO:+0100
TZNAME:CET
DTSTART:20241027T010000
END:STANDARD
BEGIN:DAYLIGHT
TZOFFSETFROM:+0100
TZOFFSETTO:+0200
TZNAME:CEST
DTSTART:20250330T010000
END:DAYLIGHT
BEGIN:STANDARD
TZOFFSETFROM:+0200
TZOFFSETTO:+0100
TZNAME:CET
DTSTART:20251026T010000
END:STANDARD
END:VTIMEZONE
BEGIN:VEVENT
DTSTART;TZID=Europe/Berlin:20240107T170000
DTEND;TZID=Europe/Berlin:20240107T183000
DTSTAMP:20260422T132212
CREATED:20240105T140027Z
LAST-MODIFIED:20240105T140027Z
UID:10000295-1704646800-1704652200@pg-noerdlingen.de
SUMMARY:Konzert der Löp'Singers
DESCRIPTION:Die Chorgemeinschaft Löpsingen lädt alle Musik-interessierten zu einem Konzert ein: Am Sonntag\, 7.01.2024 um 17:00 Uhr geben die Löp´Singers zum 30 –jährigen Jubiläum ein besonderes Konzert in der St. Piuskirche in Löpsingen. Bereits 2019 hatten die Löp´Singers ein Drei-Königs-Konzert mit der Gitarren-gruppe „Vielsaitig“ als Weihnachtskonzert veranstal-tet. Herzliche Einladung zum Jubiläumskonzert.
URL:https://pg-noerdlingen.de/veranstaltung/konzert-der-loepsingers/
LOCATION:St. Pius\, Löpsingen\, Vordere Angerstr. 1\, Nördlingen\, 86720
END:VEVENT
BEGIN:VEVENT
DTSTART;TZID=Europe/Berlin:20240107T183000
DTEND;TZID=Europe/Berlin:20240107T200000
DTSTAMP:20260422T132212
CREATED:20240105T140145Z
LAST-MODIFIED:20240105T140145Z
UID:10000433-1704652200-1704657600@pg-noerdlingen.de
SUMMARY:Weihnachtskonzert in Fessenheim
DESCRIPTION:Wir laden Sie herzlich zum weihnachtlichen Konzert am Sonntag den 7.01.2024 in der Christkönigskirche ein. Um 18:30 Uhr erklingen weihnachtliche Weisen vorgetragen vom katholischen Kirchenchor Deiningen\, dem Gesangverein Mönchsdeggingen und von Karolina Seefried (Sologesang). Die musikalische Umrahmung übernehmen der Posaunenchor aus Fessenheim und Jürgen Polke an der Orgel. Kaplan Jerome und Pfarrer Heiko Seeburg werden mit einem Abendgebet das Konzert beschließen. Auf Ihren Besuch in der Kirche freut sich das Christkönigsteam.
URL:https://pg-noerdlingen.de/veranstaltung/weihnachtskonzert-in-fessenheim/
LOCATION:Christkönig Fessenheim\, Raiffeisenstraße 2\, Wechingen\, 86759\, Deutschland
END:VEVENT
END:VCALENDAR