BEGIN:VCALENDAR
VERSION:2.0
PRODID:-//Katholische Pfarreiengemeinschaft Nördlingen - ECPv6.15.20//NONSGML v1.0//EN
CALSCALE:GREGORIAN
METHOD:PUBLISH
X-WR-CALNAME:Katholische Pfarreiengemeinschaft Nördlingen
X-ORIGINAL-URL:https://pg-noerdlingen.de
X-WR-CALDESC:Veranstaltungen für Katholische Pfarreiengemeinschaft Nördlingen
REFRESH-INTERVAL;VALUE=DURATION:PT1H
X-Robots-Tag:noindex
X-PUBLISHED-TTL:PT1H
BEGIN:VTIMEZONE
TZID:Europe/Berlin
BEGIN:DAYLIGHT
TZOFFSETFROM:+0100
TZOFFSETTO:+0200
TZNAME:CEST
DTSTART:20230326T010000
END:DAYLIGHT
BEGIN:STANDARD
TZOFFSETFROM:+0200
TZOFFSETTO:+0100
TZNAME:CET
DTSTART:20231029T010000
END:STANDARD
BEGIN:DAYLIGHT
TZOFFSETFROM:+0100
TZOFFSETTO:+0200
TZNAME:CEST
DTSTART:20240331T010000
END:DAYLIGHT
BEGIN:STANDARD
TZOFFSETFROM:+0200
TZOFFSETTO:+0100
TZNAME:CET
DTSTART:20241027T010000
END:STANDARD
BEGIN:DAYLIGHT
TZOFFSETFROM:+0100
TZOFFSETTO:+0200
TZNAME:CEST
DTSTART:20250330T010000
END:DAYLIGHT
BEGIN:STANDARD
TZOFFSETFROM:+0200
TZOFFSETTO:+0100
TZNAME:CET
DTSTART:20251026T010000
END:STANDARD
END:VTIMEZONE
BEGIN:VEVENT
DTSTART;TZID=Europe/Berlin:20240121T170000
DTEND;TZID=Europe/Berlin:20240121T183000
DTSTAMP:20260421T103311
CREATED:20240105T140439Z
LAST-MODIFIED:20240105T140439Z
UID:10000436-1705856400-1705861800@pg-noerdlingen.de
SUMMARY:Gebetswoche für die Einheit der Christen
DESCRIPTION:Herzliche Einladung zu den geplanten Gottesdiensten um die Einheit der Christen in der Hensoltshöhe und in Nähermemmingen! Das Motto lautet in diesem Jahr: „Du sollst den Herrn\, deinen Gott\, lieben und deinen Nächsten wie dich selbst“ Lk 10\,27). Am 20.01.2024 um 19:30 Uhr Gebetswoche – Einheit der Christen in der Landeskirchlichen Gemeinschaft der Hensoltshöhe sowie am 21.01.2024 um 17:00 Uhr Ökumenischer Gottesdienst zur Woche für die Einheit der Christen in Nähermemmingen.
URL:https://pg-noerdlingen.de/veranstaltung/gebetswoche-fuer-die-einheit-der-christen-2/
END:VEVENT
END:VCALENDAR