BEGIN:VCALENDAR
VERSION:2.0
PRODID:-//Katholische Pfarreiengemeinschaft Nördlingen - ECPv6.15.20//NONSGML v1.0//EN
CALSCALE:GREGORIAN
METHOD:PUBLISH
X-WR-CALNAME:Katholische Pfarreiengemeinschaft Nördlingen
X-ORIGINAL-URL:https://pg-noerdlingen.de
X-WR-CALDESC:Veranstaltungen für Katholische Pfarreiengemeinschaft Nördlingen
REFRESH-INTERVAL;VALUE=DURATION:PT1H
X-Robots-Tag:noindex
X-PUBLISHED-TTL:PT1H
BEGIN:VTIMEZONE
TZID:Europe/Berlin
BEGIN:DAYLIGHT
TZOFFSETFROM:+0100
TZOFFSETTO:+0200
TZNAME:CEST
DTSTART:20230326T010000
END:DAYLIGHT
BEGIN:STANDARD
TZOFFSETFROM:+0200
TZOFFSETTO:+0100
TZNAME:CET
DTSTART:20231029T010000
END:STANDARD
BEGIN:DAYLIGHT
TZOFFSETFROM:+0100
TZOFFSETTO:+0200
TZNAME:CEST
DTSTART:20240331T010000
END:DAYLIGHT
BEGIN:STANDARD
TZOFFSETFROM:+0200
TZOFFSETTO:+0100
TZNAME:CET
DTSTART:20241027T010000
END:STANDARD
BEGIN:DAYLIGHT
TZOFFSETFROM:+0100
TZOFFSETTO:+0200
TZNAME:CEST
DTSTART:20250330T010000
END:DAYLIGHT
BEGIN:STANDARD
TZOFFSETFROM:+0200
TZOFFSETTO:+0100
TZNAME:CET
DTSTART:20251026T010000
END:STANDARD
END:VTIMEZONE
BEGIN:VEVENT
DTSTART;TZID=Europe/Berlin:20240501T090000
DTEND;TZID=Europe/Berlin:20240501T100000
DTSTAMP:20260420T083652
CREATED:20240429T102921Z
LAST-MODIFIED:20240429T102921Z
UID:10000491-1714554000-1714557600@pg-noerdlingen.de
SUMMARY:Patrozinium St. Josef der Arbeiter
DESCRIPTION:Am 1. Mai feiern wir in St. Josef einen Festgottesdienst zum Patrozinium des Gotteshauses.
URL:https://pg-noerdlingen.de/veranstaltung/patrozinium-st-josef-der-arbeiter/
LOCATION:Pfarrkirche St. Josef\, Kerschensteinerstraße 2\, Nördlingen\, 86720
END:VEVENT
BEGIN:VEVENT
DTSTART;TZID=Europe/Berlin:20240501T090000
DTEND;TZID=Europe/Berlin:20240501T100000
DTSTAMP:20260420T083652
CREATED:20240429T103156Z
LAST-MODIFIED:20240429T103156Z
UID:10000492-1714554000-1714557600@pg-noerdlingen.de
SUMMARY:Hochfest Patrona Bavariae
DESCRIPTION:Zum Hochfest „Maria Schutzfrau von Bayern“ feiern wir in St. Salvator um 10.30 Uhr einen Gottesdienst.
URL:https://pg-noerdlingen.de/veranstaltung/hochfest-patrona-bavariae/
LOCATION:Pfarrkirche St. Salvator\, Salvatorgässchen 1\, Nördlingen\, 86720
END:VEVENT
BEGIN:VEVENT
DTSTART;TZID=Europe/Berlin:20240501T180000
DTEND;TZID=Europe/Berlin:20240501T190000
DTSTAMP:20260420T083652
CREATED:20240429T102018Z
LAST-MODIFIED:20240429T103436Z
UID:10000488-1714586400-1714590000@pg-noerdlingen.de
SUMMARY:Erste feierliche Maiandacht
DESCRIPTION:Die erste feierliche Maiandacht\, zusammen mit unseren Erstkommunionkinder\, findet in St. Salvator um 18.00 Uhr statt. Musikalisch wird die Maiandacht vom Kirchenchor gestaltet
URL:https://pg-noerdlingen.de/veranstaltung/erste-feierliche-maiandacht/
LOCATION:Pfarrkirche St. Salvator\, Salvatorgässchen 1\, Nördlingen\, 86720
END:VEVENT
END:VCALENDAR