BEGIN:VCALENDAR
VERSION:2.0
PRODID:-//Katholische Pfarreiengemeinschaft Nördlingen - ECPv6.15.20//NONSGML v1.0//EN
CALSCALE:GREGORIAN
METHOD:PUBLISH
X-ORIGINAL-URL:https://pg-noerdlingen.de
X-WR-CALDESC:Veranstaltungen für Katholische Pfarreiengemeinschaft Nördlingen
REFRESH-INTERVAL;VALUE=DURATION:PT1H
X-Robots-Tag:noindex
X-PUBLISHED-TTL:PT1H
BEGIN:VTIMEZONE
TZID:Europe/Berlin
BEGIN:DAYLIGHT
TZOFFSETFROM:+0100
TZOFFSETTO:+0200
TZNAME:CEST
DTSTART:20230326T010000
END:DAYLIGHT
BEGIN:STANDARD
TZOFFSETFROM:+0200
TZOFFSETTO:+0100
TZNAME:CET
DTSTART:20231029T010000
END:STANDARD
BEGIN:DAYLIGHT
TZOFFSETFROM:+0100
TZOFFSETTO:+0200
TZNAME:CEST
DTSTART:20240331T010000
END:DAYLIGHT
BEGIN:STANDARD
TZOFFSETFROM:+0200
TZOFFSETTO:+0100
TZNAME:CET
DTSTART:20241027T010000
END:STANDARD
BEGIN:DAYLIGHT
TZOFFSETFROM:+0100
TZOFFSETTO:+0200
TZNAME:CEST
DTSTART:20250330T010000
END:DAYLIGHT
BEGIN:STANDARD
TZOFFSETFROM:+0200
TZOFFSETTO:+0100
TZNAME:CET
DTSTART:20251026T010000
END:STANDARD
END:VTIMEZONE
BEGIN:VEVENT
DTSTART;VALUE=DATE:20240504
DTEND;VALUE=DATE:20240506
DTSTAMP:20260420T083845
CREATED:20240429T102257Z
LAST-MODIFIED:20240513T100918Z
UID:10000489-1714780800-1714953599@pg-noerdlingen.de
SUMMARY:Tafelsonntag
DESCRIPTION:Am Wochenende 4. und 5. Mai werden in allen Gottesdiensten der Pfarreiengemeinschaft Lebensmittel für die Tafel gesammelt. Bevorzugt benötigt werden Kaffee\, Nudeln\, Reis\, Dosenware – bitte keine verderblichen Lebensmittel abgeben. Vielen Dank für Ihre Unterstützung.
URL:https://pg-noerdlingen.de/veranstaltung/tafelsonntag-2/
END:VEVENT
BEGIN:VEVENT
DTSTART;TZID=Europe/Berlin:20240505T103000
DTEND;TZID=Europe/Berlin:20240505T113000
DTSTAMP:20260420T083845
CREATED:20230918T085728Z
LAST-MODIFIED:20240120T153139Z
UID:10000399-1714905000-1714908600@pg-noerdlingen.de
SUMMARY:Kinderkirche Nördlingen & Ratsch unterm Baum
DESCRIPTION:Herzliche Einladung zur Kinderkirche! \nBeginn um 10.30 Uhr in der Kirche\, dann Gang ins Pfarrzentrum. \nDaneben findet jeden Sonntag eine Kinderkirche bzw. ein Angebot für Kinder statt. \n 
URL:https://pg-noerdlingen.de/veranstaltung/kinderkirche-noerdlingen-12/
LOCATION:Pfarrkirche St. Salvator\, Salvatorgässchen 1\, Nördlingen\, 86720
END:VEVENT
END:VCALENDAR