BEGIN:VCALENDAR
VERSION:2.0
PRODID:-//Katholische Pfarreiengemeinschaft Nördlingen - ECPv6.15.20//NONSGML v1.0//EN
CALSCALE:GREGORIAN
METHOD:PUBLISH
X-WR-CALNAME:Katholische Pfarreiengemeinschaft Nördlingen
X-ORIGINAL-URL:https://pg-noerdlingen.de
X-WR-CALDESC:Veranstaltungen für Katholische Pfarreiengemeinschaft Nördlingen
REFRESH-INTERVAL;VALUE=DURATION:PT1H
X-Robots-Tag:noindex
X-PUBLISHED-TTL:PT1H
BEGIN:VTIMEZONE
TZID:Europe/Berlin
BEGIN:DAYLIGHT
TZOFFSETFROM:+0100
TZOFFSETTO:+0200
TZNAME:CEST
DTSTART:20230326T010000
END:DAYLIGHT
BEGIN:STANDARD
TZOFFSETFROM:+0200
TZOFFSETTO:+0100
TZNAME:CET
DTSTART:20231029T010000
END:STANDARD
BEGIN:DAYLIGHT
TZOFFSETFROM:+0100
TZOFFSETTO:+0200
TZNAME:CEST
DTSTART:20240331T010000
END:DAYLIGHT
BEGIN:STANDARD
TZOFFSETFROM:+0200
TZOFFSETTO:+0100
TZNAME:CET
DTSTART:20241027T010000
END:STANDARD
BEGIN:DAYLIGHT
TZOFFSETFROM:+0100
TZOFFSETTO:+0200
TZNAME:CEST
DTSTART:20250330T010000
END:DAYLIGHT
BEGIN:STANDARD
TZOFFSETFROM:+0200
TZOFFSETTO:+0100
TZNAME:CET
DTSTART:20251026T010000
END:STANDARD
END:VTIMEZONE
BEGIN:VEVENT
DTSTART;TZID=Europe/Berlin:20240511T052000
DTEND;TZID=Europe/Berlin:20240511T120000
DTSTAMP:20260420T101611
CREATED:20240418T164539Z
LAST-MODIFIED:20240418T164723Z
UID:10000487-1715404800-1715428800@pg-noerdlingen.de
SUMMARY:Fusswallfahrt nach Wemding
DESCRIPTION:Herzliche Einladung zur Fusswallfahrt nach Wemding \nTreffpunkt bei St. Josef: 5.20 Uhr \nTreffpunkt bei St. Martin\, Deiningen: 6.45 Uhr \nTreffpunkt bei Christkönig\, Fessenheim: 8.00 Uhr
URL:https://pg-noerdlingen.de/veranstaltung/fusswallfahrt-nach-wemding-4/
LOCATION:Maria Brünnlein\, Wemding
END:VEVENT
END:VCALENDAR