BEGIN:VCALENDAR
VERSION:2.0
PRODID:-//Katholische Pfarreiengemeinschaft Nördlingen - ECPv6.15.20//NONSGML v1.0//EN
CALSCALE:GREGORIAN
METHOD:PUBLISH
X-ORIGINAL-URL:https://pg-noerdlingen.de
X-WR-CALDESC:Veranstaltungen für Katholische Pfarreiengemeinschaft Nördlingen
REFRESH-INTERVAL;VALUE=DURATION:PT1H
X-Robots-Tag:noindex
X-PUBLISHED-TTL:PT1H
BEGIN:VTIMEZONE
TZID:Europe/Berlin
BEGIN:DAYLIGHT
TZOFFSETFROM:+0100
TZOFFSETTO:+0200
TZNAME:CEST
DTSTART:20230326T010000
END:DAYLIGHT
BEGIN:STANDARD
TZOFFSETFROM:+0200
TZOFFSETTO:+0100
TZNAME:CET
DTSTART:20231029T010000
END:STANDARD
BEGIN:DAYLIGHT
TZOFFSETFROM:+0100
TZOFFSETTO:+0200
TZNAME:CEST
DTSTART:20240331T010000
END:DAYLIGHT
BEGIN:STANDARD
TZOFFSETFROM:+0200
TZOFFSETTO:+0100
TZNAME:CET
DTSTART:20241027T010000
END:STANDARD
BEGIN:DAYLIGHT
TZOFFSETFROM:+0100
TZOFFSETTO:+0200
TZNAME:CEST
DTSTART:20250330T010000
END:DAYLIGHT
BEGIN:STANDARD
TZOFFSETFROM:+0200
TZOFFSETTO:+0100
TZNAME:CET
DTSTART:20251026T010000
END:STANDARD
END:VTIMEZONE
BEGIN:VEVENT
DTSTART;TZID=Europe/Berlin:20240531T180000
DTEND;TZID=Europe/Berlin:20240531T190000
DTSTAMP:20260420T101838
CREATED:20240513T095207Z
LAST-MODIFIED:20240513T095207Z
UID:10000495-1717178400-1717182000@pg-noerdlingen.de
SUMMARY:Letzte feierliche Maiandacht
DESCRIPTION:Die letzte feierliche Maiandacht in der Pfarreiengemeinschaft findet am Freitag\, 31. Mai um 18.00 Uhr in St. Josef statt. Unsere Erstkommunionkinder der Pfarreiengemeinschaft sind dazu herzlich eingeladen. Musikalisch wird die Maiandacht vom Kirchenchor gestaltet.
URL:https://pg-noerdlingen.de/veranstaltung/letzte-feierliche-maiandacht-2/
LOCATION:Pfarrkirche St. Josef\, Kerschensteinerstraße 2\, Nördlingen\, 86720
END:VEVENT
END:VCALENDAR