BEGIN:VCALENDAR
VERSION:2.0
PRODID:-//Katholische Pfarreiengemeinschaft Nördlingen - ECPv6.15.20//NONSGML v1.0//EN
CALSCALE:GREGORIAN
METHOD:PUBLISH
X-WR-CALNAME:Katholische Pfarreiengemeinschaft Nördlingen
X-ORIGINAL-URL:https://pg-noerdlingen.de
X-WR-CALDESC:Veranstaltungen für Katholische Pfarreiengemeinschaft Nördlingen
REFRESH-INTERVAL;VALUE=DURATION:PT1H
X-Robots-Tag:noindex
X-PUBLISHED-TTL:PT1H
BEGIN:VTIMEZONE
TZID:Europe/Berlin
BEGIN:DAYLIGHT
TZOFFSETFROM:+0100
TZOFFSETTO:+0200
TZNAME:CEST
DTSTART:20230326T010000
END:DAYLIGHT
BEGIN:STANDARD
TZOFFSETFROM:+0200
TZOFFSETTO:+0100
TZNAME:CET
DTSTART:20231029T010000
END:STANDARD
BEGIN:DAYLIGHT
TZOFFSETFROM:+0100
TZOFFSETTO:+0200
TZNAME:CEST
DTSTART:20240331T010000
END:DAYLIGHT
BEGIN:STANDARD
TZOFFSETFROM:+0200
TZOFFSETTO:+0100
TZNAME:CET
DTSTART:20241027T010000
END:STANDARD
BEGIN:DAYLIGHT
TZOFFSETFROM:+0100
TZOFFSETTO:+0200
TZNAME:CEST
DTSTART:20250330T010000
END:DAYLIGHT
BEGIN:STANDARD
TZOFFSETFROM:+0200
TZOFFSETTO:+0100
TZNAME:CET
DTSTART:20251026T010000
END:STANDARD
END:VTIMEZONE
BEGIN:VEVENT
DTSTART;TZID=Europe/Berlin:20240608T110000
DTEND;TZID=Europe/Berlin:20240608T123000
DTSTAMP:20260420T114808
CREATED:20240524T105200Z
LAST-MODIFIED:20240524T105200Z
UID:10000497-1717844400-1717849800@pg-noerdlingen.de
SUMMARY:Rosetti-Festtage im Ries
DESCRIPTION:Am Samstag\, 8. Juni 2024 findet im Rahmen der Rosetti-Festtage um 11.00 Uhr eine Führung durch die Kirche St. Salvator und das ehemalige Karmelitenkloster statt. \nReferenten des Vortrags und Führung sind Herr Xaxer Hönle und Herr Dr. Wilfried Sponsel. Eintritt: 8\,- €. \nAnmeldungen bitte bei Reinhold Seefried\, Telefon: 0171/5544607. \nIm Anschluss spielt Klaus Ortler an der Orgel Werke von Rosetti\, Mozart\, Haydn u.a. \nKonzert ab ca. 11.30 Uhr für alle offen\, die in die Kirche kommen.
URL:https://pg-noerdlingen.de/veranstaltung/rosetti-festtage-im-ries-2/
LOCATION:Pfarrkirche St. Salvator\, Salvatorgässchen 1\, Nördlingen\, 86720
END:VEVENT
END:VCALENDAR