BEGIN:VCALENDAR
VERSION:2.0
PRODID:-//Katholische Pfarreiengemeinschaft Nördlingen - ECPv6.15.20//NONSGML v1.0//EN
CALSCALE:GREGORIAN
METHOD:PUBLISH
X-ORIGINAL-URL:https://pg-noerdlingen.de
X-WR-CALDESC:Veranstaltungen für Katholische Pfarreiengemeinschaft Nördlingen
REFRESH-INTERVAL;VALUE=DURATION:PT1H
X-Robots-Tag:noindex
X-PUBLISHED-TTL:PT1H
BEGIN:VTIMEZONE
TZID:Europe/Berlin
BEGIN:DAYLIGHT
TZOFFSETFROM:+0100
TZOFFSETTO:+0200
TZNAME:CEST
DTSTART:20230326T010000
END:DAYLIGHT
BEGIN:STANDARD
TZOFFSETFROM:+0200
TZOFFSETTO:+0100
TZNAME:CET
DTSTART:20231029T010000
END:STANDARD
BEGIN:DAYLIGHT
TZOFFSETFROM:+0100
TZOFFSETTO:+0200
TZNAME:CEST
DTSTART:20240331T010000
END:DAYLIGHT
BEGIN:STANDARD
TZOFFSETFROM:+0200
TZOFFSETTO:+0100
TZNAME:CET
DTSTART:20241027T010000
END:STANDARD
BEGIN:DAYLIGHT
TZOFFSETFROM:+0100
TZOFFSETTO:+0200
TZNAME:CEST
DTSTART:20250330T010000
END:DAYLIGHT
BEGIN:STANDARD
TZOFFSETFROM:+0200
TZOFFSETTO:+0100
TZNAME:CET
DTSTART:20251026T010000
END:STANDARD
END:VTIMEZONE
BEGIN:VEVENT
DTSTART;TZID=Europe/Berlin:20240707T080000
DTEND;TZID=Europe/Berlin:20240707T170000
DTSTAMP:20260420T181843
CREATED:20240625T130505Z
LAST-MODIFIED:20240625T130642Z
UID:10000501-1720339200-1720371600@pg-noerdlingen.de
SUMMARY:Dankgottesdienste mit Überreichung der Firmurkunden
DESCRIPTION:am Sonntag\, 7. Juli 2024 werden im Dankgottesdienst an unsere Firmlinge\, die am 22. Juni gefirmt wurden die Urkunden überreicht. \n09.00 Uhr St. Martin\, Deiningen \n09.00 Uhr St. Johannes Baptist\, Kleinerdlingen \n10.30 Uhr St. Josef\, Nördlingen für die Kinder von St. Josef \n10.30 Uhr St. Salvator\, Nördlingen für die Kinder aus der Innenstadt\, Baldingen und Herkheim
URL:https://pg-noerdlingen.de/veranstaltung/dankgottesdienste-mit-ueberreichung-der-firmurkunden/
END:VEVENT
BEGIN:VEVENT
DTSTART;TZID=Europe/Berlin:20240707T103000
DTEND;TZID=Europe/Berlin:20240707T170000
DTSTAMP:20260420T181843
CREATED:20240418T163531Z
LAST-MODIFIED:20240418T164913Z
UID:10000486-1720348200-1720371600@pg-noerdlingen.de
SUMMARY:Pfarrfest in St. Josef
DESCRIPTION:Am Sonntag\, 7. Juli 2024 feiern wir das Pfarrfest in St. Josef
URL:https://pg-noerdlingen.de/veranstaltung/pfarrfest-in-st-josef/
LOCATION:Pfarrheim St. Josef\, Kerschensteinerstr. 2\, Nördlingen\, 86720
END:VEVENT
END:VCALENDAR