BEGIN:VCALENDAR
VERSION:2.0
PRODID:-//Katholische Pfarreiengemeinschaft Nördlingen - ECPv6.15.20//NONSGML v1.0//EN
CALSCALE:GREGORIAN
METHOD:PUBLISH
X-WR-CALNAME:Katholische Pfarreiengemeinschaft Nördlingen
X-ORIGINAL-URL:https://pg-noerdlingen.de
X-WR-CALDESC:Veranstaltungen für Katholische Pfarreiengemeinschaft Nördlingen
REFRESH-INTERVAL;VALUE=DURATION:PT1H
X-Robots-Tag:noindex
X-PUBLISHED-TTL:PT1H
BEGIN:VTIMEZONE
TZID:Europe/Berlin
BEGIN:DAYLIGHT
TZOFFSETFROM:+0100
TZOFFSETTO:+0200
TZNAME:CEST
DTSTART:20250330T010000
END:DAYLIGHT
BEGIN:STANDARD
TZOFFSETFROM:+0200
TZOFFSETTO:+0100
TZNAME:CET
DTSTART:20251026T010000
END:STANDARD
BEGIN:DAYLIGHT
TZOFFSETFROM:+0100
TZOFFSETTO:+0200
TZNAME:CEST
DTSTART:20260329T010000
END:DAYLIGHT
BEGIN:STANDARD
TZOFFSETFROM:+0200
TZOFFSETTO:+0100
TZNAME:CET
DTSTART:20261025T010000
END:STANDARD
BEGIN:DAYLIGHT
TZOFFSETFROM:+0100
TZOFFSETTO:+0200
TZNAME:CEST
DTSTART:20270328T010000
END:DAYLIGHT
BEGIN:STANDARD
TZOFFSETFROM:+0200
TZOFFSETTO:+0100
TZNAME:CET
DTSTART:20271031T010000
END:STANDARD
END:VTIMEZONE
BEGIN:VEVENT
DTSTART;TZID=Europe/Berlin:20260425T103000
DTEND;TZID=Europe/Berlin:20260425T113000
DTSTAMP:20260425T122547
CREATED:20260421T073412Z
LAST-MODIFIED:20260421T073412Z
UID:10000802-1777113000-1777116600@pg-noerdlingen.de
SUMMARY:Festgottesdienst zur Erstkommunion in St. Josef
DESCRIPTION:
URL:https://pg-noerdlingen.de/veranstaltung/festgottesdienst-zur-erstkommunion-in-st-josef/
LOCATION:Pfarrkirche St. Josef\, Kerschensteinerstraße 2\, Nördlingen\, 86720
END:VEVENT
BEGIN:VEVENT
DTSTART;TZID=Europe/Berlin:20260425T103000
DTEND;TZID=Europe/Berlin:20260425T113000
DTSTAMP:20260425T122547
CREATED:20260421T073520Z
LAST-MODIFIED:20260421T073520Z
UID:10000803-1777113000-1777116600@pg-noerdlingen.de
SUMMARY:Festgottesdienst zur Erstkommunion in Kleinerdlingen
DESCRIPTION:
URL:https://pg-noerdlingen.de/veranstaltung/festgottesdienst-zur-erstkommunion-in-kleinerdlingen/
LOCATION:Pfarrkirche St. Joh. Baptist\, Kleinerdlingen\, Erninger Str. 41\, Nördlingen\, 86720
END:VEVENT
END:VCALENDAR