BEGIN:VCALENDAR
VERSION:2.0
PRODID:-//Katholische Pfarreiengemeinschaft Nördlingen - ECPv6.15.20//NONSGML v1.0//EN
CALSCALE:GREGORIAN
METHOD:PUBLISH
X-WR-CALNAME:Katholische Pfarreiengemeinschaft Nördlingen
X-ORIGINAL-URL:https://pg-noerdlingen.de
X-WR-CALDESC:Veranstaltungen für Katholische Pfarreiengemeinschaft Nördlingen
REFRESH-INTERVAL;VALUE=DURATION:PT1H
X-Robots-Tag:noindex
X-PUBLISHED-TTL:PT1H
BEGIN:VTIMEZONE
TZID:Europe/Berlin
BEGIN:DAYLIGHT
TZOFFSETFROM:+0100
TZOFFSETTO:+0200
TZNAME:CEST
DTSTART:20200329T010000
END:DAYLIGHT
BEGIN:STANDARD
TZOFFSETFROM:+0200
TZOFFSETTO:+0100
TZNAME:CET
DTSTART:20201025T010000
END:STANDARD
BEGIN:DAYLIGHT
TZOFFSETFROM:+0100
TZOFFSETTO:+0200
TZNAME:CEST
DTSTART:20210328T010000
END:DAYLIGHT
BEGIN:STANDARD
TZOFFSETFROM:+0200
TZOFFSETTO:+0100
TZNAME:CET
DTSTART:20211031T010000
END:STANDARD
BEGIN:DAYLIGHT
TZOFFSETFROM:+0100
TZOFFSETTO:+0200
TZNAME:CEST
DTSTART:20220327T010000
END:DAYLIGHT
BEGIN:STANDARD
TZOFFSETFROM:+0200
TZOFFSETTO:+0100
TZNAME:CET
DTSTART:20221030T010000
END:STANDARD
END:VTIMEZONE
BEGIN:VEVENT
DTSTART;TZID=Europe/Berlin:20210201T183000
DTEND;TZID=Europe/Berlin:20210201T193000
DTSTAMP:20260422T214309
CREATED:20210124T122146Z
LAST-MODIFIED:20210124T122146Z
UID:10000114-1612204200-1612207800@pg-noerdlingen.de
SUMMARY:Blasiussegen in St. Salvator
DESCRIPTION:Einen besonderen Segen\, der mit gekreuzten Kerzen gespendet wird\, ist der Blasiussegen. Er geht zurück auf ein Wunder des Bischofs Blasius\, der durch sein Gebet einen Jungen vor dem Ersticken bewahrt haben soll. Der Segen soll uns vor allen Halskrankheiten und allem Bösen bewahren und uns „Gesundheit und Heil“ schenken\, wie es in den Gebeten heißt.  \nIn der Pfarreiengemeinschaft Nördlingen wird er gespendet: \nSt. Salvator: Montag\, 01.02.2021 um 18.30 Uhr\nSt. Josef: Dienstag\, 02.02.2021 um 18.30 Uhr\nDeiningen: Mittwoch\, 03.02.2021 um 18.30 Uhr\nKleinerdlingen: Donnerstag\, 04.02.2021 um 18.30 Uhr
URL:https://pg-noerdlingen.de/veranstaltung/blasiussegen-in-st-salvator/
END:VEVENT
BEGIN:VEVENT
DTSTART;TZID=Europe/Berlin:20210202T183000
DTEND;TZID=Europe/Berlin:20210202T193000
DTSTAMP:20260422T214309
CREATED:20210124T122434Z
LAST-MODIFIED:20210124T122434Z
UID:10000116-1612290600-1612294200@pg-noerdlingen.de
SUMMARY:Blasiussegen in St. Josef
DESCRIPTION:Einen besonderen Segen\, der mit gekreuzten Kerzen gespendet wird\, ist der Blasiussegen. Er geht zurück auf ein Wunder des Bischofs Blasius\, der durch sein Gebet einen Jungen vor dem Ersticken bewahrt haben soll. Der Segen soll uns vor allen Halskrankheiten und allem Bösen bewahren und uns „Gesundheit und Heil“ schenken\, wie es in den Gebeten heißt.  \nIn der Pfarreiengemeinschaft Nördlingen wird er gespendet: \nSt. Salvator: Montag\, 01.02.2021 um 18.30 Uhr\nSt. Josef: Dienstag\, 02.02.2021 um 18.30 Uhr\nDeiningen: Mittwoch\, 03.02.2021 um 18.30 Uhr\nKleinerdlingen: Donnerstag\, 04.02.2021 um 18.30 Uhr
URL:https://pg-noerdlingen.de/veranstaltung/blasiussegen-in-st-josef/
END:VEVENT
BEGIN:VEVENT
DTSTART;TZID=Europe/Berlin:20210203T183000
DTEND;TZID=Europe/Berlin:20210203T193000
DTSTAMP:20260422T214309
CREATED:20210124T122552Z
LAST-MODIFIED:20210124T122552Z
UID:10000118-1612377000-1612380600@pg-noerdlingen.de
SUMMARY:Blasiussegen in Deiningen
DESCRIPTION:Einen besonderen Segen\, der mit gekreuzten Kerzen gespendet wird\, ist der Blasiussegen. Er geht zurück auf ein Wunder des Bischofs Blasius\, der durch sein Gebet einen Jungen vor dem Ersticken bewahrt haben soll. Der Segen soll uns vor allen Halskrankheiten und allem Bösen bewahren und uns „Gesundheit und Heil“ schenken\, wie es in den Gebeten heißt.  \nIn der Pfarreiengemeinschaft Nördlingen wird er gespendet: \nSt. Salvator: Montag\, 01.02.2021 um 18.30 Uhr\nSt. Josef: Dienstag\, 02.02.2021 um 18.30 Uhr\nDeiningen: Mittwoch\, 03.02.2021 um 18.30 Uhr\nKleinerdlingen: Donnerstag\, 04.02.2021 um 18.30 Uhr
URL:https://pg-noerdlingen.de/veranstaltung/blasiussegen-in-deiningen/
END:VEVENT
BEGIN:VEVENT
DTSTART;TZID=Europe/Berlin:20210204T183000
DTEND;TZID=Europe/Berlin:20210204T193000
DTSTAMP:20260422T214309
CREATED:20210124T122704Z
LAST-MODIFIED:20210124T122704Z
UID:10000121-1612463400-1612467000@pg-noerdlingen.de
SUMMARY:Blasiussegen in Kleinerdlingen
DESCRIPTION:Einen besonderen Segen\, der mit gekreuzten Kerzen gespendet wird\, ist der Blasiussegen. Er geht zurück auf ein Wunder des Bischofs Blasius\, der durch sein Gebet einen Jungen vor dem Ersticken bewahrt haben soll. Der Segen soll uns vor allen Halskrankheiten und allem Bösen bewahren und uns „Gesundheit und Heil“ schenken\, wie es in den Gebeten heißt.  \nIn der Pfarreiengemeinschaft Nördlingen wird er gespendet: \nSt. Salvator: Montag\, 01.02.2021 um 18.30 Uhr\nSt. Josef: Dienstag\, 02.02.2021 um 18.30 Uhr\nDeiningen: Mittwoch\, 03.02.2021 um 18.30 Uhr\nKleinerdlingen: Donnerstag\, 04.02.2021 um 18.30 Uhr
URL:https://pg-noerdlingen.de/veranstaltung/blasiussegen-in-kleinerdlingen/
END:VEVENT
BEGIN:VEVENT
DTSTART;TZID=Europe/Berlin:20210204T183000
DTEND;TZID=Europe/Berlin:20210204T193000
DTSTAMP:20260422T214309
CREATED:20210124T123039Z
LAST-MODIFIED:20210124T123039Z
UID:10000108-1612463400-1612467000@pg-noerdlingen.de
SUMMARY:Requiem für Eugen Hänle
DESCRIPTION:Der Ruhestandsgeistliche und Bischöfliche Geistliche Rat Eugen Hänle ist am Samstag\, 9. Januar\, im Alter von 88 Jahren verstorben. Er wurde am 6. März 1932 in Nördlingen geboren und am 2. Juni 1957 zum Priester geweiht.  \nDas Requiem für Pfarrer Eugen Hänle findet am Donnerstag\, 04.02.2021 um 18:30 Uhr in St. Salvator statt.
URL:https://pg-noerdlingen.de/veranstaltung/requiem-fuer-eugen-haenle/
LOCATION:Pfarrkirche St. Salvator\, Salvatorgässchen 1\, Nördlingen\, 86720
CATEGORIES:Requiem
ATTACH;FMTTYPE=image/jpeg:https://pg-noerdlingen.de/wp-content/uploads/2021/01/Pfarrer-i.R.-BGR-Eugen-Haenle-verstorben.jpg
END:VEVENT
BEGIN:VEVENT
DTSTART;TZID=Europe/Berlin:20210205T193000
DTEND;TZID=Europe/Berlin:20210205T210000
DTSTAMP:20260422T214309
CREATED:20210124T123537Z
LAST-MODIFIED:20210124T123547Z
UID:10000109-1612553400-1612558800@pg-noerdlingen.de
SUMMARY:Herz-Jesu Freitag
DESCRIPTION:Am Herz-Jesu-Freitag\, dem 5. Februar 2021\, feiert um 19.30 Uhr Dekan Jürgen Eichler (Wallerstein) mit uns die Hl. Messe in St. Josef\, anschließend besteht bis 20.30 Uhr die Gelegenheit zur persönlichen Anbetung in der Kirche. Der Abend endet mit dem Kirchliche Nachtgebet (Komplet). \nDie nächsten Herz-Jesu-Freitage (dann hoffentlich mit Nachtanbetung) sind: 5. März mit Pfarrer Michael Kammerlander (Fremdingen) und 9. April mit Pfarrer Jan Lazar (Huisheim).
URL:https://pg-noerdlingen.de/veranstaltung/herz-jesu-freitag/
LOCATION:Pfarrkirche St. Josef\, Kerschensteinerstraße 2\, Nördlingen\, 86720
END:VEVENT
BEGIN:VEVENT
DTSTART;TZID=Europe/Berlin:20210207T170000
DTEND;TZID=Europe/Berlin:20210207T180000
DTSTAMP:20260422T214309
CREATED:20210202T145908Z
LAST-MODIFIED:20210202T145908Z
UID:10000087-1612717200-1612720800@pg-noerdlingen.de
SUMMARY:Musikalische Vesper
DESCRIPTION:Herzliche Einladung zur musikalischen Vesper mit Kirchenmusiker Klaus Ortler. \n17.00 Uhr – St. Salvator\, Nördlingen
URL:https://pg-noerdlingen.de/veranstaltung/musikalische-vesper/
LOCATION:Pfarrkirche St. Salvator\, Salvatorgässchen 1\, Nördlingen\, 86720
END:VEVENT
BEGIN:VEVENT
DTSTART;TZID=Europe/Berlin:20210217T163000
DTEND;TZID=Europe/Berlin:20210217T173000
DTSTAMP:20260422T214309
CREATED:20210203T092559Z
LAST-MODIFIED:20210203T092559Z
UID:10000106-1613579400-1613583000@pg-noerdlingen.de
SUMMARY:Wort-Gottes-Feier für Kinder mit Aschenauflegung
DESCRIPTION:Herzliche Einladung zum Wortgottesdienst mit Aschenauflegung für Kinder. \nAschermittwoch\, 16.30 Uhr in St. Salvator
URL:https://pg-noerdlingen.de/veranstaltung/wort-gottes-feier-fuer-kinder-mit-aschenauflegung/
LOCATION:Pfarrkirche St. Salvator\, Salvatorgässchen 1\, Nördlingen\, 86720
CATEGORIES:Familienpastoral
END:VEVENT
BEGIN:VEVENT
DTSTART;VALUE=DATE:20210219
DTEND;VALUE=DATE:20210301
DTSTAMP:20260422T214309
CREATED:20201228T171419Z
LAST-MODIFIED:20201228T171419Z
UID:10000128-1613692800-1614556799@pg-noerdlingen.de
SUMMARY:Missionarische Woche
DESCRIPTION:Missionarische Woche in der Pfarreiengemeinschaft Nördlingen.
URL:https://pg-noerdlingen.de/veranstaltung/missionarische-woche/
END:VEVENT
BEGIN:VEVENT
DTSTART;TZID=Europe/Berlin:20210220T203000
DTEND;TZID=Europe/Berlin:20210220T213000
DTSTAMP:20260422T214309
CREATED:20210215T102044Z
LAST-MODIFIED:20210215T102044Z
UID:10000080-1613853000-1613856600@pg-noerdlingen.de
SUMMARY:Basical Couch
DESCRIPTION:Online im Mission TV – YouTube Kanal der PG
URL:https://pg-noerdlingen.de/veranstaltung/basical-couch/
CATEGORIES:Veranstaltung in der Missionarischen Woche
END:VEVENT
BEGIN:VEVENT
DTSTART;TZID=Europe/Berlin:20210221T143000
DTEND;TZID=Europe/Berlin:20210221T150000
DTSTAMP:20260422T214309
CREATED:20210215T102128Z
LAST-MODIFIED:20210215T102128Z
UID:10000081-1613917800-1613919600@pg-noerdlingen.de
SUMMARY:Grußwort zur Woche
DESCRIPTION:Online im Mission TV – YouTube Kanal der PG
URL:https://pg-noerdlingen.de/veranstaltung/grusswort-zur-woche/
CATEGORIES:Veranstaltung in der Missionarischen Woche
END:VEVENT
BEGIN:VEVENT
DTSTART;TZID=Europe/Berlin:20210221T150000
DTEND;TZID=Europe/Berlin:20210221T160000
DTSTAMP:20260422T214309
CREATED:20210215T102229Z
LAST-MODIFIED:20210215T102229Z
UID:10000082-1613919600-1613923200@pg-noerdlingen.de
SUMMARY:Familiennachmittag
DESCRIPTION:Online im Mission TV – Videokonferenz über Zoom. \nAnmeldung per Mail: pg.noerdlingen@bistum-augsburg.de
URL:https://pg-noerdlingen.de/veranstaltung/familiennachmittag/
CATEGORIES:Veranstaltung in der Missionarischen Woche
END:VEVENT
BEGIN:VEVENT
DTSTART;TZID=Europe/Berlin:20210222T203000
DTEND;TZID=Europe/Berlin:20210222T210000
DTSTAMP:20260422T214309
CREATED:20210215T102313Z
LAST-MODIFIED:20210215T102313Z
UID:10000083-1614025800-1614027600@pg-noerdlingen.de
SUMMARY:Freude am Glauben
DESCRIPTION:Online im Mission TV – YouTube Kanal der PG
URL:https://pg-noerdlingen.de/veranstaltung/freude-am-glauben/
CATEGORIES:Veranstaltung in der Missionarischen Woche
END:VEVENT
BEGIN:VEVENT
DTSTART;TZID=Europe/Berlin:20210223T203000
DTEND;TZID=Europe/Berlin:20210223T213000
DTSTAMP:20260422T214309
CREATED:20210215T102411Z
LAST-MODIFIED:20210215T102411Z
UID:10000075-1614112200-1614115800@pg-noerdlingen.de
SUMMARY:Männerabend
DESCRIPTION:Online im Mission TV – YouTube Kanal der PG \nVorher: Bierstation vor St. Salvator zwischen 19.00 – 20.00 Uhr
URL:https://pg-noerdlingen.de/veranstaltung/maennerabend/
CATEGORIES:Veranstaltung in der Missionarischen Woche
END:VEVENT
BEGIN:VEVENT
DTSTART;TZID=Europe/Berlin:20210224T200000
DTEND;TZID=Europe/Berlin:20210224T213000
DTSTAMP:20260422T214309
CREATED:20210215T102528Z
LAST-MODIFIED:20210215T102528Z
UID:10000076-1614196800-1614202200@pg-noerdlingen.de
SUMMARY:Taizé-Gebet
DESCRIPTION:Herzliche Einladung zum Taizé-Gebet innerhalb der Missionarischen Woche. \n20.00 Uhr in der evangelischen Pfarrkirche St. Georg
URL:https://pg-noerdlingen.de/veranstaltung/taize-gebet/
CATEGORIES:Veranstaltung in der Missionarischen Woche
END:VEVENT
BEGIN:VEVENT
DTSTART;TZID=Europe/Berlin:20210226T200000
DTEND;TZID=Europe/Berlin:20210227T070000
DTSTAMP:20260422T214309
CREATED:20210215T102716Z
LAST-MODIFIED:20210226T123738Z
UID:10000078-1614369600-1614409200@pg-noerdlingen.de
SUMMARY:Nachtanbetung
DESCRIPTION:Nachtanbetung in St. Josef. \n20.00 bis 02.00 Uhr Gestaltete Anbetung\n02.00 bis 07.00 Uhr Stille Anbetung\n07.00 Uhr Laudes
URL:https://pg-noerdlingen.de/veranstaltung/nachtanbetung/
CATEGORIES:Veranstaltung in der Missionarischen Woche
END:VEVENT
BEGIN:VEVENT
DTSTART;TZID=Europe/Berlin:20210226T203000
DTEND;TZID=Europe/Berlin:20210226T213000
DTSTAMP:20260422T214309
CREATED:20210215T102626Z
LAST-MODIFIED:20210215T102626Z
UID:10000077-1614371400-1614375000@pg-noerdlingen.de
SUMMARY:Lifestyle & Pizza
DESCRIPTION:Online im Mission TV – YouTube Kanal der PG \nFür Jugendliche\, junge Erwachsene\, Ministranten und alle Interessierten.
URL:https://pg-noerdlingen.de/veranstaltung/lifestyle-pizza/
CATEGORIES:Veranstaltung in der Missionarischen Woche
END:VEVENT
BEGIN:VEVENT
DTSTART;TZID=Europe/Berlin:20210227T100000
DTEND;TZID=Europe/Berlin:20210227T110000
DTSTAMP:20260422T214309
CREATED:20210215T102755Z
LAST-MODIFIED:20210215T102755Z
UID:10000069-1614420000-1614423600@pg-noerdlingen.de
SUMMARY:Frauen-Frühstück
DESCRIPTION:Online im Mission TV – YouTube Kanal der PG
URL:https://pg-noerdlingen.de/veranstaltung/frauen-fruehstueck/
CATEGORIES:Veranstaltung in der Missionarischen Woche
END:VEVENT
BEGIN:VEVENT
DTSTART;TZID=Europe/Berlin:20210227T183000
DTEND;TZID=Europe/Berlin:20210227T203000
DTSTAMP:20260422T214309
CREATED:20210215T102856Z
LAST-MODIFIED:20210215T102856Z
UID:10000071-1614450600-1614457800@pg-noerdlingen.de
SUMMARY:Abend der Versöhnung
DESCRIPTION:Herzliche Einladung zum Abend der Versöhnung in St. Salvator!
URL:https://pg-noerdlingen.de/veranstaltung/abend-der-versoehnung/
LOCATION:Pfarrkirche St. Salvator\, Salvatorgässchen 1\, Nördlingen\, 86720
CATEGORIES:Veranstaltung in der Missionarischen Woche
END:VEVENT
END:VCALENDAR