BEGIN:VCALENDAR
VERSION:2.0
PRODID:-//Katholische Pfarreiengemeinschaft Nördlingen - ECPv6.15.20//NONSGML v1.0//EN
CALSCALE:GREGORIAN
METHOD:PUBLISH
X-ORIGINAL-URL:https://pg-noerdlingen.de
X-WR-CALDESC:Veranstaltungen für Katholische Pfarreiengemeinschaft Nördlingen
REFRESH-INTERVAL;VALUE=DURATION:PT1H
X-Robots-Tag:noindex
X-PUBLISHED-TTL:PT1H
BEGIN:VTIMEZONE
TZID:Europe/Berlin
BEGIN:DAYLIGHT
TZOFFSETFROM:+0100
TZOFFSETTO:+0200
TZNAME:CEST
DTSTART:20200329T010000
END:DAYLIGHT
BEGIN:STANDARD
TZOFFSETFROM:+0200
TZOFFSETTO:+0100
TZNAME:CET
DTSTART:20201025T010000
END:STANDARD
BEGIN:DAYLIGHT
TZOFFSETFROM:+0100
TZOFFSETTO:+0200
TZNAME:CEST
DTSTART:20210328T010000
END:DAYLIGHT
BEGIN:STANDARD
TZOFFSETFROM:+0200
TZOFFSETTO:+0100
TZNAME:CET
DTSTART:20211031T010000
END:STANDARD
BEGIN:DAYLIGHT
TZOFFSETFROM:+0100
TZOFFSETTO:+0200
TZNAME:CEST
DTSTART:20220327T010000
END:DAYLIGHT
BEGIN:STANDARD
TZOFFSETFROM:+0200
TZOFFSETTO:+0100
TZNAME:CET
DTSTART:20221030T010000
END:STANDARD
END:VTIMEZONE
BEGIN:VEVENT
DTSTART;TZID=Europe/Berlin:20210301T190000
DTEND;TZID=Europe/Berlin:20210301T210000
DTSTAMP:20260422T202346
CREATED:20210127T103036Z
LAST-MODIFIED:20210127T103036Z
UID:10000085-1614625200-1614632400@pg-noerdlingen.de
SUMMARY:KDFB Montagsrunde - Vortrag
DESCRIPTION:„Entschlacken\, Entgiften und Energie tanken mit Heilfasten nach Buchinger“ \, Referentin: Ingrid Wittmann\, findet nicht am Montag\, 22. 02. 2021 statt.\nNeuer Termin ist jetzt am  01. 03. 2021  um 19.00 Uhr  im Pfarrsaal von St. Salvator.
URL:https://pg-noerdlingen.de/veranstaltung/kdfb-montagsrunde-vortrag/
LOCATION:Pfarrzentrum St. Salvator\, Nördlingen
END:VEVENT
BEGIN:VEVENT
DTSTART;TZID=Europe/Berlin:20210305T193000
DTEND;TZID=Europe/Berlin:20210305T210000
DTSTAMP:20260422T202346
CREATED:20210124T123748Z
LAST-MODIFIED:20210124T123748Z
UID:10000110-1614972600-1614978000@pg-noerdlingen.de
SUMMARY:Herz-Jesu Freitag
DESCRIPTION:Heilige Messe am Herz-Jesu Freitag mit Pfarrer Michael Kammerlander (Fremdingen) in St. Josef.
URL:https://pg-noerdlingen.de/veranstaltung/herz-jesu-freitag-2/
END:VEVENT
BEGIN:VEVENT
DTSTART;TZID=Europe/Berlin:20210319T183000
DTEND;TZID=Europe/Berlin:20210319T193000
DTSTAMP:20260422T202346
CREATED:20201228T171316Z
LAST-MODIFIED:20201228T171316Z
UID:10000126-1616178600-1616182200@pg-noerdlingen.de
SUMMARY:St. Josef - Heilige Messe im Josefsjahr
DESCRIPTION:Patrozinium am Josefstag – zur Heiligen Messe im vom Papst ausgerufenen Josefsjahr mit Überraschungsprediger
URL:https://pg-noerdlingen.de/veranstaltung/st-josef-heilige-messe-im-josefsjahr/
LOCATION:Pfarrkirche St. Josef\, Kerschensteinerstraße 2\, Nördlingen\, 86720
END:VEVENT
BEGIN:VEVENT
DTSTART;TZID=Europe/Berlin:20210321T080000
DTEND;TZID=Europe/Berlin:20210321T120000
DTSTAMP:20260422T202346
CREATED:20210311T085205Z
LAST-MODIFIED:20210311T085205Z
UID:10000072-1616313600-1616328000@pg-noerdlingen.de
SUMMARY:Tafelsonntag in der Pfarreiengemeinschaft
DESCRIPTION:Herzliche Einladung zum Tafelsonntag. \nDie Ministranten nehmen in allen Gottesdiensten der PG haltbare Lebensmittel für die Nördlinger Tafel entgegen.
URL:https://pg-noerdlingen.de/veranstaltung/tafelsonntag-in-der-pfarreiengemeinschaft/
END:VEVENT
END:VCALENDAR