BEGIN:VCALENDAR
VERSION:2.0
PRODID:-//Katholische Pfarreiengemeinschaft Nördlingen - ECPv6.15.20//NONSGML v1.0//EN
CALSCALE:GREGORIAN
METHOD:PUBLISH
X-WR-CALNAME:Katholische Pfarreiengemeinschaft Nördlingen
X-ORIGINAL-URL:https://pg-noerdlingen.de
X-WR-CALDESC:Veranstaltungen für Katholische Pfarreiengemeinschaft Nördlingen
REFRESH-INTERVAL;VALUE=DURATION:PT1H
X-Robots-Tag:noindex
X-PUBLISHED-TTL:PT1H
BEGIN:VTIMEZONE
TZID:Europe/Berlin
BEGIN:DAYLIGHT
TZOFFSETFROM:+0100
TZOFFSETTO:+0200
TZNAME:CEST
DTSTART:20200329T010000
END:DAYLIGHT
BEGIN:STANDARD
TZOFFSETFROM:+0200
TZOFFSETTO:+0100
TZNAME:CET
DTSTART:20201025T010000
END:STANDARD
BEGIN:DAYLIGHT
TZOFFSETFROM:+0100
TZOFFSETTO:+0200
TZNAME:CEST
DTSTART:20210328T010000
END:DAYLIGHT
BEGIN:STANDARD
TZOFFSETFROM:+0200
TZOFFSETTO:+0100
TZNAME:CET
DTSTART:20211031T010000
END:STANDARD
BEGIN:DAYLIGHT
TZOFFSETFROM:+0100
TZOFFSETTO:+0200
TZNAME:CEST
DTSTART:20220327T010000
END:DAYLIGHT
BEGIN:STANDARD
TZOFFSETFROM:+0200
TZOFFSETTO:+0100
TZNAME:CET
DTSTART:20221030T010000
END:STANDARD
END:VTIMEZONE
BEGIN:VEVENT
DTSTART;VALUE=DATE:20211009
DTEND;VALUE=DATE:20211010
DTSTAMP:20260422T091800
CREATED:20210505T103557Z
LAST-MODIFIED:20210505T103557Z
UID:10000022-1633737600-1633823999@pg-noerdlingen.de
SUMMARY:Erstkommunion St. Josef und Kleinerdlingen
DESCRIPTION:Feiern der Heiligen Erstkommunion in: \n\nSt. Josef – 10.30 Uhr\nKleinerdlingen – 10.30 Uhr
URL:https://pg-noerdlingen.de/veranstaltung/erstkommunion-st-josef-und-kleinerdlingen/
END:VEVENT
BEGIN:VEVENT
DTSTART;VALUE=DATE:20211010
DTEND;VALUE=DATE:20211011
DTSTAMP:20260422T091800
CREATED:20210505T103704Z
LAST-MODIFIED:20210505T103704Z
UID:10000059-1633824000-1633910399@pg-noerdlingen.de
SUMMARY:Erstkommunion St. Salvator\, Deiningen und Fessenheim
DESCRIPTION:Feiern der Heiligen Erstkommunion in: \n\nSt. Salvator 1 – 09.00 Uhr\nFessenheim – 09.00 Uhr\nSt. Salvator 2 – 10.30 Uhr\nDeiningen – 10.30 Uhr
URL:https://pg-noerdlingen.de/veranstaltung/erstkommunion-st-salvator-deiningen-und-fessenheim/
END:VEVENT
BEGIN:VEVENT
DTSTART;TZID=Europe/Berlin:20211011T160000
DTEND;TZID=Europe/Berlin:20211011T200000
DTSTAMP:20260422T091800
CREATED:20210928T183850Z
LAST-MODIFIED:20210928T183850Z
UID:10000061-1633968000-1633982400@pg-noerdlingen.de
SUMMARY:Kirche & Kino - Fatima
DESCRIPTION:
URL:https://pg-noerdlingen.de/veranstaltung/kirche-kino-fatima/
ATTACH;FMTTYPE=image/jpeg:https://pg-noerdlingen.de/wp-content/uploads/2021/09/Plakat_Kirche-und-Kino_Fatima_1.jpg
END:VEVENT
BEGIN:VEVENT
DTSTART;TZID=Europe/Berlin:20211015T200000
DTEND;TZID=Europe/Berlin:20211015T210000
DTSTAMP:20260422T091800
CREATED:20211014T072500Z
LAST-MODIFIED:20211014T072637Z
UID:10000007-1634328000-1634331600@pg-noerdlingen.de
SUMMARY:Taizé-Zeit in St. Josef
DESCRIPTION:
URL:https://pg-noerdlingen.de/veranstaltung/taiz-zeit-in-st-josef/
LOCATION:Pfarrkirche St. Josef\, Kerschensteinerstraße 2\, Nördlingen\, 86720
END:VEVENT
BEGIN:VEVENT
DTSTART;TZID=Europe/Berlin:20211016T200000
DTEND;TZID=Europe/Berlin:20211016T213000
DTSTAMP:20260422T091801
CREATED:20211014T072226Z
LAST-MODIFIED:20211014T072226Z
UID:10000023-1634414400-1634419800@pg-noerdlingen.de
SUMMARY:Holy Hour
DESCRIPTION:Im Altarraum von St. Salvator – für Jugendliche und junge Erwachsene.
URL:https://pg-noerdlingen.de/veranstaltung/holy-hour-4/
LOCATION:Pfarrkirche St. Salvator\, Salvatorgässchen 1\, Nördlingen\, 86720
END:VEVENT
BEGIN:VEVENT
DTSTART;TZID=Europe/Berlin:20211017T090000
DTEND;TZID=Europe/Berlin:20211017T100000
DTSTAMP:20260422T091801
CREATED:20211014T073455Z
LAST-MODIFIED:20211014T073455Z
UID:10000010-1634461200-1634464800@pg-noerdlingen.de
SUMMARY:Kirchweihfest mit der Jugendkapelle Nördlingen
DESCRIPTION:
URL:https://pg-noerdlingen.de/veranstaltung/kirchweihfest-mit-der-jugendkapelle-noerdlingen/
LOCATION:Pfarrkirche St. Josef\, Kerschensteinerstraße 2\, Nördlingen\, 86720
END:VEVENT
BEGIN:VEVENT
DTSTART;TZID=Europe/Berlin:20211024T150000
DTEND;TZID=Europe/Berlin:20211024T160000
DTSTAMP:20260422T091801
CREATED:20211014T073004Z
LAST-MODIFIED:20211014T073004Z
UID:10000002-1635087600-1635091200@pg-noerdlingen.de
SUMMARY:Kinderkirche Nördlingen
DESCRIPTION:Herzliche Einladung zur Kinderkirche Nördlingen – für Kinder im Kindergarten bis zur 2. Klasse.
URL:https://pg-noerdlingen.de/veranstaltung/kinderkirche-noerdlingen-2/
LOCATION:Pfarrzentrum St. Salvator\, Nördlingen
END:VEVENT
BEGIN:VEVENT
DTSTART;TZID=Europe/Berlin:20211024T150000
DTEND;TZID=Europe/Berlin:20211024T160000
DTSTAMP:20260422T091801
CREATED:20211014T073411Z
LAST-MODIFIED:20211014T073411Z
UID:10000009-1635087600-1635091200@pg-noerdlingen.de
SUMMARY:Kinderkirche Deiningen
DESCRIPTION:Herzliche Einladung zur Kinderkirche Deiningen – für Kinder im Kindergarten bis zur 2. Klasse.
URL:https://pg-noerdlingen.de/veranstaltung/kinderkirche-deiningen/
LOCATION:Pfarrheim Deinigen\, Templerstraße 5\, Deiningen
END:VEVENT
BEGIN:VEVENT
DTSTART;TZID=Europe/Berlin:20211031T190000
DTEND;TZID=Europe/Berlin:20211031T200000
DTSTAMP:20260422T091801
CREATED:20211030T162017Z
LAST-MODIFIED:20211030T162017Z
UID:10000131-1635706800-1635710400@pg-noerdlingen.de
SUMMARY:Nacht der Lichter
DESCRIPTION:Nacht der Lichter – Nacht der Heiligen mit anschließender Lichterprozession zum Friedhof mit Dekan Jürgen Eichler.
URL:https://pg-noerdlingen.de/veranstaltung/nacht-der-lichter/
LOCATION:Pfarrkirche St. Martin\, St.-Martin-Str. 6\, Deiningen\, 86738
END:VEVENT
END:VCALENDAR