BEGIN:VCALENDAR
VERSION:2.0
PRODID:-//Katholische Pfarreiengemeinschaft Nördlingen - ECPv6.15.20//NONSGML v1.0//EN
CALSCALE:GREGORIAN
METHOD:PUBLISH
X-ORIGINAL-URL:https://pg-noerdlingen.de
X-WR-CALDESC:Veranstaltungen für Katholische Pfarreiengemeinschaft Nördlingen
REFRESH-INTERVAL;VALUE=DURATION:PT1H
X-Robots-Tag:noindex
X-PUBLISHED-TTL:PT1H
BEGIN:VTIMEZONE
TZID:Europe/Berlin
BEGIN:DAYLIGHT
TZOFFSETFROM:+0100
TZOFFSETTO:+0200
TZNAME:CEST
DTSTART:20200329T010000
END:DAYLIGHT
BEGIN:STANDARD
TZOFFSETFROM:+0200
TZOFFSETTO:+0100
TZNAME:CET
DTSTART:20201025T010000
END:STANDARD
BEGIN:DAYLIGHT
TZOFFSETFROM:+0100
TZOFFSETTO:+0200
TZNAME:CEST
DTSTART:20210328T010000
END:DAYLIGHT
BEGIN:STANDARD
TZOFFSETFROM:+0200
TZOFFSETTO:+0100
TZNAME:CET
DTSTART:20211031T010000
END:STANDARD
BEGIN:DAYLIGHT
TZOFFSETFROM:+0100
TZOFFSETTO:+0200
TZNAME:CEST
DTSTART:20220327T010000
END:DAYLIGHT
BEGIN:STANDARD
TZOFFSETFROM:+0200
TZOFFSETTO:+0100
TZNAME:CET
DTSTART:20221030T010000
END:STANDARD
END:VTIMEZONE
BEGIN:VEVENT
DTSTART;TZID=Europe/Berlin:20211208T183000
DTEND;TZID=Europe/Berlin:20211208T193000
DTSTAMP:20260422T062403
CREATED:20211125T142002Z
LAST-MODIFIED:20211125T142414Z
UID:10000134-1638988200-1638991800@pg-noerdlingen.de
SUMMARY:Hochfest Mariä Empfängnis in St. Salvator
DESCRIPTION:
URL:https://pg-noerdlingen.de/veranstaltung/hochfest-mariae-empfaengnis/
END:VEVENT
BEGIN:VEVENT
DTSTART;TZID=Europe/Berlin:20211211T060000
DTEND;TZID=Europe/Berlin:20211211T070000
DTSTAMP:20260422T062403
CREATED:20211210T104530Z
LAST-MODIFIED:20211210T104530Z
UID:10000140-1639202400-1639206000@pg-noerdlingen.de
SUMMARY:Rorate-Messe in St. Salvator
DESCRIPTION:Rorate Messe in St. Salvator am 11.12.2021 um 6:00 Uhr. Die Heiligen Messen an den Werktagen werden in der Adventszeit in der Regel bei Kerzenschein gefeiert.
URL:https://pg-noerdlingen.de/veranstaltung/rorate-messe-in-st-salvator/
LOCATION:Pfarrkirche St. Salvator\, Salvatorgässchen 1\, Nördlingen\, 86720
END:VEVENT
BEGIN:VEVENT
DTSTART;TZID=Europe/Berlin:20211211T200000
DTEND;TZID=Europe/Berlin:20211211T220000
DTSTAMP:20260422T062403
CREATED:20211208T202509Z
LAST-MODIFIED:20211210T104400Z
UID:10000135-1639252800-1639260000@pg-noerdlingen.de
SUMMARY:Abend der Versöhnung
DESCRIPTION:Am Samstag\, den 11.12.2021 findet in St. Salvator wieder ein Abend der Versöhnung statt. Beginn ist um 20:00 Uhr mit einer kleinen Andacht\, Ende gegen 22:00 Uhr nach dem Komplet\, dem kirchlichen Nachtgebet. Es gibt an diesem Abend keinen festen Ablauf\, sodass Sie sich aussuchen können\, wann Sie kommen\, zu beten oder einfach der Musik zuzuhören. Zusätzlich gibt es die Möglichkeit vor dem Allerheiligsten eine Kerze anzuzünden\, eine Bibelstelle zu ziehen oder Gebetsanliegen aufzuschreiben. Den ganzen Abend stehen Priester zum Empfang der Beichte oder auch zu einem Gespräch bereit. Herzliche Einladung auch an Sie\, an diesem Abend (20-22 Uhr) in St. Salvator vorbeizuschauen.
URL:https://pg-noerdlingen.de/veranstaltung/abend-der-versoehnung-2/
LOCATION:Pfarrkirche St. Salvator\, Salvatorgässchen 1\, Nördlingen\, 86720
END:VEVENT
BEGIN:VEVENT
DTSTART;TZID=Europe/Berlin:20211212T103000
DTEND;TZID=Europe/Berlin:20211212T113000
DTSTAMP:20260422T062403
CREATED:20211014T073139Z
LAST-MODIFIED:20211210T104006Z
UID:10000001-1639305000-1639308600@pg-noerdlingen.de
SUMMARY:Kinderkirche Nördlingen - Kinderkirche Zuhause
DESCRIPTION:Ab dem 12.12. liegen die Überraschungstaschen in allen Pfarrkirchen der PG Nördlingen aus. Weitere Infos auch unter www.pg-noerdlingen.de/begegnen/kinderkirche
URL:https://pg-noerdlingen.de/veranstaltung/kinderkirche-noerdlingen-4/
LOCATION:Pfarrzentrum St. Salvator\, Nördlingen
END:VEVENT
BEGIN:VEVENT
DTSTART;TZID=Europe/Berlin:20211212T103000
DTEND;TZID=Europe/Berlin:20211212T120000
DTSTAMP:20260422T062403
CREATED:20211210T104317Z
LAST-MODIFIED:20211210T104317Z
UID:10000139-1639305000-1639310400@pg-noerdlingen.de
SUMMARY:60 Jahre Grundsteinlegung der Christkönigskirche
DESCRIPTION:Am Sonntag\, den 12.12.2021 feiert die Christkönigskirche in Fessenheim das 60-jährige Jubiläum ihre Grundsteinlegung. Der Festgottesdienst findet um 10:30 Uhr statt.
URL:https://pg-noerdlingen.de/veranstaltung/60-jahre-grundsteinlegung-der-christkoenigskirche/
LOCATION:Christkönig Fessenheim\, Raiffeisenstraße 2\, Wechingen\, 86759\, Deutschland
END:VEVENT
BEGIN:VEVENT
DTSTART;TZID=Europe/Berlin:20211217T200000
DTEND;TZID=Europe/Berlin:20211217T210000
DTSTAMP:20260422T062403
CREATED:20211014T072611Z
LAST-MODIFIED:20211014T072611Z
UID:10000004-1639771200-1639774800@pg-noerdlingen.de
SUMMARY:Taizé-Zeit in St. Josef
DESCRIPTION:
URL:https://pg-noerdlingen.de/veranstaltung/taize-zeit-in-st-josef-2/
LOCATION:Pfarrkirche St. Josef\, Kerschensteinerstraße 2\, Nördlingen\, 86720
END:VEVENT
BEGIN:VEVENT
DTSTART;TZID=Europe/Berlin:20211218T100000
DTEND;TZID=Europe/Berlin:20211218T160000
DTSTAMP:20260422T062403
CREATED:20211210T103534Z
LAST-MODIFIED:20211210T103534Z
UID:10000136-1639821600-1639843200@pg-noerdlingen.de
SUMMARY:Beichtgelegenheit in St. Salvator
DESCRIPTION:Am Samstag\, den 18.12.2021 von 10:00 Uhr bis 12:00 Uhr und von 16:00 Uhr bis 18:00 Uhr.
URL:https://pg-noerdlingen.de/veranstaltung/beichtgelegenheit-in-st-salvator/
LOCATION:Pfarrkirche St. Salvator\, Salvatorgässchen 1\, Nördlingen\, 86720
END:VEVENT
BEGIN:VEVENT
DTSTART;TZID=Europe/Berlin:20211218T200000
DTEND;TZID=Europe/Berlin:20211218T213000
DTSTAMP:20260422T062403
CREATED:20211014T072423Z
LAST-MODIFIED:20211014T072423Z
UID:10000006-1639857600-1639863000@pg-noerdlingen.de
SUMMARY:Holy Hour
DESCRIPTION:Im Altarraum von St. Salvator – für Jugendliche und junge Erwachsene.
URL:https://pg-noerdlingen.de/veranstaltung/holy-hour-6/
LOCATION:Pfarrkirche St. Salvator\, Salvatorgässchen 1\, Nördlingen\, 86720
END:VEVENT
BEGIN:VEVENT
DTSTART;VALUE=DATE:20211219
DTEND;VALUE=DATE:20211220
DTSTAMP:20260422T062403
CREATED:20211210T103828Z
LAST-MODIFIED:20211210T103828Z
UID:10000138-1639872000-1639958399@pg-noerdlingen.de
SUMMARY:Friedenslicht aus Bethlehem
DESCRIPTION:Unsere Pfadfinder vom DPSG-Stamm Nordilo bringen das Friedenslicht aus Bethlehem zur Vorabendmesse am Samstag\, 18.12.21 nach St. Josef. Ab Sonntag\, 19.12.2021 können Sie das Licht dann gerne von St. Salvator und St. Josef mit zu sich nach Hause nehmen.
URL:https://pg-noerdlingen.de/veranstaltung/friedenslicht-aus-bethlehem/
LOCATION:Pfarrkirche St. Josef\, Kerschensteinerstraße 2\, Nördlingen\, 86720
END:VEVENT
BEGIN:VEVENT
DTSTART;TZID=Europe/Berlin:20211219T070000
DTEND;TZID=Europe/Berlin:20211219T073000
DTSTAMP:20260422T062403
CREATED:20211210T103711Z
LAST-MODIFIED:20211210T103711Z
UID:10000137-1639897200-1639899000@pg-noerdlingen.de
SUMMARY:Rorate-Messe in Fessenheim
DESCRIPTION:Herzliche Einladung zur Rorate – Wortgottesdienst am 19.12.2021 um 7:00 Uhr.
URL:https://pg-noerdlingen.de/veranstaltung/rorate-messe-in-fessenheim/
LOCATION:Christkönig Fessenheim\, Raiffeisenstraße 2\, Wechingen\, 86759\, Deutschland
END:VEVENT
BEGIN:VEVENT
DTSTART;VALUE=DATE:20211231
DTEND;VALUE=DATE:20220101
DTSTAMP:20260422T062403
CREATED:20211229T090305Z
LAST-MODIFIED:20211229T090305Z
UID:10000146-1640908800-1640995199@pg-noerdlingen.de
SUMMARY:Gottesdienste zum Jahresschluss
DESCRIPTION:Gottesdienste zum Jahresschluss am 31.12.2021: \n\n16:00 Uhr Fessenheim\n16:00 Uhr Löpsingen\n16:00 Uhr Kleinerdlingen\n18:30 Uhr Deiningen\n18:30 Uhr St. Josef; anschl. Ewige Anbetung bis 24 Uhr; Eucharistischer Segen zum Jahreswechsel
URL:https://pg-noerdlingen.de/veranstaltung/gottesdienste-zum-jahresschluss/
END:VEVENT
END:VCALENDAR