BEGIN:VCALENDAR
VERSION:2.0
PRODID:-//Katholische Pfarreiengemeinschaft Nördlingen - ECPv6.15.20//NONSGML v1.0//EN
CALSCALE:GREGORIAN
METHOD:PUBLISH
X-WR-CALNAME:Katholische Pfarreiengemeinschaft Nördlingen
X-ORIGINAL-URL:https://pg-noerdlingen.de
X-WR-CALDESC:Veranstaltungen für Katholische Pfarreiengemeinschaft Nördlingen
REFRESH-INTERVAL;VALUE=DURATION:PT1H
X-Robots-Tag:noindex
X-PUBLISHED-TTL:PT1H
BEGIN:VTIMEZONE
TZID:Europe/Berlin
BEGIN:DAYLIGHT
TZOFFSETFROM:+0100
TZOFFSETTO:+0200
TZNAME:CEST
DTSTART:20220327T010000
END:DAYLIGHT
BEGIN:STANDARD
TZOFFSETFROM:+0200
TZOFFSETTO:+0100
TZNAME:CET
DTSTART:20221030T010000
END:STANDARD
BEGIN:DAYLIGHT
TZOFFSETFROM:+0100
TZOFFSETTO:+0200
TZNAME:CEST
DTSTART:20230326T010000
END:DAYLIGHT
BEGIN:STANDARD
TZOFFSETFROM:+0200
TZOFFSETTO:+0100
TZNAME:CET
DTSTART:20231029T010000
END:STANDARD
BEGIN:DAYLIGHT
TZOFFSETFROM:+0100
TZOFFSETTO:+0200
TZNAME:CEST
DTSTART:20240331T010000
END:DAYLIGHT
BEGIN:STANDARD
TZOFFSETFROM:+0200
TZOFFSETTO:+0100
TZNAME:CET
DTSTART:20241027T010000
END:STANDARD
END:VTIMEZONE
BEGIN:VEVENT
DTSTART;TZID=Europe/Berlin:20230608T090000
DTEND;TZID=Europe/Berlin:20230608T100000
DTSTAMP:20260422T200049
CREATED:20230426T150937Z
LAST-MODIFIED:20230426T150937Z
UID:10000367-1686214800-1686218400@pg-noerdlingen.de
SUMMARY:Fronleichnam in Deiningen
DESCRIPTION:Fronleichnam\n08. Juni 2023 – 9:00 Uhr – Deiningen: Heilige Messe; anschl. Fronleichnamsprozession\n08. Juni 2023 – 9:00 Uhr – St. Salvator: Heilige Messe; anschl. Fronleichnamsprozession\n08. Juni 2023 – 18:30 Uhr – Kleinerdlingen: Heilige Messe; anschl. Fronleichnamsprozession
URL:https://pg-noerdlingen.de/veranstaltung/fronleichnam-in-deiningen/
LOCATION:Pfarrkirche St. Martin\, St.-Martin-Str. 6\, Deiningen\, 86738
END:VEVENT
BEGIN:VEVENT
DTSTART;TZID=Europe/Berlin:20230608T090000
DTEND;TZID=Europe/Berlin:20230608T110000
DTSTAMP:20260422T200049
CREATED:20230426T151013Z
LAST-MODIFIED:20230426T151013Z
UID:10000368-1686214800-1686222000@pg-noerdlingen.de
SUMMARY:Fronleichnam in St. Salvator
DESCRIPTION:Fronleichnam\n08. Juni 2023 – 9:00 Uhr – Deiningen: Heilige Messe; anschl. Fronleichnamsprozession\n08. Juni 2023 – 9:00 Uhr – St. Salvator: Heilige Messe; anschl. Fronleichnamsprozession\n08. Juni 2023 – 18:30 Uhr – Kleinerdlingen: Heilige Messe; anschl. Fronleichnamsprozession
URL:https://pg-noerdlingen.de/veranstaltung/fronleichnam-in-st-salvator/
LOCATION:Pfarrkirche St. Salvator\, Salvatorgässchen 1\, Nördlingen\, 86720
END:VEVENT
BEGIN:VEVENT
DTSTART;TZID=Europe/Berlin:20230608T090000
DTEND;TZID=Europe/Berlin:20230608T110000
DTSTAMP:20260422T200049
CREATED:20230525T083956Z
LAST-MODIFIED:20230525T083956Z
UID:10000377-1686214800-1686222000@pg-noerdlingen.de
SUMMARY:Fronleichnam in Nördlingen
DESCRIPTION:Herzliche Einladung zu den Fronleichnamsprozessionen in der Pfarreiengemeinschaft Nördlingen. In Nördlingen feiern beide Pfarreien – St. Salvator und St. Josef – zusammen. Der Gottesdienst findet am 08.06.203 um 09.00 Uhr in St. Salvator statt. Anschließend findet die Prozession innerhalb der Stadtmauer statt. In Deiningen findet zeitgleich ebenso der Gottesdienst und im Anschluss die Prozession statt. Am Abend um 18.30 Uhr feiern wir in Kleinerdlingen das Fronleichnamsfest. Alle Gruppen\, Vereine\, Familien und Gläubige sind herzliche eingeladen mitzufeiern. Tragen Sie mit vielen anderen unseren Glauben nach außen!
URL:https://pg-noerdlingen.de/veranstaltung/fronleichnam-in-noerdlingen/
LOCATION:Pfarrkirche St. Salvator\, Salvatorgässchen 1\, Nördlingen\, 86720
END:VEVENT
BEGIN:VEVENT
DTSTART;TZID=Europe/Berlin:20230608T090000
DTEND;TZID=Europe/Berlin:20230608T110000
DTSTAMP:20260422T200049
CREATED:20230525T084030Z
LAST-MODIFIED:20230525T084030Z
UID:10000378-1686214800-1686222000@pg-noerdlingen.de
SUMMARY:Fronleichnam in Deiningen
DESCRIPTION:Herzliche Einladung zu den Fronleichnamsprozessionen in der Pfarreiengemeinschaft Nördlingen. In Nördlingen feiern beide Pfarreien – St. Salvator und St. Josef – zusammen. Der Gottesdienst findet am 08.06.203 um 09.00 Uhr in St. Salvator statt. Anschließend findet die Prozession innerhalb der Stadtmauer statt. In Deiningen findet zeitgleich ebenso der Gottesdienst und im Anschluss die Prozession statt. Am Abend um 18.30 Uhr feiern wir in Kleinerdlingen das Fronleichnamsfest. Alle Gruppen\, Vereine\, Familien und Gläubige sind herzliche eingeladen mitzufeiern. Tragen Sie mit vielen anderen unseren Glauben nach außen!
URL:https://pg-noerdlingen.de/veranstaltung/fronleichnam-in-deiningen-2/
LOCATION:Pfarrkirche St. Martin\, St.-Martin-Str. 6\, Deiningen\, 86738
END:VEVENT
BEGIN:VEVENT
DTSTART;TZID=Europe/Berlin:20230608T183000
DTEND;TZID=Europe/Berlin:20230608T200000
DTSTAMP:20260422T200049
CREATED:20230426T151056Z
LAST-MODIFIED:20230426T151056Z
UID:10000369-1686249000-1686254400@pg-noerdlingen.de
SUMMARY:Fronleichnam in Kleinerdlingen
DESCRIPTION:Fronleichnam\n08. Juni 2023 – 9:00 Uhr – Deiningen: Heilige Messe; anschl. Fronleichnamsprozession\n08. Juni 2023 – 9:00 Uhr – St. Salvator: Heilige Messe; anschl. Fronleichnamsprozession\n08. Juni 2023 – 18:30 Uhr – Kleinerdlingen: Heilige Messe; anschl. Fronleichnamsprozession
URL:https://pg-noerdlingen.de/veranstaltung/fronleichnam-in-kleinerdlingen/
LOCATION:Pfarrkirche St. Joh. Baptist\, Kleinerdlingen\, Erninger Str. 41\, Nördlingen\, 86720
END:VEVENT
BEGIN:VEVENT
DTSTART;TZID=Europe/Berlin:20230608T183000
DTEND;TZID=Europe/Berlin:20230608T200000
DTSTAMP:20260422T200049
CREATED:20230525T084102Z
LAST-MODIFIED:20230525T084102Z
UID:10000379-1686249000-1686254400@pg-noerdlingen.de
SUMMARY:Fronleichnam in Kleinerdlingen
DESCRIPTION:Herzliche Einladung zu den Fronleichnamsprozessionen in der Pfarreiengemeinschaft Nördlingen. In Nördlingen feiern beide Pfarreien – St. Salvator und St. Josef – zusammen. Der Gottesdienst findet am 08.06.203 um 09.00 Uhr in St. Salvator statt. Anschließend findet die Prozession innerhalb der Stadtmauer statt. In Deiningen findet zeitgleich ebenso der Gottesdienst und im Anschluss die Prozession statt. Am Abend um 18.30 Uhr feiern wir in Kleinerdlingen das Fronleichnamsfest. Alle Gruppen\, Vereine\, Familien und Gläubige sind herzliche eingeladen mitzufeiern. Tragen Sie mit vielen anderen unseren Glauben nach außen!
URL:https://pg-noerdlingen.de/veranstaltung/fronleichnam-in-kleinerdlingen-2/
LOCATION:Pfarrkirche St. Joh. Baptist\, Kleinerdlingen\, Erninger Str. 41\, Nördlingen\, 86720
END:VEVENT
BEGIN:VEVENT
DTSTART;TZID=Europe/Berlin:20230616T170000
DTEND;TZID=Europe/Berlin:20230616T180000
DTSTAMP:20260422T200049
CREATED:20230317T164651Z
LAST-MODIFIED:20230317T164651Z
UID:10000198-1686934800-1686938400@pg-noerdlingen.de
SUMMARY:Ökumenisches Friedensgebet
DESCRIPTION:Unsere Friedensgebetstermine sind: \n\n03.März\n10.März\n17.März\n24.März\n31.März\n\nwährend der Passionszeit in der Spitalkirche \nsowie \n\n14.April\n05.Mai\n16.Juni\n07.Juli\n\nalle in St. Georg\, Nördlingen \nDas ökumenische Friedensgebetsteam Nördlingen
URL:https://pg-noerdlingen.de/veranstaltung/oekumenisches-friedensgebet-6/
LOCATION:Pfarrkirche St. Georg\, Marktpl. 10\, Nördlingen\, 86720
END:VEVENT
BEGIN:VEVENT
DTSTART;TZID=Europe/Berlin:20230618T103000
DTEND;TZID=Europe/Berlin:20230618T120000
DTSTAMP:20260422T200049
CREATED:20230608T100248Z
LAST-MODIFIED:20230608T100248Z
UID:10000380-1687084200-1687089600@pg-noerdlingen.de
SUMMARY:Firmung PG Nördlingen
DESCRIPTION:Am Sonntag\, 18. Juni 2023 wird Abt Emmeram Kränkl unserer Pfarreiengemeinschaft die Firmung spenden.
URL:https://pg-noerdlingen.de/veranstaltung/firmung-pg-noerdlingen/
LOCATION:Pfarrkirche St. Salvator\, Salvatorgässchen 1\, Nördlingen\, 86720
END:VEVENT
BEGIN:VEVENT
DTSTART;TZID=Europe/Berlin:20230618T183000
DTEND;TZID=Europe/Berlin:20230618T193000
DTSTAMP:20260422T200049
CREATED:20230504T095227Z
LAST-MODIFIED:20230504T095227Z
UID:10000374-1687113000-1687116600@pg-noerdlingen.de
SUMMARY:Eröffnung Ausstellung Carlo Acutis - Teil 2
DESCRIPTION:Ausstellung „Die Eucharistische Wunder in der Welt von Carlo Acutis“ in St. Josef in Nördlingen\, Teil 2 vom 18.06. bis 02.07.23 und Vortrag von Pfarrer Tobias Brantl\, zur Ausstellung „Die Eucharistischen Wunder in der Welt von Carlo Acutis“ im Pfarrsaal St. Josef am 25.06.2023 um 18:oo Uhr\nIm November letzten Jahres fand in der Pfarrkirche St. Josef der Arbeiter in Nördlingen der erste Teil der internationalen Ausstellung über „Die Eucharistischen Wunder in der Welt von Carlo Acutis“ statt. Initiiert wurde das Konzept dieser Ausstellung durch Carlo Acutis\, einem Menschen\, der schon in ganz jungen Jahren das Sakrament der Eucharistie zum Mittelpunkt seines Lebens machte. Bereits mit 11 Jahren begann er\, Erzählungen von eucharistischen Wundern zu sammeln und im Internet zu veröffentlichen. Leider erkrankte er als Jugendlicher und verstarb bereits 2006 mit 15 Jahren an Leukämie. Schon im Jahre 2020 wurde Carlo selig gesprochen; sein Grab ist in Assisi. \nSeit 2002 plante Carlo Acutis eine Ausstellung zu bekannten und wenig bekannten eucharistischen Wundern. Das Konzept wurde auf Drängen vieler Priester weiterentwickelt\, ist doch die Realpräsenz Jesu in der Eucharistie eine Kernaussage des katholischen Glaubens. Die Ausstellung war mittlerweile schon in tausenden Pfarreien auf allen fünf Kontinenten zu Gast. \nSchon der erste Teil der Ausstellung im November letzten Jahres in St. Josef überraschte und begeisterte viele Besucher durch viele erstaunliche und belegte Wunder zum Thema\, die auf großen Rollups den Besuchern übersichtlich und ansprechend in das Thema führen. Im Juni diesen Jahres nun werden mit dem zweiten Teil der Ausstellung 24 weitere eucharistische Wunder vorgestellt. \nAusgestellt ist auch das eucharistische Wunder von Nördlingen aus dem Jahr 1381. Bei der Ausgabe der Sterbesakramente in einem Privathaus kam es zu einem Unglück\, bei dem eine Hostie verloren ging\, die aber später nach einem Brand aus der Asche unversehrt geborgen werden konnte. Zur Erinnerung wurde dort eine Kapelle errichtet\, die später die Keimzelle für ein Kloster und unsere Salvatorkirche war. \nDie Ausstellung in St. Josef der Arbeiter in Nördlingen dauert vom 18. Juni bis 02.07.23. Der Eintritt ist frei\, die Kirche St. Josef ist täglich geöffnet von 9:oo bis 18.oo Uhr. \nErgänzend zur Ausstellung kommt ein ausgewiesener Experte\, Pfarrer Tobias Brantl\, der aus Ehingen am Ries stammt und bereits im vergangenen Jahr die Ausstellung eröffnete. Nun kommt er nochmals nach Nördlingen für einen Vortrag\, um die Welt von Carlo Acutis und seine Faszination für eucharistische Wunder näher aus zu leuchten. Der Vortrag ist am Sonntag\, 25.06.23 im Pfarrsaal in St. Josef in Nördlingen\, Beginn 18 Uhr. Herzliche Einladung an Alle.
URL:https://pg-noerdlingen.de/veranstaltung/eroeffnung-ausstellung-carlo-acutis-teil-2/
LOCATION:Pfarrkirche St. Josef\, Kerschensteinerstraße 2\, Nördlingen\, 86720
END:VEVENT
BEGIN:VEVENT
DTSTART;TZID=Europe/Berlin:20230625T103000
DTEND;TZID=Europe/Berlin:20230625T113000
DTSTAMP:20260422T200049
CREATED:20230426T151321Z
LAST-MODIFIED:20230426T151321Z
UID:10000372-1687689000-1687692600@pg-noerdlingen.de
SUMMARY:Kinderkirche in St. Salvator
DESCRIPTION:
URL:https://pg-noerdlingen.de/veranstaltung/kinderkirche-in-st-salvator-3/
LOCATION:Pfarrkirche St. Salvator\, Salvatorgässchen 1\, Nördlingen\, 86720
END:VEVENT
BEGIN:VEVENT
DTSTART;TZID=Europe/Berlin:20230625T140000
DTEND;TZID=Europe/Berlin:20230625T170000
DTSTAMP:20260422T200049
CREATED:20230616T090011Z
LAST-MODIFIED:20230616T090011Z
UID:10000381-1687701600-1687712400@pg-noerdlingen.de
SUMMARY:Tag der offenen Tür Kita St. Johannes
DESCRIPTION:
URL:https://pg-noerdlingen.de/veranstaltung/tag-der-offenen-tuer-kita-st-johannes/
LOCATION:Kita St. Johannes\, Erningerstraße 41\, Kleinerdlingen\, 86720
END:VEVENT
BEGIN:VEVENT
DTSTART;TZID=Europe/Berlin:20230625T180000
DTEND;TZID=Europe/Berlin:20230625T193000
DTSTAMP:20260422T200049
CREATED:20230504T095342Z
LAST-MODIFIED:20230504T095342Z
UID:10000375-1687716000-1687721400@pg-noerdlingen.de
SUMMARY:Vortrag Pfarrer Tobias Brantl zur Ausstellung Carlo Acutis
DESCRIPTION:Ausstellung „Die Eucharistische Wunder in der Welt von Carlo Acutis“ in St. Josef in Nördlingen\, Teil 2 vom 18.06. bis 02.07.23 und Vortrag von Pfarrer Tobias Brantl\, zur Ausstellung „Die Eucharistischen Wunder in der Welt von Carlo Acutis“ im Pfarrsaal St. Josef am 25.06.2023 um 18:oo Uhr\nIm November letzten Jahres fand in der Pfarrkirche St. Josef der Arbeiter in Nördlingen der erste Teil der internationalen Ausstellung über „Die Eucharistischen Wunder in der Welt von Carlo Acutis“ statt. Initiiert wurde das Konzept dieser Ausstellung durch Carlo Acutis\, einem Menschen\, der schon in ganz jungen Jahren das Sakrament der Eucharistie zum Mittelpunkt seines Lebens machte. Bereits mit 11 Jahren begann er\, Erzählungen von eucharistischen Wundern zu sammeln und im Internet zu veröffentlichen. Leider erkrankte er als Jugendlicher und verstarb bereits 2006 mit 15 Jahren an Leukämie. Schon im Jahre 2020 wurde Carlo selig gesprochen; sein Grab ist in Assisi. \nSeit 2002 plante Carlo Acutis eine Ausstellung zu bekannten und wenig bekannten eucharistischen Wundern. Das Konzept wurde auf Drängen vieler Priester weiterentwickelt\, ist doch die Realpräsenz Jesu in der Eucharistie eine Kernaussage des katholischen Glaubens. Die Ausstellung war mittlerweile schon in tausenden Pfarreien auf allen fünf Kontinenten zu Gast. \nSchon der erste Teil der Ausstellung im November letzten Jahres in St. Josef überraschte und begeisterte viele Besucher durch viele erstaunliche und belegte Wunder zum Thema\, die auf großen Rollups den Besuchern übersichtlich und ansprechend in das Thema führen. Im Juni diesen Jahres nun werden mit dem zweiten Teil der Ausstellung 24 weitere eucharistische Wunder vorgestellt. \nAusgestellt ist auch das eucharistische Wunder von Nördlingen aus dem Jahr 1381. Bei der Ausgabe der Sterbesakramente in einem Privathaus kam es zu einem Unglück\, bei dem eine Hostie verloren ging\, die aber später nach einem Brand aus der Asche unversehrt geborgen werden konnte. Zur Erinnerung wurde dort eine Kapelle errichtet\, die später die Keimzelle für ein Kloster und unsere Salvatorkirche war. \nDie Ausstellung in St. Josef der Arbeiter in Nördlingen dauert vom 18. Juni bis 02.07.23. Der Eintritt ist frei\, die Kirche St. Josef ist täglich geöffnet von 9:oo bis 18.oo Uhr. \nErgänzend zur Ausstellung kommt ein ausgewiesener Experte\, Pfarrer Tobias Brantl\, der aus Ehingen am Ries stammt und bereits im vergangenen Jahr die Ausstellung eröffnete. Nun kommt er nochmals nach Nördlingen für einen Vortrag\, um die Welt von Carlo Acutis und seine Faszination für eucharistische Wunder näher aus zu leuchten. Der Vortrag ist am Sonntag\, 25.06.23 im Pfarrsaal in St. Josef in Nördlingen\, Beginn 18 Uhr. Herzliche Einladung an Alle.
URL:https://pg-noerdlingen.de/veranstaltung/vortrag-pfarrer-tobias-brantl-zur-ausstellung-carlo-acutis/
LOCATION:Pfarrheim St. Josef\, Kerschensteinerstr. 2\, Nördlingen\, 86720
END:VEVENT
BEGIN:VEVENT
DTSTART;TZID=Europe/Berlin:20230627T170000
DTEND;TZID=Europe/Berlin:20230627T183000
DTSTAMP:20260422T200049
CREATED:20230504T095713Z
LAST-MODIFIED:20230504T095713Z
UID:10000376-1687885200-1687890600@pg-noerdlingen.de
SUMMARY:Vortrag Sr. Steiner zum Volto Santo in St. Josef
DESCRIPTION:Vortrag von Schwester Petra-Maria Steiner zum Volto Santo von Manoppello am 27.06.2023 im Pfarrsaal St. Josef in Nördlingen um 17:oo Uhr\nNoch nicht allgemein bekannt\, doch von ungeheurer Ausstrahlung und Bedeutung ist das sogenannte „Volto Santo“ von Manoppello\, einem kleinen Ort in den italienischen Abruzzen. Übersetzt bedeutet Volto Santo „heiliges Gesicht“. Es handelt sich dabei um ein kleines Tuch aus Muschelseide\, auch Bysuss genannt\, dem wohl seltensten und kostbarsten Stoff der Antike und manchmal als „gesponnenes Gold“ benannt. Darauf zu sehen ist ein verletztes Gesicht. Es ist wohl das Gesicht Jesus Christus\, das Ihn in seiner ganzen verwundeten Menschlichkeit und gepeinigt durch die Kreuzigung zeigt. Erstaunlich\, das Gesicht ist deckungsgleich zum Turiner Grabtuch. Im Unterschied zum Turiner Tuch sind Seine Augen jedoch geöffnet. Es entstand wohl im Moment seiner Auferstehung\, seines Sieges über den Tod und Sünde. Papst Benedikt war tief beeindruckt davon bei seinem Besuch in Manoppello. Die Wissenschaft kann nicht erklären\, wie das Gesicht auf das Tuch kam\, denn Muschelseide ist nicht permeabel\, das heißt es nimmt keine Farbe auf. \nDie Ikonographie Jesu\, seine Darstellung auf Ikonen und in christlicher Kunst\, hat seine Begründung sehr wahrscheinlich im Volto Santo von Manoppello. Es ist die „Vera Icona“\, das wahre Gesicht Jesu\, um das die Legende der Veronika entstanden sein soll. \nPassend zur Ausstellung „Die eucharistischen Wunder in der Welt von Carlo Acutis“ hält Schwester Petra-Maria Steiner\, die während der Sommermonate in Manoppello lebt\, am 27.06.23 in St. Josef der Arbeiter in Nördlingen einen vertiefenden Vortag zum Volto Santo\, um in die Geheimnisse dieses außergewöhnlichen Tuches einzuführen. Passend deshalb zur Acutis-Ausstellung\, da wie Gott in der Eucharistie zu schauen ist\, Er es eben auch in diesem Tuch ist. Beginn 17:oo Uhr am 27.06.2023 im Pfarrsaal St. Josef in Nördlingen. Herzliche Einladung an Alle zu diesem spannenden Vortrag.
URL:https://pg-noerdlingen.de/veranstaltung/vortrag-sr-steiner-zum-volto-santo-in-st-josef/
LOCATION:Pfarrheim St. Josef\, Kerschensteinerstr. 2\, Nördlingen\, 86720
END:VEVENT
BEGIN:VEVENT
DTSTART;TZID=Europe/Berlin:20230630T200000
DTEND;TZID=Europe/Berlin:20230630T210000
DTSTAMP:20260422T200049
CREATED:20230303T085100Z
LAST-MODIFIED:20230303T085100Z
UID:10000341-1688155200-1688158800@pg-noerdlingen.de
SUMMARY:Taizé-Zeit in St. Josef
DESCRIPTION:Am Freitag\, 30. Juni laden wir um 20:00 Uhr wieder zum Taizé-Gebet nach St. Josef in die Kapelle ein.
URL:https://pg-noerdlingen.de/veranstaltung/taize-zeit-in-st-josef-10/
LOCATION:Pfarrkirche St. Josef\, Kerschensteinerstraße 2\, Nördlingen\, 86720
END:VEVENT
END:VCALENDAR