BEGIN:VCALENDAR
VERSION:2.0
PRODID:-//Katholische Pfarreiengemeinschaft Nördlingen - ECPv6.15.20//NONSGML v1.0//EN
CALSCALE:GREGORIAN
METHOD:PUBLISH
X-ORIGINAL-URL:https://pg-noerdlingen.de
X-WR-CALDESC:Veranstaltungen für Katholische Pfarreiengemeinschaft Nördlingen
REFRESH-INTERVAL;VALUE=DURATION:PT1H
X-Robots-Tag:noindex
X-PUBLISHED-TTL:PT1H
BEGIN:VTIMEZONE
TZID:Europe/Berlin
BEGIN:DAYLIGHT
TZOFFSETFROM:+0100
TZOFFSETTO:+0200
TZNAME:CEST
DTSTART:20220327T010000
END:DAYLIGHT
BEGIN:STANDARD
TZOFFSETFROM:+0200
TZOFFSETTO:+0100
TZNAME:CET
DTSTART:20221030T010000
END:STANDARD
BEGIN:DAYLIGHT
TZOFFSETFROM:+0100
TZOFFSETTO:+0200
TZNAME:CEST
DTSTART:20230326T010000
END:DAYLIGHT
BEGIN:STANDARD
TZOFFSETFROM:+0200
TZOFFSETTO:+0100
TZNAME:CET
DTSTART:20231029T010000
END:STANDARD
BEGIN:DAYLIGHT
TZOFFSETFROM:+0100
TZOFFSETTO:+0200
TZNAME:CEST
DTSTART:20240331T010000
END:DAYLIGHT
BEGIN:STANDARD
TZOFFSETFROM:+0200
TZOFFSETTO:+0100
TZNAME:CET
DTSTART:20241027T010000
END:STANDARD
END:VTIMEZONE
BEGIN:VEVENT
DTSTART;TZID=Europe/Berlin:20230702T103000
DTEND;TZID=Europe/Berlin:20230702T150000
DTSTAMP:20260424T120335
CREATED:20230627T083033Z
LAST-MODIFIED:20230627T083304Z
UID:10000220-1688293800-1688310000@pg-noerdlingen.de
SUMMARY:Pfarrfest St. Josef
DESCRIPTION:Herzliche Einladung zum Pfarrfest St. Josef – am Sonntag\, 02.072023 nach dem Sonntagsgottesdienst direkt vor der Kirche St. Josef.
URL:https://pg-noerdlingen.de/veranstaltung/pfarrfest-st-josef/
LOCATION:Pfarrkirche St. Josef\, Kerschensteinerstraße 2\, Nördlingen\, 86720
ATTACH;FMTTYPE=image/jpeg:https://pg-noerdlingen.de/wp-content/uploads/2022/07/DSC_0458-scaled.jpg
END:VEVENT
BEGIN:VEVENT
DTSTART;TZID=Europe/Berlin:20230706T100000
DTEND;TZID=Europe/Berlin:20230706T170000
DTSTAMP:20260424T120335
CREATED:20230627T084020Z
LAST-MODIFIED:20230627T084020Z
UID:10000222-1688637600-1688662800@pg-noerdlingen.de
SUMMARY:Stadtranderholung - Talmulde/Neuburg
DESCRIPTION:In diesem Jahr organisiert das Altenwerk St. Josef einige Programmpunkte im Rahmen der bekannten „Stadtranderholung“. Die Stadtranderholung richtet sich an alle Interessierten und führt insbesondere an Orte\, die in naher Umgebung liegen und dennoch voller Erholung sind und neue Blickwinkel bieten. \nAm 6.Juli findet eine Fahrt zur Wallfahrtskirche in der Talmulde in Bergen bei Neuburg/Donau statt. Danach ist noch Einkehr im Klosterbräu. \nAm 11. Juli Besuch des Drehorgelmuseums in Waldeck 33 b\, Dinkelsbühl. Einkehr im Goldenen Rössle in Sinbronn. \nDer letzte Ausflug am 14. Juli ist traditionell in der Alten Bürg. Beginn ist um 14:00 Uhr. \nWeitere Informationen und Anmeldungsdetails erhalten Sie bei Frieda Drescher\, Tel.: 09081/3318.\nDas Essen bezahlt jeder Teilnehmer selbst.\nDie Eintrittsgelder werden vom Veranstalter übernommen.
URL:https://pg-noerdlingen.de/veranstaltung/stadtranderholung-talmulde-neuburg/
END:VEVENT
BEGIN:VEVENT
DTSTART;TZID=Europe/Berlin:20230707T170000
DTEND;TZID=Europe/Berlin:20230707T180000
DTSTAMP:20260424T120335
CREATED:20230317T164729Z
LAST-MODIFIED:20230317T164729Z
UID:10000200-1688749200-1688752800@pg-noerdlingen.de
SUMMARY:Ökumenisches Friedensgebet
DESCRIPTION:Unsere Friedensgebetstermine sind: \n\n03.März\n10.März\n17.März\n24.März\n31.März\n\nwährend der Passionszeit in der Spitalkirche \nsowie \n\n14.April\n05.Mai\n16.Juni\n07.Juli\n\nalle in St. Georg\, Nördlingen \nDas ökumenische Friedensgebetsteam Nördlingen
URL:https://pg-noerdlingen.de/veranstaltung/oekumenisches-friedensgebet-7/
LOCATION:Pfarrkirche St. Georg\, Marktpl. 10\, Nördlingen\, 86720
END:VEVENT
BEGIN:VEVENT
DTSTART;TZID=Europe/Berlin:20230711T100000
DTEND;TZID=Europe/Berlin:20230711T170000
DTSTAMP:20260424T120335
CREATED:20230627T084100Z
LAST-MODIFIED:20230627T084100Z
UID:10000224-1689069600-1689094800@pg-noerdlingen.de
SUMMARY:Stadtranderholung - Drehorgelmuseum/Dinkelsbühl
DESCRIPTION:In diesem Jahr organisiert das Altenwerk St. Josef einige Programmpunkte im Rahmen der bekannten „Stadtranderholung“. Die Stadtranderholung richtet sich an alle Interessierten und führt insbesondere an Orte\, die in naher Umgebung liegen und dennoch voller Erholung sind und neue Blickwinkel bieten. \nAm 6.Juli findet eine Fahrt zur Wallfahrtskirche in der Talmulde in Bergen bei Neuburg/Donau statt. Danach ist noch Einkehr im Klosterbräu. \nAm 11. Juli Besuch des Drehorgelmuseums in Waldeck 33 b\, Dinkelsbühl. Einkehr im Goldenen Rössle in Sinbronn. \nDer letzte Ausflug am 14. Juli ist traditionell in der Alten Bürg. Beginn ist um 14:00 Uhr. \nWeitere Informationen und Anmeldungsdetails erhalten Sie bei Frieda Drescher\, Tel.: 09081/3318.\nDas Essen bezahlt jeder Teilnehmer selbst.\nDie Eintrittsgelder werden vom Veranstalter übernommen.
URL:https://pg-noerdlingen.de/veranstaltung/stadtranderholung-drehorgelmuseum-dinkelsbuehl/
END:VEVENT
BEGIN:VEVENT
DTSTART;TZID=Europe/Berlin:20230714T140000
DTEND;TZID=Europe/Berlin:20230714T170000
DTSTAMP:20260424T120335
CREATED:20230627T084150Z
LAST-MODIFIED:20230627T084150Z
UID:10000225-1689343200-1689354000@pg-noerdlingen.de
SUMMARY:Stadtranderholung - Alte Bürg
DESCRIPTION:In diesem Jahr organisiert das Altenwerk St. Josef einige Programmpunkte im Rahmen der bekannten „Stadtranderholung“. Die Stadtranderholung richtet sich an alle Interessierten und führt insbesondere an Orte\, die in naher Umgebung liegen und dennoch voller Erholung sind und neue Blickwinkel bieten. \nAm 6.Juli findet eine Fahrt zur Wallfahrtskirche in der Talmulde in Bergen bei Neuburg/Donau statt. Danach ist noch Einkehr im Klosterbräu. \nAm 11. Juli Besuch des Drehorgelmuseums in Waldeck 33 b\, Dinkelsbühl. Einkehr im Goldenen Rössle in Sinbronn. \nDer letzte Ausflug am 14. Juli ist traditionell in der Alten Bürg. Beginn ist um 14:00 Uhr. \nWeitere Informationen und Anmeldungsdetails erhalten Sie bei Frieda Drescher\, Tel.: 09081/3318.\nDas Essen bezahlt jeder Teilnehmer selbst.\nDie Eintrittsgelder werden vom Veranstalter übernommen.
URL:https://pg-noerdlingen.de/veranstaltung/stadtranderholung-alte-buerg/
END:VEVENT
BEGIN:VEVENT
DTSTART;TZID=Europe/Berlin:20230716T090000
DTEND;TZID=Europe/Berlin:20230716T110000
DTSTAMP:20260424T120335
CREATED:20230707T153317Z
LAST-MODIFIED:20230707T153317Z
UID:10000227-1689498000-1689505200@pg-noerdlingen.de
SUMMARY:Fahrzeugsegnung Fessenheim
DESCRIPTION:Auch in diesem werden alle Ein-\, Zwei-\, Drei- und Vierrädrigen Fahrzeuge und Vehikel gesegnet. Die diesjährigen Fahrzeugsegnungen in der Pfarreiengemeinschaft Nördlingen finden am Ende folgender Gottesdienste statt: \n16. Juli 2023 um 09:00 Uhr in Christkönig\, Fessenheim\n13. August 2023 um 10:30 in St. Salvator (Wegen der Verkehrssituation werden Fahrräder\, Bobbycars und Plaketten für die Autos gesegnet).\n13. August 2023 um 09:00 Uhr in St. Josef\n23. September 2023 um 18.00 Uhr in St. Pius Löpsingen \n 
URL:https://pg-noerdlingen.de/veranstaltung/fahrzeugsegnung-fessenheim/
LOCATION:Christkönig Fessenheim\, Raiffeisenstraße 2\, Wechingen\, 86759\, Deutschland
END:VEVENT
BEGIN:VEVENT
DTSTART;TZID=Europe/Berlin:20230716T103000
DTEND;TZID=Europe/Berlin:20230716T113000
DTSTAMP:20260424T120335
CREATED:20230426T151408Z
LAST-MODIFIED:20230426T151408Z
UID:10000373-1689503400-1689507000@pg-noerdlingen.de
SUMMARY:Kinderkirche in St. Salvator
DESCRIPTION:
URL:https://pg-noerdlingen.de/veranstaltung/kinderkirche-in-st-salvator-4/
LOCATION:Pfarrkirche St. Salvator\, Salvatorgässchen 1\, Nördlingen\, 86720
END:VEVENT
BEGIN:VEVENT
DTSTART;TZID=Europe/Berlin:20230721T200000
DTEND;TZID=Europe/Berlin:20230721T210000
DTSTAMP:20260424T120335
CREATED:20230303T085149Z
LAST-MODIFIED:20230303T085149Z
UID:10000342-1689969600-1689973200@pg-noerdlingen.de
SUMMARY:Taizé-Zeit in St. Josef
DESCRIPTION:Am Freitag\, 21. Juli laden wir um 20:00 Uhr wieder zum Taizé-Gebet nach St. Josef in die Kapelle ein.
URL:https://pg-noerdlingen.de/veranstaltung/taize-zeit-in-st-josef-11/
LOCATION:Pfarrkirche St. Josef\, Kerschensteinerstraße 2\, Nördlingen\, 86720
END:VEVENT
BEGIN:VEVENT
DTSTART;TZID=Europe/Berlin:20230723T090000
DTEND;TZID=Europe/Berlin:20230723T120000
DTSTAMP:20260424T120335
CREATED:20230707T152649Z
LAST-MODIFIED:20230707T152649Z
UID:10000226-1690102800-1690113600@pg-noerdlingen.de
SUMMARY:Annafest in Herkheim
DESCRIPTION:Am Sonntag\, den 23. Juli 2023 findet auch das Annafest statt. Wir beginnen um 09:00 Uhr mit einer Heiligen Messe.
URL:https://pg-noerdlingen.de/veranstaltung/annafest-in-herkheim/
END:VEVENT
BEGIN:VEVENT
DTSTART;TZID=Europe/Berlin:20230723T103000
DTEND;TZID=Europe/Berlin:20230723T160000
DTSTAMP:20260424T120335
CREATED:20230707T154349Z
LAST-MODIFIED:20230707T154349Z
UID:10000382-1690108200-1690128000@pg-noerdlingen.de
SUMMARY:Verabschiedung Kaplan Massinger & Pfarrfest in St. Salvator
DESCRIPTION:Das Pfarrfest von St. Salvator ist nach dem gemeinsamen Gottesdienst der Pfarreiengemeinschaft am Sonntag\, 23. Juli 2023. In der Heiligen Messe um 10:30 Uhr werden wir auch unseren Kaplan Jürgen Massinger verabschieden. Kaplan Massinger hat sich in den vergangenen Jahren mit Kreativität und Humor für die Glaubensweitergabe in Nördlingen eingesetzt. Ihm an dieser Stelle schon einmal ein herzliches „Vergelt ́s Gott“! \nHerzliche Einladung zum Mittagessen\, Kaffee und Kuchen.
URL:https://pg-noerdlingen.de/veranstaltung/verabschiedung-kaplan-massinger-pfarrfest-in-st-salvator/
LOCATION:Pfarrzentrum St. Salvator\, Nördlingen
END:VEVENT
BEGIN:VEVENT
DTSTART;TZID=Europe/Berlin:20230723T163000
DTEND;TZID=Europe/Berlin:20230723T180000
DTSTAMP:20260424T120335
CREATED:20230707T154207Z
LAST-MODIFIED:20230707T154207Z
UID:10000231-1690129800-1690135200@pg-noerdlingen.de
SUMMARY:Jubiläumskonzert Bachtrompeten & Choro D'arte in St. Salvator
DESCRIPTION:Zum Abschluss des Pfarrfestes\, am Sonntag\, 23. Juli laden wir um 16:30 Uhr herzlich zu einem besonderen Konzert in die St. Salvatorkirche ein. \nZusammen mit dem Choro d’arte aus Augsburg\, der heuer sein 30 – jähriges Bestehen feiert\, bietet das Nördlinger Bachtrompeten-Ensemble den Besuchern ein abwechslungsreiches Programm aus Chor – und Instrumentalmusik. \nDer Eintritt ist frei. Spenden sind herzlich willkommen.
URL:https://pg-noerdlingen.de/veranstaltung/jubilaeumskonzert-bachtrompeten-choro-darte-in-st-salvator/
LOCATION:Pfarrkirche St. Salvator\, Salvatorgässchen 1\, Nördlingen\, 86720
END:VEVENT
END:VCALENDAR