BEGIN:VCALENDAR
VERSION:2.0
PRODID:-//Katholische Pfarreiengemeinschaft Nördlingen - ECPv6.15.20//NONSGML v1.0//EN
CALSCALE:GREGORIAN
METHOD:PUBLISH
X-ORIGINAL-URL:https://pg-noerdlingen.de
X-WR-CALDESC:Veranstaltungen für Katholische Pfarreiengemeinschaft Nördlingen
REFRESH-INTERVAL;VALUE=DURATION:PT1H
X-Robots-Tag:noindex
X-PUBLISHED-TTL:PT1H
BEGIN:VTIMEZONE
TZID:Europe/Berlin
BEGIN:DAYLIGHT
TZOFFSETFROM:+0100
TZOFFSETTO:+0200
TZNAME:CEST
DTSTART:20220327T010000
END:DAYLIGHT
BEGIN:STANDARD
TZOFFSETFROM:+0200
TZOFFSETTO:+0100
TZNAME:CET
DTSTART:20221030T010000
END:STANDARD
BEGIN:DAYLIGHT
TZOFFSETFROM:+0100
TZOFFSETTO:+0200
TZNAME:CEST
DTSTART:20230326T010000
END:DAYLIGHT
BEGIN:STANDARD
TZOFFSETFROM:+0200
TZOFFSETTO:+0100
TZNAME:CET
DTSTART:20231029T010000
END:STANDARD
BEGIN:DAYLIGHT
TZOFFSETFROM:+0100
TZOFFSETTO:+0200
TZNAME:CEST
DTSTART:20240331T010000
END:DAYLIGHT
BEGIN:STANDARD
TZOFFSETFROM:+0200
TZOFFSETTO:+0100
TZNAME:CET
DTSTART:20241027T010000
END:STANDARD
END:VTIMEZONE
BEGIN:VEVENT
DTSTART;TZID=Europe/Berlin:20230916T090000
DTEND;TZID=Europe/Berlin:20230916T200000
DTSTAMP:20260422T180350
CREATED:20230725T115957Z
LAST-MODIFIED:20230725T115957Z
UID:10000384-1694854800-1694894400@pg-noerdlingen.de
SUMMARY:Ewige Anbetung in der PG Nördlingen
DESCRIPTION:Wir laden Sie herzlich zur Ewigen Anbetung am Samstag\, 16. September 2023 in der ganzen Pfarreiengemeinschaft ein. Wer könnte sich vorstellen – alleine\, zu zweit oder als Gruppe – eine Stunde zu übernehmen? Bitte bis Anfang September im Pfarrbüro melden! Nur Stunden\, für die sich jemand gemeldet hat\, können stattfinden und werden im Gottesdienstanzeiger veröffentlicht. \nVorschlag für die einzelnen Stunden: \n\nSt. Salvator\, Nördlingen 09-10 Uhr\nSt. Michael\, Holheim 12-13 Uhr\nSt. Anna\, Herkheim 13-14 Uhr\nSt. Josef\, Nördlingen 14-16 Uhr (14-15 Uhr: Andacht anlässlich des Marsches für das Leben in Berlin)\nSt. Martin\, Deiningen 16-17 Uhr\nSt. Joh. Bapt.\, Kleinerdlingen 17-18 Uhr\nSt. Pius\, Löpsingen 19-20 Uhr
URL:https://pg-noerdlingen.de/veranstaltung/ewige-anbetung-in-der-pg-noerdlingen/
END:VEVENT
BEGIN:VEVENT
DTSTART;TZID=Europe/Berlin:20230916T140000
DTEND;TZID=Europe/Berlin:20230916T153000
DTSTAMP:20260422T180350
CREATED:20230804T100326Z
LAST-MODIFIED:20230804T100326Z
UID:10000390-1694872800-1694878200@pg-noerdlingen.de
SUMMARY:Gebetswache für das ungeborene Leben
DESCRIPTION:Die Gebetswache für das ungeborene Leben findet im Rahmen der ewigen Anbetung statt – Samstag\, 16.09.2023\, um 14:00 Uhr in St. Josef\, Nördlingen
URL:https://pg-noerdlingen.de/veranstaltung/gebetswache-fuer-das-ungeborene-leben/
LOCATION:Pfarrkirche St. Josef\, Kerschensteinerstraße 2\, Nördlingen\, 86720
END:VEVENT
BEGIN:VEVENT
DTSTART;TZID=Europe/Berlin:20230916T180000
DTEND;TZID=Europe/Berlin:20230916T200000
DTSTAMP:20260422T180350
CREATED:20230901T095318Z
LAST-MODIFIED:20230901T095318Z
UID:10000391-1694887200-1694894400@pg-noerdlingen.de
SUMMARY:60 Jahre Christkönig Fessenheim mit Bischof Bertram
DESCRIPTION:Am 15. September 1963 wurde die Christkönigskirche in Fessenheim durch Weihbischof Dr. Josef Zimmermann geweiht. Am Samstag\, 16. September feiern wir im Pontifikalamt mit Diözesanbischof Dr. Bertram Meier das Jubiläum. Der Gottesdienst ist um 18:00 Uhr.
URL:https://pg-noerdlingen.de/veranstaltung/60-jahre-christkoenig-fessenheim-mit-bischof-bertram/
LOCATION:Christkönig Fessenheim\, Raiffeisenstraße 2\, Wechingen\, 86759\, Deutschland
END:VEVENT
BEGIN:VEVENT
DTSTART;TZID=Europe/Berlin:20230917T103000
DTEND;TZID=Europe/Berlin:20230917T123000
DTSTAMP:20260422T180350
CREATED:20230804T100130Z
LAST-MODIFIED:20230804T100130Z
UID:10000389-1694946600-1694953800@pg-noerdlingen.de
SUMMARY:Gemeinsamer Gottesdienst mit Begrüßung neuer Kaplan
DESCRIPTION:Am Sonntag\, 17. September 2023 begrüßen wir im Gottesdienst in St. Salvator um 10:30 Uhr unseren neuen Kaplan Jerome Cosmas Muyunga ganz herzlich. Im Anschluss an den Gottesdienst planen wir einen Stehempfang.
URL:https://pg-noerdlingen.de/veranstaltung/gemeinsamer-gottesdienst-mit-begruessung-neuer-kaplan/
LOCATION:Pfarrkirche St. Salvator\, Salvatorgässchen 1\, Nördlingen\, 86720
END:VEVENT
BEGIN:VEVENT
DTSTART;TZID=Europe/Berlin:20230923T180000
DTEND;TZID=Europe/Berlin:20230923T193000
DTSTAMP:20260422T180350
CREATED:20230707T153519Z
LAST-MODIFIED:20230707T153519Z
UID:10000230-1695492000-1695497400@pg-noerdlingen.de
SUMMARY:Fahrzeugsegnung Löpsingen
DESCRIPTION:Auch in diesem werden alle Ein-\, Zwei-\, Drei- und Vierrädrigen Fahrzeuge und Vehikel gesegnet. Die diesjährigen Fahrzeugsegnungen in der Pfarreiengemeinschaft Nördlingen finden am Ende folgender Gottesdienste statt: \n16. Juli 2023 um 09:00 Uhr in Christkönig\, Fessenheim\n13. August 2023 um 10:30 in St. Salvator (Wegen der Verkehrssituation werden Fahrräder\, Bobbycars und Plaketten für die Autos gesegnet).\n13. August 2023 um 09:00 Uhr in St. Josef\n23. September 2023 um 18.00 Uhr in St. Pius Löpsingen \n 
URL:https://pg-noerdlingen.de/veranstaltung/fahrzeugsegnung-loepsingen/
LOCATION:St. Pius\, Löpsingen\, Vordere Angerstr. 1\, Nördlingen\, 86720
END:VEVENT
BEGIN:VEVENT
DTSTART;TZID=Europe/Berlin:20230924T103000
DTEND;TZID=Europe/Berlin:20230924T133000
DTSTAMP:20260422T180350
CREATED:20230804T095836Z
LAST-MODIFIED:20230804T095836Z
UID:10000386-1695551400-1695562200@pg-noerdlingen.de
SUMMARY:Ehejubiläumsgottesdienst in St. Salvator
DESCRIPTION:Alle Jubiläumspaare (25\, 40\, 50\, 60\,… Jahre) sind zu diesem Gottesdienst in St. Salvator am Sonntag\, 24. September 2023 um 10:30 Uhr herzlich eingeladen. Der Gottesdienst wird von der Stadtkapelle musikalisch umrahmt. Im Anschluss an den Gottesdienst ist ein Empfang im Pfarrsaal von St. Salvator geplant. Aus organisatorischen Gründen bitten wir Sie\, sich im Pfarrbüro anzumelden.
URL:https://pg-noerdlingen.de/veranstaltung/ehejubilaeumsgottesdienst-in-st-salvator-2/
LOCATION:Pfarrkirche St. Salvator\, Salvatorgässchen 1\, Nördlingen\, 86720
END:VEVENT
BEGIN:VEVENT
DTSTART;TZID=Europe/Berlin:20230927T193000
DTEND;TZID=Europe/Berlin:20230927T220000
DTSTAMP:20260422T180350
CREATED:20230918T095030Z
LAST-MODIFIED:20230918T095030Z
UID:10000413-1695843000-1695852000@pg-noerdlingen.de
SUMMARY:Sitzung Pastoralrat Nördlingen
DESCRIPTION:Beginn: 19.30 Uhr \nOrt: Pfarrzentrum St. Salvator
URL:https://pg-noerdlingen.de/veranstaltung/sitzung-pastoralrat-noerdlingen/
LOCATION:Pfarrzentrum St. Salvator\, Nördlingen
END:VEVENT
BEGIN:VEVENT
DTSTART;TZID=Europe/Berlin:20230928T193000
DTEND;TZID=Europe/Berlin:20230928T210000
DTSTAMP:20260422T180350
CREATED:20230918T091205Z
LAST-MODIFIED:20230918T091205Z
UID:10000261-1695929400-1695934800@pg-noerdlingen.de
SUMMARY:Elternabend Erstkommunion 2024
DESCRIPTION:Einladung an alle Eltern\, die ihr Kind für die Erstkommunion 2024 in unserer Pfarreiengemeinschaft anmelden wollen bzw. bereits angemeldet haben. \nBeginn: 19.30 Uhr \nOrt: St. Salvator\, Pfarrsaal
URL:https://pg-noerdlingen.de/veranstaltung/elternabend-erstkommunion-2024/
LOCATION:Pfarrzentrum St. Salvator\, Nördlingen
END:VEVENT
BEGIN:VEVENT
DTSTART;TZID=Europe/Berlin:20230930T193000
DTEND;TZID=Europe/Berlin:20230930T210000
DTSTAMP:20260422T180350
CREATED:20230918T091334Z
LAST-MODIFIED:20230918T091334Z
UID:10000263-1696102200-1696107600@pg-noerdlingen.de
SUMMARY:Elternabend Firmung 2024
DESCRIPTION:Einladung an alle Eltern\, deren Kinder NEU in die Vorbereitung für die Firmung starten. \nAlle Eltern\, deren Kinder bereits auf dem Weg sind\, werden separat informiert. \nBeginn: 19.30 Uhr \nOrt: St. Salvator\, Pfarrsaal
URL:https://pg-noerdlingen.de/veranstaltung/elternabend-firmung-2024/
END:VEVENT
END:VCALENDAR