BEGIN:VCALENDAR
VERSION:2.0
PRODID:-//Katholische Pfarreiengemeinschaft Nördlingen - ECPv6.15.20//NONSGML v1.0//EN
CALSCALE:GREGORIAN
METHOD:PUBLISH
X-ORIGINAL-URL:https://pg-noerdlingen.de
X-WR-CALDESC:Veranstaltungen für Katholische Pfarreiengemeinschaft Nördlingen
REFRESH-INTERVAL;VALUE=DURATION:PT1H
X-Robots-Tag:noindex
X-PUBLISHED-TTL:PT1H
BEGIN:VTIMEZONE
TZID:Europe/Berlin
BEGIN:DAYLIGHT
TZOFFSETFROM:+0100
TZOFFSETTO:+0200
TZNAME:CEST
DTSTART:20220327T010000
END:DAYLIGHT
BEGIN:STANDARD
TZOFFSETFROM:+0200
TZOFFSETTO:+0100
TZNAME:CET
DTSTART:20221030T010000
END:STANDARD
BEGIN:DAYLIGHT
TZOFFSETFROM:+0100
TZOFFSETTO:+0200
TZNAME:CEST
DTSTART:20230326T010000
END:DAYLIGHT
BEGIN:STANDARD
TZOFFSETFROM:+0200
TZOFFSETTO:+0100
TZNAME:CET
DTSTART:20231029T010000
END:STANDARD
BEGIN:DAYLIGHT
TZOFFSETFROM:+0100
TZOFFSETTO:+0200
TZNAME:CEST
DTSTART:20240331T010000
END:DAYLIGHT
BEGIN:STANDARD
TZOFFSETFROM:+0200
TZOFFSETTO:+0100
TZNAME:CET
DTSTART:20241027T010000
END:STANDARD
END:VTIMEZONE
BEGIN:VEVENT
DTSTART;TZID=Europe/Berlin:20231202T180000
DTEND;TZID=Europe/Berlin:20231203T120000
DTSTAMP:20260422T132536
CREATED:20231129T143207Z
LAST-MODIFIED:20231129T143215Z
UID:10000283-1701540000-1701604800@pg-noerdlingen.de
SUMMARY:Tafelsonntag
DESCRIPTION:Vom heiligen Ulrich wird berichtet\, er habe immer erst dann selber gegessen\, wenn die Armen vor ihm satt geworden waren. Die Tafel in Nördlingen braucht dringend mehr Ware\, um weiterhin helfen zu können! \nUnsere nächsten Tafelsonntage sind an den ersten beiden Wochenenden im Advent\, am 02./03.12.2023 sowie am 09./10.12.2023. Sie können vor und nach den Vorabend- und Sonntagsgottesdiensten in der Pfarreien-gemeinschaft Ihre Spende in einer Sammelbox ablegen. Ein herzliches Vergelts Gott!
URL:https://pg-noerdlingen.de/veranstaltung/tafelsonntage/
END:VEVENT
BEGIN:VEVENT
DTSTART;TZID=Europe/Berlin:20231203T090000
DTEND;TZID=Europe/Berlin:20231203T110000
DTSTAMP:20260422T132536
CREATED:20231113T110640Z
LAST-MODIFIED:20231113T110640Z
UID:10000427-1701594000-1701601200@pg-noerdlingen.de
SUMMARY:Adventliches Frühstück in St. Josef
DESCRIPTION:Der Pfarrgemeinderat St. Josef lädt herzlich ein zur Heiligen Messe am 1. Adventssonntag\, 3. Dezember um 9:00 Uhr. Anschl. adventliches Frühstück mit Jahresrückblick im Pfarrsaal St. Josef.
URL:https://pg-noerdlingen.de/veranstaltung/adventliches-fruehstueck-in-st-josef/
END:VEVENT
BEGIN:VEVENT
DTSTART;TZID=Europe/Berlin:20231203T090000
DTEND;TZID=Europe/Berlin:20231203T113000
DTSTAMP:20260422T132536
CREATED:20231113T110736Z
LAST-MODIFIED:20231113T110736Z
UID:10000426-1701594000-1701603000@pg-noerdlingen.de
SUMMARY:Plätzchenverkauf Kita St. Johannes
DESCRIPTION:Am Sonntag\, den 3. Dezember 2023 verkauft der Kindergarten in Kleinerdlingen nach der Kirche wieder Plätzchen.
URL:https://pg-noerdlingen.de/veranstaltung/plaetzchenverkauf-kita-st-johannes/
END:VEVENT
BEGIN:VEVENT
DTSTART;TZID=Europe/Berlin:20231203T090000
DTEND;TZID=Europe/Berlin:20231203T120000
DTSTAMP:20260422T132536
CREATED:20231113T111006Z
LAST-MODIFIED:20231113T111006Z
UID:10000430-1701594000-1701604800@pg-noerdlingen.de
SUMMARY:Nikolaus-Verkauf
DESCRIPTION:Am 1. Adventssonntag\, 03. Dezember werden wieder echte Nikoläuse (mit Bischofsgewand/Stab u. Mitra) aus Schokolade für 2\,50 € nach dem Sonntagsgottesdienst in den Pfarrkirchen verkauft. (Nur solange der Vorrat reicht).
URL:https://pg-noerdlingen.de/veranstaltung/nikolaus-verkauf/
END:VEVENT
BEGIN:VEVENT
DTSTART;TZID=Europe/Berlin:20231203T150000
DTEND;TZID=Europe/Berlin:20231203T160000
DTSTAMP:20260422T132536
CREATED:20231113T110914Z
LAST-MODIFIED:20231113T110914Z
UID:10000429-1701615600-1701619200@pg-noerdlingen.de
SUMMARY:Nikolausandacht
DESCRIPTION:Am Sonntag\, 3. Dezember findet um 15:00 Uhr in St. Josef eine Nikolausandacht für alle Kinder unserer Pfarreiengemeinschaft statt.
URL:https://pg-noerdlingen.de/veranstaltung/nikolausandacht/
LOCATION:Pfarrkirche St. Salvator\, Salvatorgässchen 1\, Nördlingen\, 86720
END:VEVENT
BEGIN:VEVENT
DTSTART;TZID=Europe/Berlin:20231203T160000
DTEND;TZID=Europe/Berlin:20231203T173000
DTSTAMP:20260422T132536
CREATED:20231128T192357Z
LAST-MODIFIED:20231128T192357Z
UID:10000432-1701619200-1701624600@pg-noerdlingen.de
SUMMARY:Adventskonzert
DESCRIPTION:Herzliche Einladung zum Adventskonzert \nam Sonntag\, den 03. Dezember 2023\num 16.00 Uhr in der Pfarrkirche St. Salvator \nAdventliche Musik und meditative Texte mit den Chören von St. Salvator und St. Josef Leitung: Petra Hanke und Klaus Ortler
URL:https://pg-noerdlingen.de/veranstaltung/adventskonzert-2/
LOCATION:Pfarrkirche St. Salvator\, Salvatorgässchen 1\, Nördlingen\, 86720
END:VEVENT
BEGIN:VEVENT
DTSTART;TZID=Europe/Berlin:20231203T180000
DTEND;TZID=Europe/Berlin:20231203T193000
DTSTAMP:20260422T132536
CREATED:20231128T192255Z
LAST-MODIFIED:20231128T192255Z
UID:10000431-1701626400-1701631800@pg-noerdlingen.de
SUMMARY:Adventsandacht in St. Martin Deiningen
DESCRIPTION:Zur einer Adventsandacht am Sonntag\, 3. Dezember 2023 laden wir Sie um 18.00 Uhr recht herzlich in die St. Martinskirche nach Deiningen ein. Die Andacht wird gemeinsam vom Kirchenchor\, der Organistin Frau Lucia Stoll\, der Bläsergruppe und dem Pfarrgemeinderat gestaltet. Anschließend findet noch ein kleiner Umtrunk im Freien statt. Bei schlechtem Wetter im Pfarrsaal. Wir freuen uns über Ihr Kommen – Pfarrgemeinderat Deiningen
URL:https://pg-noerdlingen.de/veranstaltung/adventsandacht-in-st-martin-deiningen/
LOCATION:Pfarrkirche St. Martin\, St.-Martin-Str. 6\, Deiningen\, 86738
END:VEVENT
BEGIN:VEVENT
DTSTART;TZID=Europe/Berlin:20231209T090000
DTEND;TZID=Europe/Berlin:20231209T130000
DTSTAMP:20260422T132536
CREATED:20230918T091935Z
LAST-MODIFIED:20230918T091935Z
UID:10000405-1702112400-1702126800@pg-noerdlingen.de
SUMMARY:Erstbeichte der Erstkommunionkinder 2024
DESCRIPTION:Erstbeichte für alle Kinder der Erstkommunionvorbereitung 2024 – die Einteilung erfolgt per Mail im Vorfeld. \nBeginn: 09.00 Uhr
URL:https://pg-noerdlingen.de/veranstaltung/erstbeichte-der-erstkommunionkinder-2024/
LOCATION:Pfarrkirche St. Salvator\, Salvatorgässchen 1\, Nördlingen\, 86720
END:VEVENT
BEGIN:VEVENT
DTSTART;TZID=Europe/Berlin:20231209T180000
DTEND;TZID=Europe/Berlin:20231210T120000
DTSTAMP:20260422T132536
CREATED:20231129T143252Z
LAST-MODIFIED:20231129T143252Z
UID:10000285-1702144800-1702209600@pg-noerdlingen.de
SUMMARY:Tafelsonntag
DESCRIPTION:Vom heiligen Ulrich wird berichtet\, er habe immer erst dann selber gegessen\, wenn die Armen vor ihm satt geworden waren. Die Tafel in Nördlingen braucht dringend mehr Ware\, um weiterhin helfen zu können! \nUnsere nächsten Tafelsonntage sind an den ersten beiden Wochenenden im Advent\, am 02./03.12.2023 sowie am 09./10.12.2023. Sie können vor und nach den Vorabend- und Sonntagsgottesdiensten in der Pfarreien-gemeinschaft Ihre Spende in einer Sammelbox ablegen. Ein herzliches Vergelts Gott!
URL:https://pg-noerdlingen.de/veranstaltung/tafelsonntag/
END:VEVENT
BEGIN:VEVENT
DTSTART;TZID=Europe/Berlin:20231213T080000
DTEND;TZID=Europe/Berlin:20231213T170000
DTSTAMP:20260422T132536
CREATED:20230918T095558Z
LAST-MODIFIED:20230918T095558Z
UID:10000416-1702454400-1702486800@pg-noerdlingen.de
SUMMARY:Sitzung Pastoralrat Nördlingen
DESCRIPTION:Beginn: 19.30 Uhr \nOrt: Pfarrzentrum St. Salvator
URL:https://pg-noerdlingen.de/veranstaltung/sitzung-pastoralrat-noerdlingen-2/
LOCATION:Pfarrzentrum St. Salvator\, Nördlingen
END:VEVENT
BEGIN:VEVENT
DTSTART;TZID=Europe/Berlin:20231215T193000
DTEND;TZID=Europe/Berlin:20231215T210000
DTSTAMP:20260422T132536
CREATED:20231213T154133Z
LAST-MODIFIED:20231213T154133Z
UID:10000287-1702668600-1702674000@pg-noerdlingen.de
SUMMARY:Abend der Versöhnung
DESCRIPTION:Am Freitag\, 15.12.23 findet in St. Salvator ein Abend der Versöhnung statt. Beginn ist um 19:30 Uhr mit einer kleinen Andacht\, Ende gegen 21:00 Uhr nach dem Komplet\, dem kirchlichen Nachtgebet. Es gibt an diesem Abend keinen festen Ablauf\, so dass Sie sich aussuchen können\, wann Sie kommen\, zu beten\, oder einfach der Musik zuzuhören. Zusätzlich gibt es die Möglichkeit vor dem Allerheiligsten eine Kerze anzuzünden\, eine Bibelstelle zu ziehen oder Gebetsanliegen aufzuschreiben. Den ganzen Abend stehen Priester zum Empfang der Beichte oder auch einem Gespräch bereit. Herzliche Einladung an Sie\, an diesem Abend in St. Salvator vorbeizuschauen.
URL:https://pg-noerdlingen.de/veranstaltung/abend-der-versoehnung-5/
LOCATION:Pfarrkirche St. Salvator\, Salvatorgässchen 1\, Nördlingen\, 86720
END:VEVENT
BEGIN:VEVENT
DTSTART;TZID=Europe/Berlin:20231216T180000
DTEND;TZID=Europe/Berlin:20231217T170000
DTSTAMP:20260422T132536
CREATED:20231213T161531Z
LAST-MODIFIED:20231213T161531Z
UID:10000289-1702749600-1702832400@pg-noerdlingen.de
SUMMARY:Friedenslicht aus Bethlehem
DESCRIPTION:Unsere Pfadfinder vom DPSG-Stamm Nordilo bringen das Friedenslicht aus Bethlehem zur Vorabendmesse am Samstag\, 16.12.23 nach St. Salvator. Ab Sonntag\, 17.12.23 können Sie das Licht dann gerne von St. Salvator und St. Josef mit zu sich nach Hause nehmen.
URL:https://pg-noerdlingen.de/veranstaltung/friedenslicht-aus-bethlehem-2/
LOCATION:Pfarrkirche St. Salvator\, Salvatorgässchen 1\, Nördlingen\, 86720
END:VEVENT
BEGIN:VEVENT
DTSTART;TZID=Europe/Berlin:20231217T070000
DTEND;TZID=Europe/Berlin:20231217T080000
DTSTAMP:20260422T132536
CREATED:20231213T161625Z
LAST-MODIFIED:20231213T161625Z
UID:10000290-1702796400-1702800000@pg-noerdlingen.de
SUMMARY:Rorate-Wortgottesdienst in Fessenheim
DESCRIPTION:Die Heiligen Messen an den Werktagen werden in der Adventszeit bei Kerzenschein gefeiert. Auch in Fessenheim findet am Sonntag\, 17.12.23 um 7:00 Uhr eine Roratefeier statt.
URL:https://pg-noerdlingen.de/veranstaltung/rorate-wortgottesdienst-in-fessenheim/
LOCATION:Christkönig Fessenheim\, Raiffeisenstraße 2\, Wechingen\, 86759\, Deutschland
END:VEVENT
BEGIN:VEVENT
DTSTART;TZID=Europe/Berlin:20231217T103000
DTEND;TZID=Europe/Berlin:20231217T113000
DTSTAMP:20260422T132536
CREATED:20230918T085414Z
LAST-MODIFIED:20230918T085414Z
UID:10000394-1702809000-1702812600@pg-noerdlingen.de
SUMMARY:Kinderkirche Nördlingen
DESCRIPTION:Herzliche Einladung zur Kinderkirche! \nBeginn um 10.30 Uhr in der Kirche\, dann Gang ins Pfarrzentrum. \nDaneben findet jeden Sonntag eine Kinderkirche bzw. ein Angebot für Kinder statt. \n 
URL:https://pg-noerdlingen.de/veranstaltung/kinderkirche-noerdlingen-7/
LOCATION:Pfarrkirche St. Salvator\, Salvatorgässchen 1\, Nördlingen\, 86720
END:VEVENT
BEGIN:VEVENT
DTSTART;TZID=Europe/Berlin:20231222T200000
DTEND;TZID=Europe/Berlin:20231222T210000
DTSTAMP:20260422T132536
CREATED:20230918T090124Z
LAST-MODIFIED:20230918T090124Z
UID:10000403-1703275200-1703278800@pg-noerdlingen.de
SUMMARY:Taizé-Zeit in St. Josef
DESCRIPTION:Herzliche Einladung zur Taizé-Zeit in der Kapelle von St. Josef. \nBeginn: 20.00 Uhr \nEinen Eindruck finden Sie auch unter dem Reiter Erleben/Taize-Zeit. \n 
URL:https://pg-noerdlingen.de/veranstaltung/taize-zeit-in-st-josef-13/
LOCATION:Pfarrkirche St. Josef\, Kerschensteinerstraße 2\, Nördlingen\, 86720
END:VEVENT
BEGIN:VEVENT
DTSTART;TZID=Europe/Berlin:20231226T090000
DTEND;TZID=Europe/Berlin:20231226T110000
DTSTAMP:20260422T132536
CREATED:20231213T161911Z
LAST-MODIFIED:20231213T161911Z
UID:10000292-1703581200-1703588400@pg-noerdlingen.de
SUMMARY:Kindersegnung in der Pfarreiengemeinschaft
DESCRIPTION:Am Dienstag\, 26.12.23 laden wir die Kinder zur Kindersegnung in den Gottesdiensten um 9:00 Uhr in St. Pius Löpsingen\, 10:30 Uhr in St. Martin Deiningen\, 10:30 Uhr in Christkönig Fessenheim ein. \nAm Donnerstag\, 28.12.23 sind alle Kinder der ganzen Pfarreiengemeinschaft um 15:00 Uhr nach St. Salvator zum Wortgottesdienst mit Kindersegnung herzlich eingeladen\, besonders für Kleinkinder geeignet\, die noch nicht an der Heiligen Messe teilnehmen können.
URL:https://pg-noerdlingen.de/veranstaltung/kindersegnung-in-der-pfarreiengemeinschaft/
END:VEVENT
BEGIN:VEVENT
DTSTART;TZID=Europe/Berlin:20231227T180000
DTEND;TZID=Europe/Berlin:20231227T190000
DTSTAMP:20260422T132536
CREATED:20231213T162044Z
LAST-MODIFIED:20231213T162044Z
UID:10000294-1703700000-1703703600@pg-noerdlingen.de
SUMMARY:Segnung des Johannesweines
DESCRIPTION:Am Mittwoch\, 27.12.23 wird in St. Martin Deiningen der Johanneswein gesegnet. Der Gottesdienst beginnt um 18:00 Uhr.
URL:https://pg-noerdlingen.de/veranstaltung/segnung-des-johannesweines/
LOCATION:Pfarrkirche St. Martin\, St.-Martin-Str. 6\, Deiningen\, 86738
END:VEVENT
BEGIN:VEVENT
DTSTART;TZID=Europe/Berlin:20231228T150000
DTEND;TZID=Europe/Berlin:20231228T160000
DTSTAMP:20260422T132536
CREATED:20231213T161948Z
LAST-MODIFIED:20231213T161948Z
UID:10000293-1703775600-1703779200@pg-noerdlingen.de
SUMMARY:Kindersegnung in St. Salvator
DESCRIPTION:Am Dienstag\, 26.12.23 laden wir die Kinder zur Kindersegnung in den Gottesdiensten um 9:00 Uhr in St. Pius Löpsingen\, 10:30 Uhr in St. Martin Deiningen\, 10:30 Uhr in Christkönig Fessenheim ein. \nAm Donnerstag\, 28.12.23 sind alle Kinder der ganzen Pfarreiengemeinschaft um 15:00 Uhr nach St. Salvator zum Wortgottesdienst mit Kindersegnung herzlich eingeladen\, besonders für Kleinkinder geeignet\, die noch nicht an der Heiligen Messe teilnehmen können.
URL:https://pg-noerdlingen.de/veranstaltung/kindersegnung-in-st-salvator/
LOCATION:Pfarrkirche St. Salvator\, Salvatorgässchen 1\, Nördlingen\, 86720
END:VEVENT
BEGIN:VEVENT
DTSTART;TZID=Europe/Berlin:20231231T193000
DTEND;TZID=Europe/Berlin:20231231T210000
DTSTAMP:20260422T132536
CREATED:20231213T161742Z
LAST-MODIFIED:20231213T161742Z
UID:10000291-1704051000-1704056400@pg-noerdlingen.de
SUMMARY:Silvesterkonzert in St. Salvator
DESCRIPTION:Herzliche Einladung zum Silvesterkonzert – Am Sonntag\, 31.12.23 um 19:30 Uhr findet in diesem Jahr wieder ein Silvesterkonzert in St. Salvator statt. Julia Rabel an der Violine\, Rita Ortler\, Gesang und Klaus Ortler an der Orgel präsentieren ein heiteres und festliches Programm zum Jahreswechsel. Der Eintritt ist frei.
URL:https://pg-noerdlingen.de/veranstaltung/silvesterkonzert-in-st-salvator/
LOCATION:Pfarrkirche St. Salvator\, Salvatorgässchen 1\, Nördlingen\, 86720
END:VEVENT
END:VCALENDAR