BEGIN:VCALENDAR
VERSION:2.0
PRODID:-//Katholische Pfarreiengemeinschaft Nördlingen - ECPv6.15.20//NONSGML v1.0//EN
CALSCALE:GREGORIAN
METHOD:PUBLISH
X-WR-CALNAME:Katholische Pfarreiengemeinschaft Nördlingen
X-ORIGINAL-URL:https://pg-noerdlingen.de
X-WR-CALDESC:Veranstaltungen für Katholische Pfarreiengemeinschaft Nördlingen
REFRESH-INTERVAL;VALUE=DURATION:PT1H
X-Robots-Tag:noindex
X-PUBLISHED-TTL:PT1H
BEGIN:VTIMEZONE
TZID:Europe/Berlin
BEGIN:DAYLIGHT
TZOFFSETFROM:+0100
TZOFFSETTO:+0200
TZNAME:CEST
DTSTART:20230326T010000
END:DAYLIGHT
BEGIN:STANDARD
TZOFFSETFROM:+0200
TZOFFSETTO:+0100
TZNAME:CET
DTSTART:20231029T010000
END:STANDARD
BEGIN:DAYLIGHT
TZOFFSETFROM:+0100
TZOFFSETTO:+0200
TZNAME:CEST
DTSTART:20240331T010000
END:DAYLIGHT
BEGIN:STANDARD
TZOFFSETFROM:+0200
TZOFFSETTO:+0100
TZNAME:CET
DTSTART:20241027T010000
END:STANDARD
BEGIN:DAYLIGHT
TZOFFSETFROM:+0100
TZOFFSETTO:+0200
TZNAME:CEST
DTSTART:20250330T010000
END:DAYLIGHT
BEGIN:STANDARD
TZOFFSETFROM:+0200
TZOFFSETTO:+0100
TZNAME:CET
DTSTART:20251026T010000
END:STANDARD
END:VTIMEZONE
BEGIN:VEVENT
DTSTART;TZID=Europe/Berlin:20240201T140000
DTEND;TZID=Europe/Berlin:20240201T170000
DTSTAMP:20260420T101724
CREATED:20240120T152800Z
LAST-MODIFIED:20240120T152800Z
UID:10000439-1706796000-1706806800@pg-noerdlingen.de
SUMMARY:Faschingsball der Senioren
DESCRIPTION:Am Donnerstag\, 1. Februar gemeinsamer Faschingsball von St. Josef und St. Salvator für Senioren im Pfarrheim von St. Josef. Beginn ist um 14:00 Uhr. Das Motto lautet: „Lachen\, Medizin ohne Nebenwirkungen“ mit Heinz Lessniak. Auch die Faschingsgarde Baldonia wird uns besuchen kommen und für Stimmung sorgen. Es wäre sehr schön\, wenn Sie mit einer Maskerade zum Faschingsball kommen. Für das leibliche Wohl ist bestens gesorgt\, es gibt Kaffee & Kuchen\, zum Ausklang Gulaschsuppe.\nWir freuen uns auf einen gemütlichen Tag mit Ihnen.
URL:https://pg-noerdlingen.de/veranstaltung/faschingsball-der-senioren-2/
LOCATION:Pfarrheim St. Josef\, Kerschensteinerstr. 2\, Nördlingen\, 86720
END:VEVENT
BEGIN:VEVENT
DTSTART;VALUE=DATE:20240203
DTEND;VALUE=DATE:20240204
DTSTAMP:20260420T101724
CREATED:20240120T152846Z
LAST-MODIFIED:20240120T152846Z
UID:10000440-1706918400-1707004799@pg-noerdlingen.de
SUMMARY:Minicup der Ministranten
DESCRIPTION:Wir drücken unseren Ministranten die Daumen beim Minicup am 03. Februar in Wertingen.
URL:https://pg-noerdlingen.de/veranstaltung/minicup-der-ministranten/
END:VEVENT
BEGIN:VEVENT
DTSTART;TZID=Europe/Berlin:20240216T200000
DTEND;TZID=Europe/Berlin:20240216T210000
DTSTAMP:20260420T101724
CREATED:20230918T090308Z
LAST-MODIFIED:20231005T075440Z
UID:10000243-1708113600-1708117200@pg-noerdlingen.de
SUMMARY:Taizé-Zeit in St. Josef
DESCRIPTION:Herzliche Einladung zur Taizé-Zeit in der Kapelle von St. Josef. \nBeginn: 20.00 Uhr \nEinen Eindruck finden Sie auch unter dem Reiter Erleben/Taize-Zeit. \n 
URL:https://pg-noerdlingen.de/veranstaltung/taize-zeit-in-st-josef-15/
LOCATION:Pfarrkirche St. Josef\, Kerschensteinerstraße 2\, Nördlingen\, 86720
END:VEVENT
BEGIN:VEVENT
DTSTART;TZID=Europe/Berlin:20240218T090000
DTEND;TZID=Europe/Berlin:20240218T113000
DTSTAMP:20260420T101724
CREATED:20240207T144643Z
LAST-MODIFIED:20240207T144643Z
UID:10000448-1708246800-1708255800@pg-noerdlingen.de
SUMMARY:Back to Church Sunday
DESCRIPTION:Du bist herzlich eingeladen\, denn du hast uns gerade noch gefehlt!\nVerschiedene christliche Kirchen und Gemeinden mit unterschiedlichen Gottesdienst-Stilen laden dich\, besonders an den beiden Sonntag\, 18. und 25. Februar ein. Natürlich auch danach.\n„Back to Church Sundy“ ist eine Bewegung\, die in England entstand\, bei der es darum geht\, Menschen zum Gotesdienst einzuladen. Raum zur Stille\, der eigenen Seele Gutes tun und Zeit zur Begegnung mit Gott: das kommt im Alltag oft zu kurz. Gönne dir bewusst diese Zeit.\nDer Gottesdienst in St. Salvator am\n18. Februar wird musikalisch vom Kirchenchor gestaltet\, und am\n25. Februar spielt die Gruppe “Andamani”\, anschl. an den Gottesdienst findet der “Ratsch unterm Baum” statt. Flyer zu dieser Aktion liegen in den Kirchen aus.
URL:https://pg-noerdlingen.de/veranstaltung/back-to-church-sunday/2024-02-18/
END:VEVENT
BEGIN:VEVENT
DTSTART;TZID=Europe/Berlin:20240218T100000
DTEND;TZID=Europe/Berlin:20240218T170000
DTSTAMP:20260420T101724
CREATED:20240207T143523Z
LAST-MODIFIED:20240212T105722Z
UID:10000442-1708250400-1708275600@pg-noerdlingen.de
SUMMARY:Badefahrt ins Juramare
DESCRIPTION:Familienfahrt ins Juramare\nDie Kolpingsfamilie lädt alle Familien am Sonntag\, 18. Februar nach dem Gottesdienst um 9:00 Uhr in St. Josef zu einem Badetag nach Gunzenhausen ins Juramare ein.\nAbfahrt ist um 10:00 Uhr am Parkplatz gegenüber von St. Josef. Anmeldung bitte bei Frau Diana Ihm unter der Nummer: 0160/93730654
URL:https://pg-noerdlingen.de/veranstaltung/familienfahrt-ins-juramare/
END:VEVENT
BEGIN:VEVENT
DTSTART;TZID=Europe/Berlin:20240224T090000
DTEND;TZID=Europe/Berlin:20240224T143000
DTSTAMP:20260420T101724
CREATED:20240222T130610Z
LAST-MODIFIED:20240222T130610Z
UID:10000452-1708765200-1708785000@pg-noerdlingen.de
SUMMARY:Aktion Eichhörnchen
DESCRIPTION:Lebensmittel spenden und Gutes tun – zwischen 09.30 Uhr und 14.30 Uhr an den Verbrauchermärkten in und um Nördlingen einkaufen und einen Teil davon für die Tafel Nördlingen spenden. Herzlichen Dank!
URL:https://pg-noerdlingen.de/veranstaltung/aktion-eichhoernchen-4/
END:VEVENT
BEGIN:VEVENT
DTSTART;TZID=Europe/Berlin:20240225T090000
DTEND;TZID=Europe/Berlin:20240225T113000
DTSTAMP:20260420T101724
CREATED:20240207T144643Z
LAST-MODIFIED:20240207T144643Z
UID:10000449-1708851600-1708860600@pg-noerdlingen.de
SUMMARY:Back to Church Sunday
DESCRIPTION:Du bist herzlich eingeladen\, denn du hast uns gerade noch gefehlt!\nVerschiedene christliche Kirchen und Gemeinden mit unterschiedlichen Gottesdienst-Stilen laden dich\, besonders an den beiden Sonntag\, 18. und 25. Februar ein. Natürlich auch danach.\n„Back to Church Sundy“ ist eine Bewegung\, die in England entstand\, bei der es darum geht\, Menschen zum Gotesdienst einzuladen. Raum zur Stille\, der eigenen Seele Gutes tun und Zeit zur Begegnung mit Gott: das kommt im Alltag oft zu kurz. Gönne dir bewusst diese Zeit.\nDer Gottesdienst in St. Salvator am\n18. Februar wird musikalisch vom Kirchenchor gestaltet\, und am\n25. Februar spielt die Gruppe “Andamani”\, anschl. an den Gottesdienst findet der “Ratsch unterm Baum” statt. Flyer zu dieser Aktion liegen in den Kirchen aus.
URL:https://pg-noerdlingen.de/veranstaltung/back-to-church-sunday/2024-02-25/
END:VEVENT
BEGIN:VEVENT
DTSTART;TZID=Europe/Berlin:20240225T103000
DTEND;TZID=Europe/Berlin:20240225T113000
DTSTAMP:20260420T101724
CREATED:20230918T085523Z
LAST-MODIFIED:20240120T153117Z
UID:10000396-1708857000-1708860600@pg-noerdlingen.de
SUMMARY:Kinderkirche Nördlingen & Ratsch unterm Baum
DESCRIPTION:Herzliche Einladung zur Kinderkirche! \nBeginn um 10.30 Uhr in der Kirche\, dann Gang ins Pfarrzentrum. \nDaneben findet jeden Sonntag eine Kinderkirche bzw. ein Angebot für Kinder statt. \n 
URL:https://pg-noerdlingen.de/veranstaltung/kinderkirche-noerdlingen-9/
LOCATION:Pfarrkirche St. Salvator\, Salvatorgässchen 1\, Nördlingen\, 86720
END:VEVENT
END:VCALENDAR