BEGIN:VCALENDAR
VERSION:2.0
PRODID:-//Katholische Pfarreiengemeinschaft Nördlingen - ECPv6.15.20//NONSGML v1.0//EN
CALSCALE:GREGORIAN
METHOD:PUBLISH
X-ORIGINAL-URL:https://pg-noerdlingen.de
X-WR-CALDESC:Veranstaltungen für Katholische Pfarreiengemeinschaft Nördlingen
REFRESH-INTERVAL;VALUE=DURATION:PT1H
X-Robots-Tag:noindex
X-PUBLISHED-TTL:PT1H
BEGIN:VTIMEZONE
TZID:Europe/Berlin
BEGIN:DAYLIGHT
TZOFFSETFROM:+0100
TZOFFSETTO:+0200
TZNAME:CEST
DTSTART:20230326T010000
END:DAYLIGHT
BEGIN:STANDARD
TZOFFSETFROM:+0200
TZOFFSETTO:+0100
TZNAME:CET
DTSTART:20231029T010000
END:STANDARD
BEGIN:DAYLIGHT
TZOFFSETFROM:+0100
TZOFFSETTO:+0200
TZNAME:CEST
DTSTART:20240331T010000
END:DAYLIGHT
BEGIN:STANDARD
TZOFFSETFROM:+0200
TZOFFSETTO:+0100
TZNAME:CET
DTSTART:20241027T010000
END:STANDARD
BEGIN:DAYLIGHT
TZOFFSETFROM:+0100
TZOFFSETTO:+0200
TZNAME:CEST
DTSTART:20250330T010000
END:DAYLIGHT
BEGIN:STANDARD
TZOFFSETFROM:+0200
TZOFFSETTO:+0100
TZNAME:CET
DTSTART:20251026T010000
END:STANDARD
END:VTIMEZONE
BEGIN:VEVENT
DTSTART;VALUE=DATE:20240301
DTEND;VALUE=DATE:20240302
DTSTAMP:20260420T083949
CREATED:20240207T145054Z
LAST-MODIFIED:20240207T145054Z
UID:10000450-1709251200-1709337599@pg-noerdlingen.de
SUMMARY:Weltgebetstag der Frauen
DESCRIPTION:Am Freitag\, 1. März im Pfarrsaal von St. Josef in Nördlingen. Beginn ist um 19:30 Uhr.\nIn Deiningen\, 1. März in der Kirche St. Martin.\nBeginn ist um 19:00 Uhr.
URL:https://pg-noerdlingen.de/veranstaltung/weltgebetstag-der-frauen-2/
END:VEVENT
BEGIN:VEVENT
DTSTART;TZID=Europe/Berlin:20240301T193000
DTEND;TZID=Europe/Berlin:20240301T220000
DTSTAMP:20260420T083949
CREATED:20240206T101256Z
LAST-MODIFIED:20240206T101256Z
UID:10000443-1709321400-1709330400@pg-noerdlingen.de
SUMMARY:The Chosen Watchparty in St. Josef
DESCRIPTION:Zusammen Serie schauen und dar-über staunen – „The Chosen“ wird in St. Josef gezeigt \n„The Chosen“ (dt. die Auserwählten) ist die erste Serien-Verfilmung über das Wirken von Jesus und darüber\, wie drastisch sich das Leben der Menschen verändert\, die ihm begegnen. Sie wurde über Crowdfunding finanziert und hat sich binnen kürzester Zeit zu einem Phänomen mit über 600 Millionen Zu-schauern entwickelt. Die Serie zeigt einen derart menschlichen Jesus\, wie man ihn bis-her noch nicht gesehen hat: warmherzig\, humorvoll\, einladend. Und so unwiderstehlich göttlich\, dass man begreift\, warum die Menschen alles stehen und liegen lassen\, um ihm zu folgen. \nDie Serie zeigt Jesus durch die Augen der Menschen\, die mit ihm unterwegs sind. Denn durch die Begegnung mit ihm wird für sie alles anders. Für Maria Magdalena\, den Fi-scher Simon oder den Gelehrten Nikodemus – für sie alle veränderte die Beziehung zu Jesus ihr Leben. \nThe Chosen – Staffel 1 jeden Freitag in der Fastenzeit Beginn: 01.03.2024 um 19.30 Uhr im Pfarrheim St. Josef (Details auch zeitnah in der Pfarrinfo) \n \nHier ein kleiner Eindruck zur ersten Staffel: \nhttps://www.youtube.com/watch?v=1G0_A2xZd8g
URL:https://pg-noerdlingen.de/veranstaltung/the-chosen-watchparty-in-st-josef/2024-03-01/
LOCATION:Pfarrheim St. Josef\, Kerschensteinerstr. 2\, Nördlingen\, 86720
END:VEVENT
BEGIN:VEVENT
DTSTART;TZID=Europe/Berlin:20240302T180000
DTEND;TZID=Europe/Berlin:20240302T190000
DTSTAMP:20260420T083949
CREATED:20240301T101620Z
LAST-MODIFIED:20240301T101620Z
UID:10000454-1709402400-1709406000@pg-noerdlingen.de
SUMMARY:Ulrichsgottesdienst in Löpsingen
DESCRIPTION:Herzliche Einladung zum Ulrichsgottesdienst am Samstag\, 02.03.2024 um 18.00 Uhr In Löpsingen\, Vorabendmesse. Es singen Kinder aus der GS Löpsingen. Gestaltet wird der Gottesdienst ebenso von Kindern\, Eltern und Lehrerinnen der GS Löpsingen. \nSpenden sind erwünscht und kommen einem sozialen Zweck zu Gute!
URL:https://pg-noerdlingen.de/veranstaltung/ulrichsgottesdienst-in-loepsingen/
LOCATION:St. Pius\, Löpsingen\, Vordere Angerstr. 1\, Nördlingen\, 86720
END:VEVENT
BEGIN:VEVENT
DTSTART;TZID=Europe/Berlin:20240308T193000
DTEND;TZID=Europe/Berlin:20240308T220000
DTSTAMP:20260420T083949
CREATED:20240206T101256Z
LAST-MODIFIED:20240206T101256Z
UID:10000444-1709926200-1709935200@pg-noerdlingen.de
SUMMARY:The Chosen Watchparty in St. Josef
DESCRIPTION:Zusammen Serie schauen und dar-über staunen – „The Chosen“ wird in St. Josef gezeigt \n„The Chosen“ (dt. die Auserwählten) ist die erste Serien-Verfilmung über das Wirken von Jesus und darüber\, wie drastisch sich das Leben der Menschen verändert\, die ihm begegnen. Sie wurde über Crowdfunding finanziert und hat sich binnen kürzester Zeit zu einem Phänomen mit über 600 Millionen Zu-schauern entwickelt. Die Serie zeigt einen derart menschlichen Jesus\, wie man ihn bis-her noch nicht gesehen hat: warmherzig\, humorvoll\, einladend. Und so unwiderstehlich göttlich\, dass man begreift\, warum die Menschen alles stehen und liegen lassen\, um ihm zu folgen. \nDie Serie zeigt Jesus durch die Augen der Menschen\, die mit ihm unterwegs sind. Denn durch die Begegnung mit ihm wird für sie alles anders. Für Maria Magdalena\, den Fi-scher Simon oder den Gelehrten Nikodemus – für sie alle veränderte die Beziehung zu Jesus ihr Leben. \nThe Chosen – Staffel 1 jeden Freitag in der Fastenzeit Beginn: 01.03.2024 um 19.30 Uhr im Pfarrheim St. Josef (Details auch zeitnah in der Pfarrinfo) \n \nHier ein kleiner Eindruck zur ersten Staffel: \nhttps://www.youtube.com/watch?v=1G0_A2xZd8g
URL:https://pg-noerdlingen.de/veranstaltung/the-chosen-watchparty-in-st-josef/2024-03-08/
LOCATION:Pfarrheim St. Josef\, Kerschensteinerstr. 2\, Nördlingen\, 86720
END:VEVENT
BEGIN:VEVENT
DTSTART;TZID=Europe/Berlin:20240308T200000
DTEND;TZID=Europe/Berlin:20240308T210000
DTSTAMP:20260420T083949
CREATED:20230918T090731Z
LAST-MODIFIED:20230918T090731Z
UID:10000245-1709928000-1709931600@pg-noerdlingen.de
SUMMARY:Taizé-Zeit in St. Josef
DESCRIPTION:Herzliche Einladung zur Taizé-Zeit in der Kapelle von St. Josef. \nBeginn: 20.00 Uhr \nEinen Eindruck finden Sie auch unter dem Reiter Erleben/Taize-Zeit. \n 
URL:https://pg-noerdlingen.de/veranstaltung/taize-zeit-in-st-josef-16/
LOCATION:Pfarrkirche St. Josef\, Kerschensteinerstraße 2\, Nördlingen\, 86720
END:VEVENT
BEGIN:VEVENT
DTSTART;TZID=Europe/Berlin:20240309T190000
DTEND;TZID=Europe/Berlin:20240309T203000
DTSTAMP:20260420T083949
CREATED:20240301T100754Z
LAST-MODIFIED:20240301T100754Z
UID:10000453-1710010800-1710016200@pg-noerdlingen.de
SUMMARY:Konzert Stabat Mater
DESCRIPTION:Am Samstag\, den 9.3.2024\, um 19.00 Uhr\, kommt in der Kath. Stadtpfarrkirche St. Salvator das „Stabat Mater“ von Luigi Boccherini (1743 -1805) in der Version von 1781 im Rahmen der Konzerte von „Fleur musicale“ zur Aufführung. Diese ist für Sopran und Streicher komponiert\, allerdings wird sie mit Orgel ergänzt. Die Ausführenden sind Rita Ortler Sopran\, Annika Körner (1. Violine)\, Julia Rabel (2. Violine)\, Martina Rube (Bratsche)\, Petra Hanke (Cello) und Klaus Ortler (Orgel).\nViele Komponisten haben sich mit dem mittelalterlichen Gedicht des „Stabat Mater“\, das unter anderem Papst Innozenz III zugeschrieben wurde\, beschäftigt. Dabei entstand eine Fülle von Werken\, die in der unterschiedlichsten Tonsprache und in variierenden Besetzungen dieses Werk um die Leiden der Mutter Christi ausdrückt. Auch Boccherini gehörte dazu und es ist zudem eines der wenigen Vokalwerke des Künstlers. Obwohl weniger bekannt und aufgeführt als das Stabat Mater von Pergolesi steht es ihm aber in Innigkeit und Vielfältigkeit in nichts nach und zeichnet Bilder von höchster Hingabe\, Anklage\, Verzagtheit und auch Verzückung.
URL:https://pg-noerdlingen.de/veranstaltung/konzert-stabat-mater/
LOCATION:Pfarrkirche St. Salvator\, Salvatorgässchen 1\, Nördlingen\, 86720
END:VEVENT
BEGIN:VEVENT
DTSTART;TZID=Europe/Berlin:20240314T143000
DTEND;TZID=Europe/Berlin:20240314T170000
DTSTAMP:20260420T083949
CREATED:20240307T144111Z
LAST-MODIFIED:20240307T144111Z
UID:10000455-1710426600-1710435600@pg-noerdlingen.de
SUMMARY:Seniorenkreis St. Josef - Das Gebet Jesu Teil 1
DESCRIPTION:Herr Pfarrer Dr. Riese bringt uns das „Vater unser“ neu näher
URL:https://pg-noerdlingen.de/veranstaltung/seniorenkreis-st-josef-das-gebet-jesu-teil-1/
LOCATION:Pfarrheim St. Josef\, Kerschensteinerstr. 2\, Nördlingen\, 86720
END:VEVENT
BEGIN:VEVENT
DTSTART;TZID=Europe/Berlin:20240315T193000
DTEND;TZID=Europe/Berlin:20240315T220000
DTSTAMP:20260420T083949
CREATED:20240206T101256Z
LAST-MODIFIED:20240206T101256Z
UID:10000445-1710531000-1710540000@pg-noerdlingen.de
SUMMARY:The Chosen Watchparty in St. Josef
DESCRIPTION:Zusammen Serie schauen und dar-über staunen – „The Chosen“ wird in St. Josef gezeigt \n„The Chosen“ (dt. die Auserwählten) ist die erste Serien-Verfilmung über das Wirken von Jesus und darüber\, wie drastisch sich das Leben der Menschen verändert\, die ihm begegnen. Sie wurde über Crowdfunding finanziert und hat sich binnen kürzester Zeit zu einem Phänomen mit über 600 Millionen Zu-schauern entwickelt. Die Serie zeigt einen derart menschlichen Jesus\, wie man ihn bis-her noch nicht gesehen hat: warmherzig\, humorvoll\, einladend. Und so unwiderstehlich göttlich\, dass man begreift\, warum die Menschen alles stehen und liegen lassen\, um ihm zu folgen. \nDie Serie zeigt Jesus durch die Augen der Menschen\, die mit ihm unterwegs sind. Denn durch die Begegnung mit ihm wird für sie alles anders. Für Maria Magdalena\, den Fi-scher Simon oder den Gelehrten Nikodemus – für sie alle veränderte die Beziehung zu Jesus ihr Leben. \nThe Chosen – Staffel 1 jeden Freitag in der Fastenzeit Beginn: 01.03.2024 um 19.30 Uhr im Pfarrheim St. Josef (Details auch zeitnah in der Pfarrinfo) \n \nHier ein kleiner Eindruck zur ersten Staffel: \nhttps://www.youtube.com/watch?v=1G0_A2xZd8g
URL:https://pg-noerdlingen.de/veranstaltung/the-chosen-watchparty-in-st-josef/2024-03-15/
LOCATION:Pfarrheim St. Josef\, Kerschensteinerstr. 2\, Nördlingen\, 86720
END:VEVENT
BEGIN:VEVENT
DTSTART;TZID=Europe/Berlin:20240317T103000
DTEND;TZID=Europe/Berlin:20240317T113000
DTSTAMP:20260420T083949
CREATED:20230918T085607Z
LAST-MODIFIED:20240315T113305Z
UID:10000397-1710671400-1710675000@pg-noerdlingen.de
SUMMARY:Kinderkirche Nördlingen
DESCRIPTION:Herzliche Einladung zur Kinderkirche! \nBeginn um 10.30 Uhr in der Kirche\, dann Gang ins Pfarrzentrum. \nDaneben findet jeden Sonntag eine Kinderkirche bzw. ein Angebot für Kinder statt. \nDer Ratsch unterm Baum fällt an diesem Sonntag aus\, da in St. Josef das Fastenessen stattfindet. \n 
URL:https://pg-noerdlingen.de/veranstaltung/kinderkirche-noerdlingen-10/
LOCATION:Pfarrkirche St. Salvator\, Salvatorgässchen 1\, Nördlingen\, 86720
END:VEVENT
BEGIN:VEVENT
DTSTART;TZID=Europe/Berlin:20240321T150000
DTEND;TZID=Europe/Berlin:20240321T180000
DTSTAMP:20260420T083949
CREATED:20240207T144219Z
LAST-MODIFIED:20240207T144347Z
UID:10000447-1711033200-1711044000@pg-noerdlingen.de
SUMMARY:Palmkronen binden
DESCRIPTION:Damit wir für Palmsonntag wieder unsere Palmkronen binden können\, benötigen wir Palmkätzchen und Buchs. Bitte melden Sie sich im Pfarrbüro\, wenn Sie Palmkätzchen oder Buchs übrig haben. Wir kommen auch gerne zum selber schneiden. Wir binden die Palmkronen am Donnerstag\, 21. März im Pfarrsaal von St. Salvator. Bei Fragen melden sie sich bitte bei Frau Anita Stoller 09081/1254
URL:https://pg-noerdlingen.de/veranstaltung/palmkronen-binden/
LOCATION:Pfarrzentrum St. Salvator\, Nördlingen
END:VEVENT
BEGIN:VEVENT
DTSTART;TZID=Europe/Berlin:20240322T193000
DTEND;TZID=Europe/Berlin:20240322T220000
DTSTAMP:20260420T083949
CREATED:20240206T101256Z
LAST-MODIFIED:20240206T101256Z
UID:10000446-1711135800-1711144800@pg-noerdlingen.de
SUMMARY:The Chosen Watchparty in St. Josef
DESCRIPTION:Zusammen Serie schauen und dar-über staunen – „The Chosen“ wird in St. Josef gezeigt \n„The Chosen“ (dt. die Auserwählten) ist die erste Serien-Verfilmung über das Wirken von Jesus und darüber\, wie drastisch sich das Leben der Menschen verändert\, die ihm begegnen. Sie wurde über Crowdfunding finanziert und hat sich binnen kürzester Zeit zu einem Phänomen mit über 600 Millionen Zu-schauern entwickelt. Die Serie zeigt einen derart menschlichen Jesus\, wie man ihn bis-her noch nicht gesehen hat: warmherzig\, humorvoll\, einladend. Und so unwiderstehlich göttlich\, dass man begreift\, warum die Menschen alles stehen und liegen lassen\, um ihm zu folgen. \nDie Serie zeigt Jesus durch die Augen der Menschen\, die mit ihm unterwegs sind. Denn durch die Begegnung mit ihm wird für sie alles anders. Für Maria Magdalena\, den Fi-scher Simon oder den Gelehrten Nikodemus – für sie alle veränderte die Beziehung zu Jesus ihr Leben. \nThe Chosen – Staffel 1 jeden Freitag in der Fastenzeit Beginn: 01.03.2024 um 19.30 Uhr im Pfarrheim St. Josef (Details auch zeitnah in der Pfarrinfo) \n \nHier ein kleiner Eindruck zur ersten Staffel: \nhttps://www.youtube.com/watch?v=1G0_A2xZd8g
URL:https://pg-noerdlingen.de/veranstaltung/the-chosen-watchparty-in-st-josef/2024-03-22/
LOCATION:Pfarrheim St. Josef\, Kerschensteinerstr. 2\, Nördlingen\, 86720
END:VEVENT
BEGIN:VEVENT
DTSTART;TZID=Europe/Berlin:20240323T180000
DTEND;TZID=Europe/Berlin:20240323T203000
DTSTAMP:20260420T083949
CREATED:20240314T163634Z
LAST-MODIFIED:20240314T163705Z
UID:10000470-1711216800-1711225800@pg-noerdlingen.de
SUMMARY:Abend der Versöhnung
DESCRIPTION:Um 18.00 Uhr Heilige Messe\, anschl. offene Gebetszeit bis 20.30 Uhr. Um 20.15 wird die Komplet\, das kirchliche Nachtgebet\, gebetet. Sie kommen um zu beten oder einfach nur der Musik zuzuhören. Zusätzlich gibt es die Möglichkeit vor dem Allerheiligsten ein Kerze anzuzünden\, eine Bibelstelle zu ziehen oder Gebetsanliegen aufzuschreiben. Den ganzen Abend stehen Priester zum Empfang der Beichte oder auch zu einem Gespräch bereit. Herzliche Einladung!
URL:https://pg-noerdlingen.de/veranstaltung/4737/
LOCATION:Pfarrkirche St. Salvator\, Salvatorgässchen 1\, Nördlingen\, 86720
END:VEVENT
BEGIN:VEVENT
DTSTART;TZID=Europe/Berlin:20240324T090000
DTEND;TZID=Europe/Berlin:20240324T100000
DTSTAMP:20260420T083949
CREATED:20240314T164247Z
LAST-MODIFIED:20240314T164351Z
UID:10000471-1711270800-1711274400@pg-noerdlingen.de
SUMMARY:Passionsspiel von und für Kinder
DESCRIPTION:An Palmsonntag um 9.00 Uhr Passionsspiel für Kinder
URL:https://pg-noerdlingen.de/veranstaltung/passionsspiel-von-und-fuer-kinder/
LOCATION:Pfarrkirche St. Martin
END:VEVENT
BEGIN:VEVENT
DTSTART;TZID=Europe/Berlin:20240324T103000
DTEND;TZID=Europe/Berlin:20240324T113000
DTSTAMP:20260420T083949
CREATED:20240314T164519Z
LAST-MODIFIED:20240314T171024Z
UID:10000472-1711276200-1711279800@pg-noerdlingen.de
SUMMARY:Passionsspiel von und für Kinder
DESCRIPTION:An Palmsonntag um 10.30 Uhr Passionsspiel für Kinder
URL:https://pg-noerdlingen.de/veranstaltung/palmspiel-von-und-fuer-kinder/
LOCATION:Pfarrzentrum St. Salvator\, Nördlingen
END:VEVENT
BEGIN:VEVENT
DTSTART;VALUE=DATE:20240325
DTEND;VALUE=DATE:20240329
DTSTAMP:20260420T083949
CREATED:20240314T170218Z
LAST-MODIFIED:20240314T170218Z
UID:10000478-1711324800-1711670399@pg-noerdlingen.de
SUMMARY:Ökumenische Kinderstadt
DESCRIPTION:In der Woche vom 25. – 28. März findet von 8.00 – 12.00 Uhr die ökumenische Kinderstadt in den Pfarrheimen von St. Salvator und St. Georg statt. Alle Kinder der 1. bis 6. Klasse sind herzlich eingeladen. „Erlebe eine spannende\, bibilische Geschichte“. Der Abschlussgottesdienst ist am Donnerstag\, 28. März um 11.00 Uhr in St. Salvator.
URL:https://pg-noerdlingen.de/veranstaltung/oekumenische-kinderstadt/
LOCATION:Pfarrzentrum St. Salvator\, Nördlingen
END:VEVENT
BEGIN:VEVENT
DTSTART;VALUE=DATE:20240328
DTEND;VALUE=DATE:20240330
DTSTAMP:20260420T083949
CREATED:20240314T165859Z
LAST-MODIFIED:20240314T165859Z
UID:10000477-1711584000-1711756799@pg-noerdlingen.de
SUMMARY:Nachtanbetung
DESCRIPTION:Von Gründonnerstag auf Karfreitag beten wir in St. Salvator die ganze Nacht hindurch
URL:https://pg-noerdlingen.de/veranstaltung/nachtanbetung-2/
LOCATION:Pfarrkirche St. Salvator\, Salvatorgässchen 1\, Nördlingen\, 86720
END:VEVENT
BEGIN:VEVENT
DTSTART;TZID=Europe/Berlin:20240328T170000
DTEND;TZID=Europe/Berlin:20240328T180000
DTSTAMP:20260420T083949
CREATED:20240314T164739Z
LAST-MODIFIED:20240314T164739Z
UID:10000473-1711645200-1711648800@pg-noerdlingen.de
SUMMARY:Letztes Abendmahl für Kinder
DESCRIPTION:Am Gründonnerstag feiern wir das letzte Abendmahl für Kinder im Pfarrzentrum von St. Salvator um 17.00 Uhr
URL:https://pg-noerdlingen.de/veranstaltung/letztes-abendmahl-fuer-kinder/
LOCATION:Pfarrzentrum St. Salvator\, Nördlingen
END:VEVENT
BEGIN:VEVENT
DTSTART;TZID=Europe/Berlin:20240329T093000
DTEND;TZID=Europe/Berlin:20240329T103000
DTSTAMP:20260420T083949
CREATED:20240314T164923Z
LAST-MODIFIED:20240314T164923Z
UID:10000474-1711704600-1711708200@pg-noerdlingen.de
SUMMARY:Kinderkreuzweg
DESCRIPTION:Der Kreuzweg für Kinder am Karfreitag findet um 9.30 Uhr in St. Josef statt
URL:https://pg-noerdlingen.de/veranstaltung/kinderkreuzweg/
LOCATION:Pfarrkirche St. Josef\, Kerschensteinerstraße 2\, Nördlingen\, 86720
END:VEVENT
BEGIN:VEVENT
DTSTART;TZID=Europe/Berlin:20240329T110000
DTEND;TZID=Europe/Berlin:20240329T120000
DTSTAMP:20260420T083949
CREATED:20240314T165030Z
LAST-MODIFIED:20240314T165030Z
UID:10000475-1711710000-1711713600@pg-noerdlingen.de
SUMMARY:Kinderkreuzweg
DESCRIPTION:Der Kreuzweg für Kinder am Karfreitag findet um 11.00 Uhr in St. Martin\, Deiningen statt
URL:https://pg-noerdlingen.de/veranstaltung/kinderkreuzweg-2/
LOCATION:Pfarrheim St. Martin\, Deiningen
END:VEVENT
BEGIN:VEVENT
DTSTART;TZID=Europe/Berlin:20240330T170000
DTEND;TZID=Europe/Berlin:20240330T180000
DTSTAMP:20260420T083949
CREATED:20240314T165537Z
LAST-MODIFIED:20240314T165537Z
UID:10000476-1711818000-1711821600@pg-noerdlingen.de
SUMMARY:Auferstehungsfeier für Kinder
DESCRIPTION:Um den Kleinen Ostern besser verständlich zu machen sind alle herzlich eingeladen zur Auferstehungsfeier im Pfarrzentrum von St. Salvator am Karsamstag um 17.00 Uhr
URL:https://pg-noerdlingen.de/veranstaltung/auferstehungsfeier-fuer-kinder/
LOCATION:Pfarrzentrum St. Salvator\, Nördlingen
END:VEVENT
END:VCALENDAR