BEGIN:VCALENDAR
VERSION:2.0
PRODID:-//Katholische Pfarreiengemeinschaft Nördlingen - ECPv6.15.20//NONSGML v1.0//EN
CALSCALE:GREGORIAN
METHOD:PUBLISH
X-ORIGINAL-URL:https://pg-noerdlingen.de
X-WR-CALDESC:Veranstaltungen für Katholische Pfarreiengemeinschaft Nördlingen
REFRESH-INTERVAL;VALUE=DURATION:PT1H
X-Robots-Tag:noindex
X-PUBLISHED-TTL:PT1H
BEGIN:VTIMEZONE
TZID:Europe/Berlin
BEGIN:DAYLIGHT
TZOFFSETFROM:+0100
TZOFFSETTO:+0200
TZNAME:CEST
DTSTART:20230326T010000
END:DAYLIGHT
BEGIN:STANDARD
TZOFFSETFROM:+0200
TZOFFSETTO:+0100
TZNAME:CET
DTSTART:20231029T010000
END:STANDARD
BEGIN:DAYLIGHT
TZOFFSETFROM:+0100
TZOFFSETTO:+0200
TZNAME:CEST
DTSTART:20240331T010000
END:DAYLIGHT
BEGIN:STANDARD
TZOFFSETFROM:+0200
TZOFFSETTO:+0100
TZNAME:CET
DTSTART:20241027T010000
END:STANDARD
BEGIN:DAYLIGHT
TZOFFSETFROM:+0100
TZOFFSETTO:+0200
TZNAME:CEST
DTSTART:20250330T010000
END:DAYLIGHT
BEGIN:STANDARD
TZOFFSETFROM:+0200
TZOFFSETTO:+0100
TZNAME:CET
DTSTART:20251026T010000
END:STANDARD
END:VTIMEZONE
BEGIN:VEVENT
DTSTART;TZID=Europe/Berlin:20240401T190000
DTEND;TZID=Europe/Berlin:20240401T210000
DTSTAMP:20260420T083840
CREATED:20240314T170622Z
LAST-MODIFIED:20240314T170622Z
UID:10000479-1711998000-1712005200@pg-noerdlingen.de
SUMMARY:Osterlobpreis
DESCRIPTION:Am Ostermontag wird in St. Josef ein Osterlobpreis des Vereins „Erneuerung im Glauben“ mit Pfarrer Rainer Herteis sein. Auf dem Programm stehen: Anbetung des Allerheiligsten Sakraments\, Lobpreislieder\, ruhige Anbetungsmusik\, Zeiten der Stille\, freie Danksagung und Fürbitten. Es sind alle herzlich willkommen zu einem Extra Halleluja zur Feier der Auferstehung des Herrn.
URL:https://pg-noerdlingen.de/veranstaltung/osterlobpreis/
LOCATION:Pfarrkirche St. Josef\, Kerschensteinerstraße 2\, Nördlingen\, 86720
END:VEVENT
BEGIN:VEVENT
DTSTART;VALUE=DATE:20240402
DTEND;VALUE=DATE:20240406
DTSTAMP:20260420T083840
CREATED:20240218T171313Z
LAST-MODIFIED:20240218T171313Z
UID:10000451-1712016000-1712361599@pg-noerdlingen.de
SUMMARY:Pfarreifahrt 2024
DESCRIPTION:Fahrt nach Köln und Aachen der Katholischen Pfarreiengemeinschaft Nördlingen vom Dienstag\, 02.04.2024 bis Freitag\, 05.04.2024 \nGeistliche Leitung: Pfarrer Benjamin Beck Reiseleitung: Doris und Paul Ritter \nWeitere Infos und Anmeldung finden Sie hier: Pfarreifahrt 2024
URL:https://pg-noerdlingen.de/veranstaltung/pfarreifahrt-2024/
END:VEVENT
BEGIN:VEVENT
DTSTART;TZID=Europe/Berlin:20240402T140000
DTEND;TZID=Europe/Berlin:20240402T170000
DTSTAMP:20260420T083840
CREATED:20240307T150917Z
LAST-MODIFIED:20240307T150917Z
UID:10000463-1712066400-1712077200@pg-noerdlingen.de
SUMMARY:Senioren Vital - Ostern in Uganda
DESCRIPTION:Kaplan Jerome erzählt von seiner Heimat \n 
URL:https://pg-noerdlingen.de/veranstaltung/senioren-vital-ostern-in-uganda/
LOCATION:Pfarrzentrum St. Salvator\, Nördlingen
END:VEVENT
BEGIN:VEVENT
DTSTART;TZID=Europe/Berlin:20240413T103000
DTEND;TZID=Europe/Berlin:20240413T120000
DTSTAMP:20260420T083840
CREATED:20230918T092101Z
LAST-MODIFIED:20230918T092101Z
UID:10000406-1713004200-1713009600@pg-noerdlingen.de
SUMMARY:Erstkommunion 2024 in St. Josef
DESCRIPTION:Feier der Heiligen Erstkommunion 2024 in St. Josef \nBeginn: 10.30 Uhr \n 
URL:https://pg-noerdlingen.de/veranstaltung/erstkommunion-2024-in-st-josef/
LOCATION:Pfarrkirche St. Josef\, Kerschensteinerstraße 2\, Nördlingen\, 86720
END:VEVENT
BEGIN:VEVENT
DTSTART;TZID=Europe/Berlin:20240414T103000
DTEND;TZID=Europe/Berlin:20240414T120000
DTSTAMP:20260420T083840
CREATED:20230918T092146Z
LAST-MODIFIED:20230918T092146Z
UID:10000407-1713090600-1713096000@pg-noerdlingen.de
SUMMARY:Erstkommunion 2024 in St. Salvator
DESCRIPTION:Feier der Heiligen Erstkommunion 2024 in St. Salvator \nBeginn: 10.30 Uhr \n 
URL:https://pg-noerdlingen.de/veranstaltung/erstkommunion-2024-in-st-salvator/
LOCATION:Pfarrkirche St. Salvator\, Salvatorgässchen 1\, Nördlingen\, 86720
END:VEVENT
BEGIN:VEVENT
DTSTART;TZID=Europe/Berlin:20240418T140000
DTEND;TZID=Europe/Berlin:20240418T170000
DTSTAMP:20260420T083840
CREATED:20240307T144509Z
LAST-MODIFIED:20240307T144509Z
UID:10000456-1713448800-1713459600@pg-noerdlingen.de
SUMMARY:Seniorenkris St. Josef - 60 Jahre Altenwerk
DESCRIPTION:Wir feiern unser Jubiläum – 60 Jahre Altenwerk St. Josef \nmit Musikern der Realschule Maria Stern \nLeitung: Herr Thomas Pichl
URL:https://pg-noerdlingen.de/veranstaltung/seniorenkris-st-josef-60-jahre-altenwerk/
LOCATION:Pfarrheim St. Josef\, Kerschensteinerstr. 2\, Nördlingen\, 86720
END:VEVENT
BEGIN:VEVENT
DTSTART;TZID=Europe/Berlin:20240418T190000
DTEND;TZID=Europe/Berlin:20240418T210000
DTSTAMP:20260420T083840
CREATED:20240415T111540Z
LAST-MODIFIED:20240415T111540Z
UID:10000484-1713466800-1713474000@pg-noerdlingen.de
SUMMARY:Vortrag über den Heiligen Ulrich
DESCRIPTION:Im Jahre 2023 feierte das Bistum Augsburg den hl. Ulrich\, seinen Patron und bedeutendsten Bischof\, der von 923 bis 973 ihre Geschichte leitete. Er sorgte sich nicht nur um Reformen des innerkirchlichen Lebens\, sondern ebenso um die politische Sicherheit in jenen aufgewühlten Zeiten. Das hohe Ansehen\, das er durch Fürsoglichkeit und Volksnähe genoss\, zeigte sich in der kanonischen Heiligsprechung 993 und später in zahlreichen Ulrichskirchen\, Ortsnamen und Wallfahrtsstätten. der Referent\, emeritierter Professor der Hochschule Augsburg\, hat sich bereits mit seiner Dissertation über das auf St. Urlich zurückgehende Kloster St. Ulrich und Afra mit dem Thema vertraut gemacht.\nReferent: Prof. Dr. Wilhelm Liebhart\nLeitung: Dr. Josef Hopfenhzitz
URL:https://pg-noerdlingen.de/veranstaltung/vortrag-ueber-den-heiligen-ulrich/
LOCATION:Pfarrzentrum St. Salvator\, Nördlingen
END:VEVENT
BEGIN:VEVENT
DTSTART;TZID=Europe/Berlin:20240419T193000
DTEND;TZID=Europe/Berlin:20240419T213000
DTSTAMP:20260420T083840
CREATED:20240415T110739Z
LAST-MODIFIED:20240415T110739Z
UID:10000483-1713555000-1713562200@pg-noerdlingen.de
SUMMARY:The Chosen - Watch Party
DESCRIPTION:Die Watch-Party „The Chosen“ geht weiter. Am 19. April um 19.30 Uhr im Pfarrzentrum von St. Josef. Einstieg für neue Fans ist jederzeit möglich. Weitere Termine: 3. und 10. Mai 2024.
URL:https://pg-noerdlingen.de/veranstaltung/the-chosen-watch-party/
LOCATION:Pfarrheim St. Josef\, Kerschensteinerstr. 2\, Nördlingen\, 86720
END:VEVENT
BEGIN:VEVENT
DTSTART;TZID=Europe/Berlin:20240419T200000
DTEND;TZID=Europe/Berlin:20240419T210000
DTSTAMP:20260420T083840
CREATED:20230918T090809Z
LAST-MODIFIED:20230918T090809Z
UID:10000247-1713556800-1713560400@pg-noerdlingen.de
SUMMARY:Taizé-Zeit in St. Josef
DESCRIPTION:Herzliche Einladung zur Taizé-Zeit in der Kapelle von St. Josef. \nBeginn: 20.00 Uhr \nEinen Eindruck finden Sie auch unter dem Reiter Erleben/Taize-Zeit. \n 
URL:https://pg-noerdlingen.de/veranstaltung/taize-zeit-in-st-josef-17/
LOCATION:Pfarrkirche St. Josef\, Kerschensteinerstraße 2\, Nördlingen\, 86720
END:VEVENT
BEGIN:VEVENT
DTSTART;TZID=Europe/Berlin:20240420T103000
DTEND;TZID=Europe/Berlin:20240420T120000
DTSTAMP:20260420T083840
CREATED:20230918T094443Z
LAST-MODIFIED:20230918T094443Z
UID:10000408-1713609000-1713614400@pg-noerdlingen.de
SUMMARY:Erstkommunion 2024 in Kleinerdlingen
DESCRIPTION:Feier der Heiligen Erstkommunion in St. Johannes Baptist Kleinerdlingen. \nBeginn: 10.30 Uhr \n 
URL:https://pg-noerdlingen.de/veranstaltung/erstkommunion-2024-in-kleinerdlingen/
LOCATION:Pfarrkirche St. Joh. Baptist\, Kleinerdlingen\, Erninger Str. 41\, Nördlingen\, 86720
END:VEVENT
BEGIN:VEVENT
DTSTART;TZID=Europe/Berlin:20240420T190000
DTEND;TZID=Europe/Berlin:20240420T200000
DTSTAMP:20260420T083840
CREATED:20240415T101558Z
LAST-MODIFIED:20240415T101558Z
UID:10000480-1713639600-1713643200@pg-noerdlingen.de
SUMMARY:Konzert der Knabenkapelle
DESCRIPTION:Am Samstag\, 20. April 2024 findet um 19.00 Uhr in St. Salvator ein Konzert der Knabenkapelle zum 100-jährigen Bestehen statt.
URL:https://pg-noerdlingen.de/veranstaltung/konzert-der-knabenkapelle/
LOCATION:Pfarrkirche St. Salvator\, Salvatorgässchen 1\, Nördlingen\, 86720
END:VEVENT
BEGIN:VEVENT
DTSTART;TZID=Europe/Berlin:20240421T103000
DTEND;TZID=Europe/Berlin:20240421T113000
DTSTAMP:20260420T083840
CREATED:20230918T085641Z
LAST-MODIFIED:20240120T153135Z
UID:10000398-1713695400-1713699000@pg-noerdlingen.de
SUMMARY:Kinderkirche Nördlingen & Ratsch unterm Baum
DESCRIPTION:Herzliche Einladung zur Kinderkirche! \nBeginn um 10.30 Uhr in der Kirche\, dann Gang ins Pfarrzentrum. \nDaneben findet jeden Sonntag eine Kinderkirche bzw. ein Angebot für Kinder statt. \n 
URL:https://pg-noerdlingen.de/veranstaltung/kinderkirche-noerdlingen-11/
LOCATION:Pfarrkirche St. Salvator\, Salvatorgässchen 1\, Nördlingen\, 86720
END:VEVENT
BEGIN:VEVENT
DTSTART;TZID=Europe/Berlin:20240421T103000
DTEND;TZID=Europe/Berlin:20240421T120000
DTSTAMP:20260420T083840
CREATED:20230918T094527Z
LAST-MODIFIED:20230918T094527Z
UID:10000409-1713695400-1713700800@pg-noerdlingen.de
SUMMARY:Erstkommunion 2024 in Deiningen
DESCRIPTION:Feier der Heiligen Erstkommunion in St. Martin Deiningen. \nBeginn: 10.30 Uhr \n 
URL:https://pg-noerdlingen.de/veranstaltung/erstkommunion-2024-in-deiningen/
LOCATION:Pfarrkirche St. Martin
END:VEVENT
BEGIN:VEVENT
DTSTART;TZID=Europe/Berlin:20240424T193000
DTEND;TZID=Europe/Berlin:20240424T213000
DTSTAMP:20260420T083840
CREATED:20240415T103353Z
LAST-MODIFIED:20240415T103353Z
UID:10000482-1713987000-1713994200@pg-noerdlingen.de
SUMMARY:Vortrag über Pfarrer Wildegger
DESCRIPTION:In seiner 38-jährigen Amtszeit schuf Stadtpfarrer Michael Wildegger für Nördlingen Bleibendes in kirchlicher und sozialer Hinsicht. Die Gründung der Niederlassung der Franziskanerinnen von Maria Stern sowie der Aufbau des Vereins für ambulante Krankenpflege sind bis heute sichtbar und eng mit seinem Namen verbunden. Neben seiner langjährigen Tätigkeit als Landtags- und Reichstagsabgeordneter prägten sein seelsorgerisches Wirken ebenso die Sanierung des Gotteshaues St. Salvator\, der Ausbau der katholischen Volksschule und die Gründung verschiedener katholischer Vereine. Aber auch das Bestreben\, ein katholisches Waisenhaus zu errichten sowie die Einfühung von Bittgängen und der ersten öffentlichen Fronleichnamsprozession in der protestantisch geprägten Stadt kennzeichnen sein herausragendes Wirken. Referent: Xaver Hönle\, Eintritt frei\, Spenden erbeten.
URL:https://pg-noerdlingen.de/veranstaltung/vortrag-ueber-pfarrer-wildegger/
LOCATION:Pfarrzentrum St. Salvator\, Nördlingen
END:VEVENT
BEGIN:VEVENT
DTSTART;TZID=Europe/Berlin:20240427T103000
DTEND;TZID=Europe/Berlin:20240427T120000
DTSTAMP:20260420T083840
CREATED:20230918T094621Z
LAST-MODIFIED:20230918T094621Z
UID:10000410-1714213800-1714219200@pg-noerdlingen.de
SUMMARY:Erstkommunion 2024 in Löpsingen
DESCRIPTION:Feier der Heiligen Erstkommunion in St. Pius Löpsingen. \nBeginn: 10.30 Uhr \n 
URL:https://pg-noerdlingen.de/veranstaltung/erstkommunion-2024-in-loepsingen/
LOCATION:St. Pius\, Löpsingen\, Vordere Angerstr. 1\, Nördlingen\, 86720
END:VEVENT
BEGIN:VEVENT
DTSTART;TZID=Europe/Berlin:20240428T103000
DTEND;TZID=Europe/Berlin:20240428T120000
DTSTAMP:20260420T083840
CREATED:20230918T094704Z
LAST-MODIFIED:20230918T094704Z
UID:10000411-1714300200-1714305600@pg-noerdlingen.de
SUMMARY:Erstkommunion 2024 in Fessenheim
DESCRIPTION:Feier der Heiligen Erstkommunion in Christkönig Fessenheim. \nBeginn: 10.30 Uhr \n 
URL:https://pg-noerdlingen.de/veranstaltung/erstkommunion-2024-in-fessenheim/
LOCATION:Christkönig Fessenheim\, Raiffeisenstraße 2\, Wechingen\, 86759\, Deutschland
END:VEVENT
BEGIN:VEVENT
DTSTART;TZID=Europe/Berlin:20240428T190000
DTEND;TZID=Europe/Berlin:20240428T200000
DTSTAMP:20260420T083840
CREATED:20240415T102145Z
LAST-MODIFIED:20240415T102145Z
UID:10000481-1714330800-1714334400@pg-noerdlingen.de
SUMMARY:Konzert in Deiningen
DESCRIPTION:Zu einem besonderen (Mitsing-)Konzert lädt das Ensemble „S´Chörle“ und die Pfarrei St. Martin\, Deiningen am Sonntag\, 28. April 2024 recht herzlich ein. Beginn ist um 19.00 Uhr in der St. Martinskirche. „S´Chörle“ ist ein Ensemble aus erfahrenen Musikern\, die in der christlichen Popularmusik zu Hause sind. Ihre Lieder aus Pop\, Gospel und Spirituals laden zum Zuhören\, Genießen und Mitmachen ein. Der Eintritt ist frei. Über Ihr kommen freut sich „S´Chörle“ und die Pfarrei St. Martin.
URL:https://pg-noerdlingen.de/veranstaltung/konzert-in-deiningen/
LOCATION:Pfarrkirche St. Martin
END:VEVENT
END:VCALENDAR