BEGIN:VCALENDAR
VERSION:2.0
PRODID:-//Katholische Pfarreiengemeinschaft Nördlingen - ECPv6.15.20//NONSGML v1.0//EN
CALSCALE:GREGORIAN
METHOD:PUBLISH
X-WR-CALNAME:Katholische Pfarreiengemeinschaft Nördlingen
X-ORIGINAL-URL:https://pg-noerdlingen.de
X-WR-CALDESC:Veranstaltungen für Katholische Pfarreiengemeinschaft Nördlingen
REFRESH-INTERVAL;VALUE=DURATION:PT1H
X-Robots-Tag:noindex
X-PUBLISHED-TTL:PT1H
BEGIN:VTIMEZONE
TZID:Europe/Berlin
BEGIN:DAYLIGHT
TZOFFSETFROM:+0100
TZOFFSETTO:+0200
TZNAME:CEST
DTSTART:20230326T010000
END:DAYLIGHT
BEGIN:STANDARD
TZOFFSETFROM:+0200
TZOFFSETTO:+0100
TZNAME:CET
DTSTART:20231029T010000
END:STANDARD
BEGIN:DAYLIGHT
TZOFFSETFROM:+0100
TZOFFSETTO:+0200
TZNAME:CEST
DTSTART:20240331T010000
END:DAYLIGHT
BEGIN:STANDARD
TZOFFSETFROM:+0200
TZOFFSETTO:+0100
TZNAME:CET
DTSTART:20241027T010000
END:STANDARD
BEGIN:DAYLIGHT
TZOFFSETFROM:+0100
TZOFFSETTO:+0200
TZNAME:CEST
DTSTART:20250330T010000
END:DAYLIGHT
BEGIN:STANDARD
TZOFFSETFROM:+0200
TZOFFSETTO:+0100
TZNAME:CET
DTSTART:20251026T010000
END:STANDARD
END:VTIMEZONE
BEGIN:VEVENT
DTSTART;TZID=Europe/Berlin:20240604T140000
DTEND;TZID=Europe/Berlin:20240604T170000
DTSTAMP:20260420T101724
CREATED:20240307T152109Z
LAST-MODIFIED:20240307T154918Z
UID:10000465-1717509600-1717520400@pg-noerdlingen.de
SUMMARY:Senioren Vital - Gymnastik
DESCRIPTION:Gymnastik mit Gerda Abele
URL:https://pg-noerdlingen.de/veranstaltung/senioren-vital-gymnastik/
LOCATION:Pfarrzentrum St. Salvator\, Nördlingen
END:VEVENT
BEGIN:VEVENT
DTSTART;TZID=Europe/Berlin:20240607T180000
DTEND;TZID=Europe/Berlin:20240607T233000
DTSTAMP:20260420T101724
CREATED:20240524T105048Z
LAST-MODIFIED:20240524T105109Z
UID:10000498-1717783200-1717803000@pg-noerdlingen.de
SUMMARY:Herz-Jesu-Freitag
DESCRIPTION:Am Freitag\, 7. Juni 2024 findet um 18.00 Uhr in St. Josef eine Heilige Messe zum Herz-Jesu-Freitag statt. Anschließend wird eine kurze Eucharistische Anbetung in der Kirche sein\, danach ist in der Kapelle von St. Josef ab 20.00 UIhr bis Samstag 07.00 Uhr Nachtanbetung.
URL:https://pg-noerdlingen.de/veranstaltung/herz-jesu-freitag-10/
LOCATION:Pfarrkirche St. Josef\, Kerschensteinerstraße 2\, Nördlingen\, 86720
END:VEVENT
BEGIN:VEVENT
DTSTART;TZID=Europe/Berlin:20240608T110000
DTEND;TZID=Europe/Berlin:20240608T123000
DTSTAMP:20260420T101724
CREATED:20240524T105200Z
LAST-MODIFIED:20240524T105200Z
UID:10000497-1717844400-1717849800@pg-noerdlingen.de
SUMMARY:Rosetti-Festtage im Ries
DESCRIPTION:Am Samstag\, 8. Juni 2024 findet im Rahmen der Rosetti-Festtage um 11.00 Uhr eine Führung durch die Kirche St. Salvator und das ehemalige Karmelitenkloster statt. \nReferenten des Vortrags und Führung sind Herr Xaxer Hönle und Herr Dr. Wilfried Sponsel. Eintritt: 8\,- €. \nAnmeldungen bitte bei Reinhold Seefried\, Telefon: 0171/5544607. \nIm Anschluss spielt Klaus Ortler an der Orgel Werke von Rosetti\, Mozart\, Haydn u.a. \nKonzert ab ca. 11.30 Uhr für alle offen\, die in die Kirche kommen.
URL:https://pg-noerdlingen.de/veranstaltung/rosetti-festtage-im-ries-2/
LOCATION:Pfarrkirche St. Salvator\, Salvatorgässchen 1\, Nördlingen\, 86720
END:VEVENT
BEGIN:VEVENT
DTSTART;TZID=Europe/Berlin:20240609T103000
DTEND;TZID=Europe/Berlin:20240609T110000
DTSTAMP:20260420T101724
CREATED:20240524T105444Z
LAST-MODIFIED:20240524T105709Z
UID:10000499-1717929000-1717930800@pg-noerdlingen.de
SUMMARY:Kirchenmusik
DESCRIPTION:Am Sonntag\, 9. Juni 2024 wird der Gottesdienst in St. Salvator von einem Neuseeländischen Männerchor gestaltet. Der NZ Male Choir besteht aus 30 Sänger\, welche sowohl von der Süd- als auch der Nordinsel Neuseelands kommen. für den Gottesdienst in St. Salvator hat der Chorleiter Joe Christensen ein Agnus Dei und ein Benedictus von Robat Arwyn\, ein Festival Sanctus von John Leavitt\, The Lord´s Prayer von Albert Malotte undd ein Ave Maria von Josef Rheinberger ausgewählt. \nHerzliche Einladung!
URL:https://pg-noerdlingen.de/veranstaltung/kirchenmusik/
LOCATION:Pfarrkirche St. Salvator\, Salvatorgässchen 1\, Nördlingen\, 86720
END:VEVENT
BEGIN:VEVENT
DTSTART;TZID=Europe/Berlin:20240609T103000
DTEND;TZID=Europe/Berlin:20240609T113000
DTSTAMP:20260420T101724
CREATED:20230918T085801Z
LAST-MODIFIED:20240528T081459Z
UID:10000400-1717929000-1717932600@pg-noerdlingen.de
SUMMARY:Kinderkirche Nördlingen
DESCRIPTION:Herzliche Einladung zur Kinderkirche! \nBeginn um 10.30 Uhr in der Kirche\, dann Gang ins Pfarrzentrum. \nDaneben findet jeden Sonntag eine Kinderkirche bzw. ein Angebot für Kinder statt. \n 
URL:https://pg-noerdlingen.de/veranstaltung/kinderkirche-noerdlingen-13/
LOCATION:Pfarrkirche St. Salvator\, Salvatorgässchen 1\, Nördlingen\, 86720
END:VEVENT
BEGIN:VEVENT
DTSTART;TZID=Europe/Berlin:20240613T143000
DTEND;TZID=Europe/Berlin:20240613T170000
DTSTAMP:20260420T101724
CREATED:20240307T144819Z
LAST-MODIFIED:20240307T144912Z
UID:10000458-1718289000-1718298000@pg-noerdlingen.de
SUMMARY:Altenwerk St. Josef - Das Gebet Jesu Teil 2
DESCRIPTION:Herr Pfarrer Dr. Gerhard Riese bespricht noch einmal das „Vater unser“
URL:https://pg-noerdlingen.de/veranstaltung/altenwerk-st-josef-das-gebet-jesu-teil-2/
LOCATION:Pfarrheim St. Josef\, Kerschensteinerstr. 2\, Nördlingen\, 86720
END:VEVENT
BEGIN:VEVENT
DTSTART;TZID=Europe/Berlin:20240621T200000
DTEND;TZID=Europe/Berlin:20240621T210000
DTSTAMP:20260420T101724
CREATED:20230918T090922Z
LAST-MODIFIED:20240528T081415Z
UID:10000257-1719000000-1719003600@pg-noerdlingen.de
SUMMARY:Taizé-Zeit in St. Josef
DESCRIPTION:Herzliche Einladung zur Taizé-Zeit in der Kapelle von St. Josef. \nBeginn: 20.00 Uhr \nEinen Eindruck finden Sie auch unter dem Reiter Erleben/Taize-Zeit. \n 
URL:https://pg-noerdlingen.de/veranstaltung/taize-zeit-in-st-josef-19/
LOCATION:Pfarrkirche St. Josef\, Kerschensteinerstraße 2\, Nördlingen\, 86720
END:VEVENT
BEGIN:VEVENT
DTSTART;TZID=Europe/Berlin:20240623T103000
DTEND;TZID=Europe/Berlin:20240623T120000
DTSTAMP:20260420T101724
CREATED:20230918T094908Z
LAST-MODIFIED:20230918T094908Z
UID:10000412-1719138600-1719144000@pg-noerdlingen.de
SUMMARY:Firmung 2024 in der PG Nördlingen
DESCRIPTION:Feier der Heiligen Firmung in der Pfarreiengemeinschaft Nördlingen. \nBeginn: 10.30 Uhr in St. Salvator
URL:https://pg-noerdlingen.de/veranstaltung/firmung-2024-in-der-pg-noerdlingen/
LOCATION:Pfarrkirche St. Salvator\, Salvatorgässchen 1\, Nördlingen\, 86720
END:VEVENT
END:VCALENDAR